BEGIN:VCALENDAR
VERSION:2.0
PRODID:-//TJ Nivnice75901//NONSGML kigkonsult.se iCalcreator 2.41.80//
CALSCALE:GREGORIAN
UID:32306265-6532-4566-a434-353061633166
BEGIN:VEVENT
UID:64343937-3665-4663-b933-393334646438
DTSTAMP:20260421T124311Z
DESCRIPTION:2/5 Nivnice - VK NAPAJEDLA 0:2 (-22\,-15)
DTSTART;TZID=Europe/Berlin:20210912T100000
DTEND;TZID=Europe/Berlin:20210912T120000
LOCATION:Sportovní hala Nivnice\, Podohradí 888 Nivnice
SUMMARY:PZLK-ZKY-A: Nivnice-VK NAPAJEDLA
END:VEVENT
BEGIN:VEVENT
UID:64313333-6338-4636-a431-633766323535
DTSTAMP:20260421T124311Z
DESCRIPTION:3/7 Nivnice - VK AUSTIN Vsetín 2:0 (18\,21)
DTSTART;TZID=Europe/Berlin:20210912T110000
DTEND;TZID=Europe/Berlin:20210912T130000
LOCATION:Sportovní hala Nivnice\, Podohradí 888 Nivnice
SUMMARY:PZLK-ZKY-A: Nivnice-VK AUSTIN Vsetín
END:VEVENT
BEGIN:VEVENT
UID:31356435-3731-4331-b939-373631313631
DTSTAMP:20260421T124311Z
DESCRIPTION:5/15 Nivnice - Slavia UH 1:2 (-22\,20\,-10)
DTSTART;TZID=Europe/Berlin:20210912T130000
DTEND;TZID=Europe/Berlin:20210912T150000
LOCATION:Sportovní hala Nivnice\, Podohradí 888 Nivnice
SUMMARY:PZLK-ZKY-A: Nivnice-Slavia UH
END:VEVENT
BEGIN:VEVENT
UID:30666263-3039-4037-b039-386565643036
DTSTAMP:20260421T124311Z
DESCRIPTION:1/3 TJ Uherský Brod - Nivnice 0:2 (-12\,-19)
DTSTART;TZID=Europe/Berlin:20210912T090000
DTEND;TZID=Europe/Berlin:20210912T110000
LOCATION:TJ SPARTAK UHERSKÝ BROD z.s.\, U Stadionu 2295 Uherský Brod
SUMMARY:PZLK-ZKY-A: TJ Uherský Brod-Nivnice
END:VEVENT
BEGIN:VEVENT
UID:31323063-3332-4664-a162-373666386662
DTSTAMP:20260421T124311Z
DESCRIPTION:4/11 KŠ Traplice - Nivnice 0:2 (-0\,-0)
DTSTART;TZID=Europe/Berlin:20210912T120000
DTEND;TZID=Europe/Berlin:20210912T140000
LOCATION:Tělocvična\,  Traplice375
SUMMARY:PZLK-ZKY-A: KŠ Traplice-Nivnice
END:VEVENT
BEGIN:VEVENT
UID:36306164-3136-4266-b339-376536396333
DTSTAMP:20260421T124311Z
DESCRIPTION:1/1 VK Valašské Meziříčí - Nivnice 0:2 (-19\,-16)
DTSTART;TZID=Europe/Berlin:20211024T090000
DTEND;TZID=Europe/Berlin:20211024T110000
LOCATION:ZŠ Šafaříkova\, Šafaříkova 726 Valašské Meziříčí
SUMMARY:ZLK-ZKY-1B: VK Valašské Meziříčí-Nivnice
END:VEVENT
BEGIN:VEVENT
UID:63393164-3732-4333-b261-383362326239
DTSTAMP:20260421T124311Z
DESCRIPTION:2/4 Slavia UH - Nivnice 1:2 (-19\,18\,-17)
DTSTART;TZID=Europe/Berlin:20211024T100000
DTEND;TZID=Europe/Berlin:20211024T120000
LOCATION:Městská sportovní hala\, Stonky 860 Uherské Hradiště
SUMMARY:ZLK-ZKY-1B: Slavia UH-Nivnice
END:VEVENT
BEGIN:VEVENT
UID:66616239-6466-4434-a561-363634613730
DTSTAMP:20260421T124311Z
DESCRIPTION:3/6 TJ Sokol Střítež - Nivnice 0:2 (-0\,-0)
DTSTART;TZID=Europe/Berlin:20211024T110000
DTEND;TZID=Europe/Berlin:20211024T130000
LOCATION:Sokolovna\,  Střítež nad Bečvou1
SUMMARY:ZLK-ZKY-1B: TJ Sokol Střítež-Nivnice
END:VEVENT
BEGIN:VEVENT
UID:62646539-3038-4630-b436-303333313066
DTSTAMP:20260421T124311Z
DESCRIPTION:1/2 Nivnice - VK NAPAJEDLA 0:2 (-0\,-0)
DTSTART;TZID=Europe/Berlin:20220403T090000
DTEND;TZID=Europe/Berlin:20220403T110000
LOCATION:Sportovní hala Nivnice\, Podohradí 888 Nivnice
SUMMARY:PZLK-ZKY-1: Nivnice-VK NAPAJEDLA
END:VEVENT
BEGIN:VEVENT
UID:62363335-3438-4637-b132-396464346335
DTSTAMP:20260421T124311Z
DESCRIPTION:4/12 Nivnice - VK Valašské Meziříčí 0:2 (-0\,-0)
DTSTART;TZID=Europe/Berlin:20220403T120000
DTEND;TZID=Europe/Berlin:20220403T140000
LOCATION:Sportovní hala Nivnice\, Podohradí 888 Nivnice
SUMMARY:PZLK-ZKY-1: Nivnice-VK Valašské Meziříčí
END:VEVENT
BEGIN:VEVENT
UID:35636632-6331-4264-a532-646666353361
DTSTAMP:20260421T124311Z
DESCRIPTION:2/4 VC Kroměříž  A - Nivnice 2:0 (0\,0)
DTSTART;TZID=Europe/Berlin:20220403T100000
DTEND;TZID=Europe/Berlin:20220403T120000
LOCATION:ZŠ Slovan B\, Zeyerova 3354 Kroměříž
SUMMARY:PZLK-ZKY-1: VC Kroměříž  A-Nivnice
END:VEVENT
BEGIN:VEVENT
UID:66613839-3538-4165-a638-666532363630
DTSTAMP:20260421T124311Z
DESCRIPTION:3/8 Zlín - Nivnice 2:0 (0\,0)
DTSTART;TZID=Europe/Berlin:20220403T110000
DTEND;TZID=Europe/Berlin:20220403T130000
LOCATION:ZŠ Okružní Zlín\, Okružní 4685 Zlín
SUMMARY:PZLK-ZKY-1: Zlín-Nivnice
END:VEVENT
BEGIN:VEVENT
UID:63666439-3131-4430-b032-616231643963
DTSTAMP:20260421T124311Z
DESCRIPTION:5/15 VK AUSTIN Vsetín - Nivnice 2:0 (0\,0)
DTSTART;TZID=Europe/Berlin:20220403T130000
DTEND;TZID=Europe/Berlin:20220403T150000
LOCATION:Sportovní hala Na Lapači\, Na Lapači 247 Vsetín - Rokytnice
SUMMARY:PZLK-ZKY-1: VK AUSTIN Vsetín-Nivnice
END:VEVENT
BEGIN:VEVENT
UID:36333765-3830-4561-a338-306637663236
DTSTAMP:20260421T124311Z
DESCRIPTION:1/1 Zlín - Nivnice 2:1 (12\,-16\,5)
DTSTART;TZID=Europe/Berlin:20211114T090000
DTEND;TZID=Europe/Berlin:20211114T110000
LOCATION:ZŠ Okružní Zlín\, Okružní 4685 Zlín
SUMMARY:ZLK-ZKY-2A: Zlín-Nivnice
END:VEVENT
BEGIN:VEVENT
UID:66326366-3134-4863-a265-323734623261
DTSTAMP:20260421T124311Z
DESCRIPTION:2/4 VC Kroměříž  A - Nivnice 2:1 (11\,-22\,7)
DTSTART;TZID=Europe/Berlin:20211114T100000
DTEND;TZID=Europe/Berlin:20211114T120000
LOCATION:ZŠ Slovan B\, Zeyerova 3354 Kroměříž
SUMMARY:ZLK-ZKY-2A: VC Kroměříž  A-Nivnice
END:VEVENT
BEGIN:VEVENT
UID:62376634-6134-4532-a364-363435333263
DTSTAMP:20260421T124311Z
DESCRIPTION:3/6 VK NAPAJEDLA - Nivnice 1:2 (-16\,10\,-10)
DTSTART;TZID=Europe/Berlin:20211114T110000
DTEND;TZID=Europe/Berlin:20211114T130000
LOCATION:2.ZŠ Napajedla\, Komenského 298 Napajedla
SUMMARY:ZLK-ZKY-2A: VK NAPAJEDLA-Nivnice
END:VEVENT
BEGIN:VEVENT
UID:62386264-6133-4630-b763-316130333463
DTSTAMP:20260421T124311Z
DESCRIPTION:3/6 Nivnice - Slavia UH 0:2 (-23\,-22)
DTSTART;TZID=Europe/Berlin:20211219T110000
DTEND;TZID=Europe/Berlin:20211219T130000
LOCATION:Sportovní hala Nivnice\, Podohradí 888 Nivnice
SUMMARY:ZLK-ZKY-3A: Nivnice-Slavia UH
END:VEVENT
BEGIN:VEVENT
UID:62646331-3161-4534-b234-323037336631
DTSTAMP:20260421T124311Z
DESCRIPTION:1/2 VC Kroměříž  A - Nivnice 2:0 (17\,15)
DTSTART;TZID=Europe/Berlin:20211219T090000
DTEND;TZID=Europe/Berlin:20211219T110000
LOCATION:ZŠ Slovan B\, Zeyerova 3354 Kroměříž
SUMMARY:ZLK-ZKY-3A: VC Kroměříž  A-Nivnice
END:VEVENT
BEGIN:VEVENT
UID:38386133-3832-4532-a635-616638323961
DTSTAMP:20260421T124311Z
DESCRIPTION:2/3 Zlín - Nivnice 2:1 (-21\,18\,12)
DTSTART;TZID=Europe/Berlin:20211219T100000
DTEND;TZID=Europe/Berlin:20211219T120000
LOCATION:ZŠ Okružní Zlín\, Okružní 4685 Zlín
SUMMARY:ZLK-ZKY-3A: Zlín-Nivnice
END:VEVENT
BEGIN:VEVENT
UID:33373563-6266-4135-a462-383531623533
DTSTAMP:20260421T124311Z
DESCRIPTION:1/1 Nivnice - VC Kroměříž  B 2:0 (14\,22)
DTSTART;TZID=Europe/Berlin:20220116T090000
DTEND;TZID=Europe/Berlin:20220116T110000
LOCATION:Sportovní hala Nivnice\, Podohradí 888 Nivnice
SUMMARY:ZLK-ZKY-4B: Nivnice-VC Kroměříž  B
END:VEVENT
BEGIN:VEVENT
UID:37633864-3061-4362-b762-393864383765
DTSTAMP:20260421T124311Z
DESCRIPTION:2/3 Nivnice - VK NAPAJEDLA 2:1 (8\,-22\,11)
DTSTART;TZID=Europe/Berlin:20220116T100000
DTEND;TZID=Europe/Berlin:20220116T120000
LOCATION:Sportovní hala Nivnice\, Podohradí 888 Nivnice
SUMMARY:ZLK-ZKY-4B: Nivnice-VK NAPAJEDLA
END:VEVENT
BEGIN:VEVENT
UID:65356663-3830-4762-a362-343835653532
DTSTAMP:20260421T124311Z
DESCRIPTION:3/5 Nivnice - VK AUSTIN Vsetín 2:0 (16\,13)
DTSTART;TZID=Europe/Berlin:20220116T110000
DTEND;TZID=Europe/Berlin:20220116T130000
LOCATION:Sportovní hala Nivnice\, Podohradí 888 Nivnice
SUMMARY:ZLK-ZKY-4B: Nivnice-VK AUSTIN Vsetín
END:VEVENT
BEGIN:VEVENT
UID:61386636-6331-4264-b139-653463333565
DTSTAMP:20260421T124311Z
DESCRIPTION:1/1 VC Kroměříž  A - Nivnice 2:0 (24\,9)
DTSTART;TZID=Europe/Berlin:20220227T090000
DTEND;TZID=Europe/Berlin:20220227T110000
LOCATION:ZŠ Slovan B\, Zeyerova 3354 Kroměříž
SUMMARY:ZLK-ZKY-5A: VC Kroměříž  A-Nivnice
END:VEVENT
BEGIN:VEVENT
UID:64356332-3939-4133-b361-366131653832
DTSTAMP:20260421T124311Z
DESCRIPTION:2/4 Zlín - Nivnice 2:0 (8\,10)
DTSTART;TZID=Europe/Berlin:20220227T100000
DTEND;TZID=Europe/Berlin:20220227T120000
LOCATION:ZŠ Okružní Zlín\, Okružní 4685 Zlín
SUMMARY:ZLK-ZKY-5A: Zlín-Nivnice
END:VEVENT
BEGIN:VEVENT
UID:66336161-3134-4431-b631-643638373735
DTSTAMP:20260421T124311Z
DESCRIPTION:3/6 VK Valašské Meziříčí - Nivnice 0:2 (-14\,-11)
DTSTART;TZID=Europe/Berlin:20220227T110000
DTEND;TZID=Europe/Berlin:20220227T130000
LOCATION:ZŠ Šafaříkova\, Šafaříkova 726 Valašské Meziříčí
SUMMARY:ZLK-ZKY-5A: VK Valašské Meziříčí-Nivnice
END:VEVENT
BEGIN:VEVENT
UID:36323062-3931-4666-a434-616130313061
DTSTAMP:20260421T124311Z
DESCRIPTION:3/6 Nivnice - VK NAPAJEDLA 2:0 (12\,16)
DTSTART;TZID=Europe/Berlin:20220313T110000
DTEND;TZID=Europe/Berlin:20220313T130000
LOCATION:Sportovní hala Nivnice\, Podohradí 888 Nivnice
SUMMARY:ZLK-ZKY-6A: Nivnice-VK NAPAJEDLA
END:VEVENT
BEGIN:VEVENT
UID:63363938-3135-4063-b833-633066613235
DTSTAMP:20260421T124311Z
DESCRIPTION:1/2 VC Kroměříž  A - Nivnice 2:0 (9\,25)
DTSTART;TZID=Europe/Berlin:20220313T090000
DTEND;TZID=Europe/Berlin:20220313T110000
LOCATION:ZŠ Slovan B\, Zeyerova 3354 Kroměříž
SUMMARY:ZLK-ZKY-6A: VC Kroměříž  A-Nivnice
END:VEVENT
BEGIN:VEVENT
UID:39313437-3438-4565-b438-303336613636
DTSTAMP:20260421T124311Z
DESCRIPTION:2/3 Zlín - Nivnice 2:0 (8\,7)
DTSTART;TZID=Europe/Berlin:20220313T100000
DTEND;TZID=Europe/Berlin:20220313T120000
LOCATION:ZŠ Okružní Zlín\, Okružní 4685 Zlín
SUMMARY:ZLK-ZKY-6A: Zlín-Nivnice
END:VEVENT
BEGIN:VEVENT
UID:62303339-3837-4139-b764-326565356337
DTSTAMP:20260421T124311Z
DESCRIPTION:5/13 Nivnice - Přerov 0:2 (-11\,-6)
DTSTART;TZID=Europe/Berlin:20220430T162000
DTEND;TZID=Europe/Berlin:20220430T182000
LOCATION:Sportovní Hala Mír\, U Stadionu Míru 1579 Tábor
SUMMARY:MCR-ZKY-C: Nivnice-Přerov
END:VEVENT
BEGIN:VEVENT
UID:65396434-3132-4432-b331-356338303666
DTSTAMP:20260421T124311Z
DESCRIPTION:6/15 Nivnice - Tábor 0:2 (-7\,-7)
DTSTART;TZID=Europe/Berlin:20220430T174000
DTEND;TZID=Europe/Berlin:20220430T194000
LOCATION:Sportovní Hala Mír\, U Stadionu Míru 1579 Tábor
SUMMARY:MCR-ZKY-C: Nivnice-Tábor
END:VEVENT
BEGIN:VEVENT
UID:36316137-6436-4036-b061-383130383331
DTSTAMP:20260421T124311Z
DESCRIPTION:7/17 Nivnice - Kometa 0:2 (-6\,-8)
DTSTART;TZID=Europe/Berlin:20220501T100000
DTEND;TZID=Europe/Berlin:20220501T120000
LOCATION:Sportovní Hala Mír\, U Stadionu Míru 1579 Tábor
SUMMARY:MCR-ZKY-C: Nivnice-Kometa
END:VEVENT
BEGIN:VEVENT
UID:36386136-3432-4236-a563-343036343637
DTSTAMP:20260421T124311Z
DESCRIPTION:2/4 Břeclav - Nivnice 2:0 (12\,16)
DTSTART;TZID=Europe/Berlin:20220430T122000
DTEND;TZID=Europe/Berlin:20220430T142000
LOCATION:Sportovní Hala Mír\, U Stadionu Míru 1579 Tábor
SUMMARY:MCR-ZKY-C: Břeclav-Nivnice
END:VEVENT
BEGIN:VEVENT
UID:39343663-3666-4164-a430-313265613465
DTSTAMP:20260421T124311Z
DESCRIPTION:3/7 Roztoky - Nivnice 2:0 (10\,18)
DTSTART;TZID=Europe/Berlin:20220430T134000
DTEND;TZID=Europe/Berlin:20220430T154000
LOCATION:Sportovní Hala Mír\, U Stadionu Míru 1579 Tábor
SUMMARY:MCR-ZKY-C: Roztoky-Nivnice
END:VEVENT
BEGIN:VEVENT
UID:30643137-3235-4333-b737-653361656662
DTSTAMP:20260421T124311Z
DESCRIPTION:9/23 Frýdek-Místek - Nivnice 2:0 (10\,10)
DTSTART;TZID=Europe/Berlin:20220501T124000
DTEND;TZID=Europe/Berlin:20220501T144000
LOCATION:Sportovní Hala Mír\, U Stadionu Míru 1579 Tábor
SUMMARY:MCR-ZKY-C: Frýdek-Místek-Nivnice
END:VEVENT
BEGIN:VEVENT
UID:38396536-6131-4635-a561-613035643864
DTSTAMP:20260421T124311Z
DESCRIPTION:10/28 Jirkov - Nivnice 2:0 (10\,17)
DTSTART;TZID=Europe/Berlin:20220501T140000
DTEND;TZID=Europe/Berlin:20220501T160000
LOCATION:Sportovní Hala Mír\, U Stadionu Míru 1579 Tábor
SUMMARY:MCR-ZKY-C: Jirkov-Nivnice
END:VEVENT
END:VCALENDAR
