BEGIN:VCALENDAR
VERSION:2.0
PRODID:-//TJ Sokol Mnichovo Hradiště75908//NONSGML kigkonsult.se iCalcreator 2.41.80//
CALSCALE:GREGORIAN
UID:32393565-3238-4162-a235-613133386634
BEGIN:VEVENT
UID:64373239-3332-4231-b563-613538313966
DTSTAMP:20260422T001359Z
DESCRIPTION:6/6 Mnichovo Hradiště - Kralupy
DTSTART;TZID=Europe/Berlin:20211009T163000
DTEND;TZID=Europe/Berlin:20211009T183000
LOCATION:Sportovní hala BIOS\, Sokolovská 254 Mnichovo Hradiště
SUMMARY:CP-ZCI-Z1F: Mnichovo Hradiště-Kralupy
END:VEVENT
BEGIN:VEVENT
UID:34333262-3331-4232-b236-396436323133
DTSTAMP:20260422T001359Z
DESCRIPTION:2/2 Hradec Králové - Mnichovo Hradiště 2:0 (21\,19)
DTSTART;TZID=Europe/Berlin:20211009T123000
DTEND;TZID=Europe/Berlin:20211009T143000
LOCATION:TJ Slavia Hradec Králové\, Víta Nejedlého 1216 Hradec Králové
SUMMARY:CP-ZCI-Z1F: Hradec Králové-Mnichovo Hradiště
END:VEVENT
BEGIN:VEVENT
UID:35393162-3161-4130-a663-343763303763
DTSTAMP:20260422T001359Z
DESCRIPTION:3/3 VK Dukla Liberec - Mnichovo Hradiště 0:2 (-8\,-20)
DTSTART;TZID=Europe/Berlin:20211009T133000
DTEND;TZID=Europe/Berlin:20211009T153000
LOCATION:Dukla Liberec\, Jeronýmova 558 Liberec - Liberec VII-Horní Růžodol
SUMMARY:CP-ZCI-Z1F: VK Dukla Liberec-Mnichovo Hradiště
END:VEVENT
BEGIN:VEVENT
UID:39323061-6135-4831-a239-313938313939
DTSTAMP:20260422T001359Z
DESCRIPTION:1/3 Mnichovo Hradiště - Tělovýchovná jednota Jiskra Nový Bor\, 
 z.s. 2:0 (19\,23)\nSportovní hala Františka Arnošta Nový Bor
DTSTART;TZID=Europe/Berlin:20210926T100000
DTEND;TZID=Europe/Berlin:20210926T120000
LOCATION:Sportovní hala Františka Arnošta Nový Bor\, U hřiště 1391 Nový Bor
SUMMARY:LIB-ZCI-K: Mnichovo Hradiště-Tělovýchovná jednota Jiskra Nový Bor\,
  z.s.
END:VEVENT
BEGIN:VEVENT
UID:65656337-3733-4135-b435-373430623236
DTSTAMP:20260422T001359Z
DESCRIPTION:1/5 Mnichovo Hradiště - VK Dukla Liberec 0:2 (-22\,-23)\nSporto
 vní hala Františka Arnošta Nový Bor
DTSTART;TZID=Europe/Berlin:20210926T110000
DTEND;TZID=Europe/Berlin:20210926T130000
LOCATION:Sportovní hala Františka Arnošta Nový Bor\, U hřiště 1391 Nový Bor
SUMMARY:LIB-ZCI-K: Mnichovo Hradiště-VK Dukla Liberec
END:VEVENT
BEGIN:VEVENT
UID:35313537-3733-4662-b265-666630396163
DTSTAMP:20260422T001359Z
DESCRIPTION:2/7 Česká Lípa - Mnichovo Hradiště 2:0 (3\,13)\nSportovní hala 
 Františka Arnošta Nový Bor
DTSTART;TZID=Europe/Berlin:20210926T120000
DTEND;TZID=Europe/Berlin:20210926T140000
LOCATION:Sportovní hala Františka Arnošta Nový Bor\, U hřiště 1391 Nový Bor
SUMMARY:LIB-ZCI-K: Česká Lípa-Mnichovo Hradiště
END:VEVENT
BEGIN:VEVENT
UID:35316462-6535-4561-b565-656237386266
DTSTAMP:20260422T001359Z
DESCRIPTION:2/9 Tělovýchovná jednota SLAVIA Liberec\, z.s. 'A' - Mnichovo H
 radiště 2:0 (18\,15)\nSportovní hala Františka Arnošta Nový Bor
DTSTART;TZID=Europe/Berlin:20210926T130000
DTEND;TZID=Europe/Berlin:20210926T150000
LOCATION:Sportovní hala Františka Arnošta Nový Bor\, U hřiště 1391 Nový Bor
SUMMARY:LIB-ZCI-K: Tělovýchovná jednota SLAVIA Liberec\, z.s. 'A'-Mnichovo 
 Hradiště
END:VEVENT
BEGIN:VEVENT
UID:31663032-6137-4962-a266-626564663532
DTSTAMP:20260422T001359Z
DESCRIPTION:1/1 VK Dukla Liberec - Mnichovo Hradiště 0:2 (-18\,-11)\nSporto
 vní hala BIOS\, Sokolovská 254\, Mnichovo Hradiště
DTSTART;TZID=Europe/Berlin:20211017T090000
DTEND;TZID=Europe/Berlin:20211017T110000
LOCATION:Dukla Liberec\, Jeronýmova 558 Liberec - Liberec VII-Horní Růžodol
SUMMARY:LIB-ZCI-1A: VK Dukla Liberec-Mnichovo Hradiště
END:VEVENT
BEGIN:VEVENT
UID:35303934-6465-4663-b633-393561333733
DTSTAMP:20260422T001359Z
DESCRIPTION:1/4 Tělovýchovná jednota SLAVIA Liberec\, z.s. 'A' - Mnichovo H
 radiště 0:2 (-10\,-18)\nSportovní hala BIOS\, Sokolovská 254\, Mnichovo Hr
 adiště
DTSTART;TZID=Europe/Berlin:20211017T120000
DTEND;TZID=Europe/Berlin:20211017T140000
LOCATION:Základní škola\, Liberec\, Sokolovská \, Sokolovská 328 Liberec - 
 Liberec XIII-Nové Pavlovice
SUMMARY:LIB-ZCI-1A: Tělovýchovná jednota SLAVIA Liberec\, z.s. 'A'-Mnichovo
  Hradiště
END:VEVENT
BEGIN:VEVENT
UID:39326631-6562-4334-b534-626364646233
DTSTAMP:20260422T001359Z
DESCRIPTION:1/5 Česká Lípa - Mnichovo Hradiště 2:0 (18\,13)\nSportovní hala
  BIOS\, Sokolovská 254\, Mnichovo Hradiště
DTSTART;TZID=Europe/Berlin:20211017T130000
DTEND;TZID=Europe/Berlin:20211017T150000
LOCATION:ZŠ Lada\, Šluknovská 2904 Česká Lípa
SUMMARY:LIB-ZCI-1A: Česká Lípa-Mnichovo Hradiště
END:VEVENT
BEGIN:VEVENT
UID:35653065-3139-4230-b533-616639303339
DTSTAMP:20260422T001359Z
DESCRIPTION:1/6 Mnichovo Hradiště - České Budějovice B 0:2 (-16\,-16)\n2F-3
 A
DTSTART;TZID=Europe/Berlin:20211009T173000
DTEND;TZID=Europe/Berlin:20211009T193000
LOCATION:Sportovní hala BIOS\, Sokolovská 254 Mnichovo Hradiště
SUMMARY:CP-ZCI-Z1I: Mnichovo Hradiště-České Budějovice B
END:VEVENT
BEGIN:VEVENT
UID:31623466-3232-4634-a465-396362323464
DTSTAMP:20260422T001359Z
DESCRIPTION:3/3 Mnichovo Hradiště - Orion Praha 2:1 (15\,-21\,13)
DTSTART;TZID=Europe/Berlin:20211010T120000
DTEND;TZID=Europe/Berlin:20211010T140000
LOCATION:Sportovní hala BIOS\, Sokolovská 254 Mnichovo Hradiště
SUMMARY:CP-ZCI-Z1M: Mnichovo Hradiště-Orion Praha
END:VEVENT
BEGIN:VEVENT
UID:35313364-3533-4164-a239-303333323062
DTSTAMP:20260422T001359Z
DESCRIPTION:1/1 Dansport - Mnichovo Hradiště 2:1 (-18\,15\,12)
DTSTART;TZID=Europe/Berlin:20211010T090000
DTEND;TZID=Europe/Berlin:20211010T110000
LOCATION:Sportovní hala Gymnázia Jana Keplera Parléřova 118\, Praha - Hradč
 any
SUMMARY:CP-ZCI-Z1M: Dansport-Mnichovo Hradiště
END:VEVENT
BEGIN:VEVENT
UID:39353038-6534-4230-b436-333538343337
DTSTAMP:20260422T001359Z
DESCRIPTION:2/8 Odolena Voda - Mnichovo Hradiště 2:0 (16\,17)\nO 15. místo
DTSTART;TZID=Europe/Berlin:20211010T140000
DTEND;TZID=Europe/Berlin:20211010T160000
LOCATION:Sportovní hala\, Ke Stadionu 375 Odolena Voda
SUMMARY:CP-ZCI-Z1P: Odolena Voda-Mnichovo Hradiště
END:VEVENT
BEGIN:VEVENT
UID:36386462-3363-4235-b164-666661643366
DTSTAMP:20260422T001359Z
DESCRIPTION:1/4 Mnichovo Hradiště - Tělovýchovná jednota Jiskra Nový Bor\, 
 z.s. 2:0 (9\,11)\nZŠ LADA\, Šluknovská 2904 Česká Lípa
DTSTART;TZID=Europe/Berlin:20220108T110000
DTEND;TZID=Europe/Berlin:20220108T130000
LOCATION:Sportovní hala BIOS\, Sokolovská 254 Mnichovo Hradiště
SUMMARY:LIB-ZCI-2A: Mnichovo Hradiště-Tělovýchovná jednota Jiskra Nový Bor\
 , z.s.
END:VEVENT
BEGIN:VEVENT
UID:61333838-3137-4230-b564-393661666264
DTSTAMP:20260422T001359Z
DESCRIPTION:1/6 Mnichovo Hradiště - VK Dukla Liberec 2:1 (23\,-19\,7)\nZŠ L
 ADA\, Šluknovská 2904 Česká Lípa
DTSTART;TZID=Europe/Berlin:20211128T140000
DTEND;TZID=Europe/Berlin:20211128T160000
LOCATION:Sportovní hala BIOS\, Sokolovská 254 Mnichovo Hradiště
SUMMARY:LIB-ZCI-2A: Mnichovo Hradiště-VK Dukla Liberec
END:VEVENT
BEGIN:VEVENT
UID:39316261-3861-4666-a639-316430343364
DTSTAMP:20260422T001359Z
DESCRIPTION:1/2 Česká Lípa - Mnichovo Hradiště 2:0 (16\,13)\nZŠ LADA\, Šluk
 novská 2904 Česká Lípa
DTSTART;TZID=Europe/Berlin:20211128T100000
DTEND;TZID=Europe/Berlin:20211128T120000
LOCATION:ZŠ Lada\, Šluknovská 2904 Česká Lípa
SUMMARY:LIB-ZCI-2A: Česká Lípa-Mnichovo Hradiště
END:VEVENT
BEGIN:VEVENT
UID:38326637-3935-4833-a466-326131666434
DTSTAMP:20260422T001359Z
DESCRIPTION:1/1 Mnichovo Hradiště - Jirkov 1:2 (20\,-17\,-7)\nHala kurt 1
DTSTART;TZID=Europe/Berlin:20211106T100000
DTEND;TZID=Europe/Berlin:20211106T120000
LOCATION:Sportovní hala BIOS\, Sokolovská 254 Mnichovo Hradiště
SUMMARY:CP-ZCI-Z2C: Mnichovo Hradiště-Jirkov
END:VEVENT
BEGIN:VEVENT
UID:34396332-6338-4163-b931-343731356336
DTSTAMP:20260422T001359Z
DESCRIPTION:5/12 Mnichovo Hradiště - Volejbal Sokolov\, z.s. 1:2 (28\,-15\,
 -11)\nHala kurt 1
DTSTART;TZID=Europe/Berlin:20211106T150000
DTEND;TZID=Europe/Berlin:20211106T170000
LOCATION:Sportovní hala BIOS\, Sokolovská 254 Mnichovo Hradiště
SUMMARY:CP-ZCI-Z2C: Mnichovo Hradiště-Volejbal Sokolov\, z.s.
END:VEVENT
BEGIN:VEVENT
UID:39373561-3730-4533-a233-613565623834
DTSTAMP:20260422T001359Z
DESCRIPTION:8/20 Mnichovo Hradiště - VSK Český Krumlov 2:0 (9\,10)\nHala ku
 rt 1
DTSTART;TZID=Europe/Berlin:20211107T100000
DTEND;TZID=Europe/Berlin:20211107T120000
LOCATION:Sportovní hala BIOS\, Sokolovská 254 Mnichovo Hradiště
SUMMARY:CP-ZCI-Z2C: Mnichovo Hradiště-VSK Český Krumlov
END:VEVENT
BEGIN:VEVENT
UID:34623037-3663-4435-b366-623335653864
DTSTAMP:20260422T001359Z
DESCRIPTION:10/26 Mnichovo Hradiště - Lvi B 2:0 (10\,10)\nHala kurt 1
DTSTART;TZID=Europe/Berlin:20211107T120000
DTEND;TZID=Europe/Berlin:20211107T140000
LOCATION:Sportovní hala BIOS\, Sokolovská 254 Mnichovo Hradiště
SUMMARY:CP-ZCI-Z2C: Mnichovo Hradiště-Lvi B
END:VEVENT
BEGIN:VEVENT
UID:35343135-3933-4861-a661-616135666466
DTSTAMP:20260422T001359Z
DESCRIPTION:2/4 VK Dukla Liberec - Mnichovo Hradiště 0:2 (-0\,-0)\nHala kur
 t 1
DTSTART;TZID=Europe/Berlin:20211106T110000
DTEND;TZID=Europe/Berlin:20211106T130000
LOCATION:Dukla Liberec\, Jeronýmova 558 Liberec - Liberec VII-Horní Růžodol
SUMMARY:CP-ZCI-Z2C: VK Dukla Liberec-Mnichovo Hradiště
END:VEVENT
BEGIN:VEVENT
UID:38336336-6136-4237-b838-393339636262
DTSTAMP:20260422T001359Z
DESCRIPTION:6/15 Havlíčkův Brod - Mnichovo Hradiště 0:2 (-13\,-15)\nHala ku
 rt 1
DTSTART;TZID=Europe/Berlin:20211106T160000
DTEND;TZID=Europe/Berlin:20211106T180000
LOCATION:Tělocvična SPŠ Stavební\, Jihlavská 628 Havlíčkův Brod
SUMMARY:CP-ZCI-Z2C: Havlíčkův Brod-Mnichovo Hradiště
END:VEVENT
BEGIN:VEVENT
UID:31333966-3239-4139-b562-643461393632
DTSTAMP:20260422T001359Z
DESCRIPTION:7/17 Karlovarsko - Mnichovo Hradiště 1:2 (-21\,23\,-12)\nHala k
 urt 1
DTSTART;TZID=Europe/Berlin:20211107T090000
DTEND;TZID=Europe/Berlin:20211107T110000
LOCATION:Mattoni Arena Hala míčových sportů\, Západní 1812 Karlovy Vary
SUMMARY:CP-ZCI-Z2C: Karlovarsko-Mnichovo Hradiště
END:VEVENT
BEGIN:VEVENT
UID:63616532-3066-4363-a165-633135613263
DTSTAMP:20260422T001359Z
DESCRIPTION:1/4 Mnichovo Hradiště - Dansport 0:2 (-19\,-14)
DTSTART;TZID=Europe/Berlin:20211204T103000
DTEND;TZID=Europe/Berlin:20211204T123000
LOCATION:Sportovní hala BIOS\, Sokolovská 254 Mnichovo Hradiště
SUMMARY:CP-ZCI-Z3C: Mnichovo Hradiště-Dansport
END:VEVENT
BEGIN:VEVENT
UID:33663739-3936-4965-b133-613466313438
DTSTAMP:20260422T001359Z
DESCRIPTION:3/11 Mnichovo Hradiště - VK Dukla Liberec 2:1 (23\,-19\,7)
DTSTART;TZID=Europe/Berlin:20211204T133000
DTEND;TZID=Europe/Berlin:20211204T153000
LOCATION:Sportovní hala BIOS\, Sokolovská 254 Mnichovo Hradiště
SUMMARY:CP-ZCI-Z3C: Mnichovo Hradiště-VK Dukla Liberec
END:VEVENT
BEGIN:VEVENT
UID:33653038-6162-4662-b261-626138366539
DTSTAMP:20260422T001359Z
DESCRIPTION:5/18 Mnichovo Hradiště - Lvi B 2:0 (23\,19)
DTSTART;TZID=Europe/Berlin:20211204T160000
DTEND;TZID=Europe/Berlin:20211204T180000
LOCATION:Sportovní hala BIOS\, Sokolovská 254 Mnichovo Hradiště
SUMMARY:CP-ZCI-Z3C: Mnichovo Hradiště-Lvi B
END:VEVENT
BEGIN:VEVENT
UID:36383933-3735-4466-b464-303132623030
DTSTAMP:20260422T001359Z
DESCRIPTION:7/25 Mnichovo Hradiště - Karlovarsko 0:2 (-12\,-11)
DTSTART;TZID=Europe/Berlin:20211205T110000
DTEND;TZID=Europe/Berlin:20211205T130000
LOCATION:Sportovní hala BIOS\, Sokolovská 254 Mnichovo Hradiště
SUMMARY:CP-ZCI-Z3C: Mnichovo Hradiště-Karlovarsko
END:VEVENT
BEGIN:VEVENT
UID:35313762-3366-4539-a436-346232393630
DTSTAMP:20260422T001359Z
DESCRIPTION:2/6 VSK Český Krumlov - Mnichovo Hradiště 0:2 (-13\,-11)
DTSTART;TZID=Europe/Berlin:20211204T113000
DTEND;TZID=Europe/Berlin:20211204T133000
LOCATION:ZŠ Za Nádražím Český Krumlov\, Za Nádražím 222 Český Krumlov - Nád
 ražní Předměstí
SUMMARY:CP-ZCI-Z3C: VSK Český Krumlov-Mnichovo Hradiště
END:VEVENT
BEGIN:VEVENT
UID:35373937-6264-4634-a538-356363623336
DTSTAMP:20260422T001359Z
DESCRIPTION:4/15 Orion Praha - Mnichovo Hradiště 1:2 (-22\,17\,-13)
DTSTART;TZID=Europe/Berlin:20211204T150000
DTEND;TZID=Europe/Berlin:20211204T170000
LOCATION:ZŠ prof. Švejcara Mráčkova 3090\, Praha 12\, Modřany
SUMMARY:CP-ZCI-Z3C: Orion Praha-Mnichovo Hradiště
END:VEVENT
BEGIN:VEVENT
UID:33666331-6136-4165-b263-633963366562
DTSTAMP:20260422T001359Z
DESCRIPTION:6/22 Havlíčkův Brod - Mnichovo Hradiště 1:2 (-13\,23\,-7)
DTSTART;TZID=Europe/Berlin:20211205T090000
DTEND;TZID=Europe/Berlin:20211205T110000
LOCATION:Tělocvična SPŠ Stavební\, Jihlavská 628 Havlíčkův Brod
SUMMARY:CP-ZCI-Z3C: Havlíčkův Brod-Mnichovo Hradiště
END:VEVENT
BEGIN:VEVENT
UID:35643530-6336-4566-a336-373461333338
DTSTAMP:20260422T001359Z
DESCRIPTION:1/1 VK Dukla Liberec - Mnichovo Hradiště 0:2 (-18\,-16)\nZŠ Lib
 erec\, Sokolovská 328
DTSTART;TZID=Europe/Berlin:20211219T090000
DTEND;TZID=Europe/Berlin:20211219T110000
LOCATION:Dukla Liberec\, Jeronýmova 558 Liberec - Liberec VII-Horní Růžodol
SUMMARY:LIB-ZCI-3A: VK Dukla Liberec-Mnichovo Hradiště
END:VEVENT
BEGIN:VEVENT
UID:38303762-3863-4932-a466-353838653634
DTSTAMP:20260422T001359Z
DESCRIPTION:1/4 Tělovýchovná jednota SLAVIA Liberec\, z.s. 'A' - Mnichovo H
 radiště 0:2 (-20\,-27)\nZŠ Liberec\, Sokolovská 328
DTSTART;TZID=Europe/Berlin:20211219T111500
DTEND;TZID=Europe/Berlin:20211219T131500
LOCATION:Základní škola\, Liberec\, Sokolovská \, Sokolovská 328 Liberec - 
 Liberec XIII-Nové Pavlovice
SUMMARY:LIB-ZCI-3A: Tělovýchovná jednota SLAVIA Liberec\, z.s. 'A'-Mnichovo
  Hradiště
END:VEVENT
BEGIN:VEVENT
UID:39343030-3064-4662-b461-343433363735
DTSTAMP:20260422T001359Z
DESCRIPTION:1/5 Česká Lípa - Mnichovo Hradiště 2:0 (8\,17)\nZŠ Liberec\, So
 kolovská 328
DTSTART;TZID=Europe/Berlin:20211219T120000
DTEND;TZID=Europe/Berlin:20211219T140000
LOCATION:ZŠ Lada\, Šluknovská 2904 Česká Lípa
SUMMARY:LIB-ZCI-3A: Česká Lípa-Mnichovo Hradiště
END:VEVENT
BEGIN:VEVENT
UID:37356666-6233-4263-b730-396238663232
DTSTAMP:20260422T001359Z
DESCRIPTION:2/3 Mnichovo Hradiště - VSK Český Krumlov 2:0 (18\,23)
DTSTART;TZID=Europe/Berlin:20220115T100000
DTEND;TZID=Europe/Berlin:20220115T120000
LOCATION:Sportovní hala BIOS\, Sokolovská 254 Mnichovo Hradiště
SUMMARY:CP-ZCI-1E: Mnichovo Hradiště-VSK Český Krumlov
END:VEVENT
BEGIN:VEVENT
UID:33663033-6339-4466-b339-663835376166
DTSTAMP:20260422T001359Z
DESCRIPTION:4/8 Mnichovo Hradiště - Havlíčkův Brod 2:1 (-25\,19\,3)
DTSTART;TZID=Europe/Berlin:20220115T120000
DTEND;TZID=Europe/Berlin:20220115T140000
LOCATION:Sportovní hala BIOS\, Sokolovská 254 Mnichovo Hradiště
SUMMARY:CP-ZCI-1E: Mnichovo Hradiště-Havlíčkův Brod
END:VEVENT
BEGIN:VEVENT
UID:32656562-3931-4861-a330-366632333666
DTSTAMP:20260422T001359Z
DESCRIPTION:3/6 Svitavy - Mnichovo Hradiště 0:2 (-14\,-21)
DTSTART;TZID=Europe/Berlin:20220115T110000
DTEND;TZID=Europe/Berlin:20220115T130000
LOCATION:Sportovní hala Na Střelnici\, Pražská 2162 Svitavy - Předměstí
SUMMARY:CP-ZCI-1E: Svitavy-Mnichovo Hradiště
END:VEVENT
BEGIN:VEVENT
UID:34393932-6435-4631-b835-373638313635
DTSTAMP:20260422T001359Z
DESCRIPTION:5/10 Velké Meziříčí - Mnichovo Hradiště 0:2 (-14\,-19)
DTSTART;TZID=Europe/Berlin:20220115T130000
DTEND;TZID=Europe/Berlin:20220115T150000
LOCATION:ZŠ Sokolovská\, Sokolovská 470 Velké Meziříčí
SUMMARY:CP-ZCI-1E: Velké Meziříčí-Mnichovo Hradiště
END:VEVENT
BEGIN:VEVENT
UID:37313134-6461-4163-b762-393130633764
DTSTAMP:20260422T001359Z
DESCRIPTION:7/14 Lvi B - Mnichovo Hradiště 1:2 (20\,-16\,-9)
DTSTART;TZID=Europe/Berlin:20220115T150000
DTEND;TZID=Europe/Berlin:20220115T170000
LOCATION:ZŠ Brdičkova Brdičkova 1878\, Praha 13 - 15500
SUMMARY:CP-ZCI-1E: Lvi B-Mnichovo Hradiště
END:VEVENT
BEGIN:VEVENT
UID:33633962-6166-4264-a638-326564646264
DTSTAMP:20260422T001359Z
DESCRIPTION:1/2 Mnichovo Hradiště - Tělovýchovná jednota SLAVIA Liberec\, z
 .s. 'A' 2:0 (15\,20)\nZŠ Liberec\, Sokolovská 328
DTSTART;TZID=Europe/Berlin:20220109T094500
DTEND;TZID=Europe/Berlin:20220109T114500
LOCATION:Sportovní hala BIOS\, Sokolovská 254 Mnichovo Hradiště
SUMMARY:LIB-ZCI-4A: Mnichovo Hradiště-Tělovýchovná jednota SLAVIA Liberec\,
  z.s. 'A'
END:VEVENT
BEGIN:VEVENT
UID:39323539-3032-4163-b162-313039323965
DTSTAMP:20260422T001359Z
DESCRIPTION:1/3 Mnichovo Hradiště - Tělovýchovná jednota SLAVIA Liberec\, z
 .s. 'B' 2:0 (18\,22)\nZŠ Liberec\, Sokolovská 328
DTSTART;TZID=Europe/Berlin:20220109T103000
DTEND;TZID=Europe/Berlin:20220109T123000
LOCATION:Sportovní hala BIOS\, Sokolovská 254 Mnichovo Hradiště
SUMMARY:LIB-ZCI-4A: Mnichovo Hradiště-Tělovýchovná jednota SLAVIA Liberec\,
  z.s. 'B'
END:VEVENT
BEGIN:VEVENT
UID:62303663-6466-4839-b139-303661623731
DTSTAMP:20260422T001359Z
DESCRIPTION:1/5 Mnichovo Hradiště - Česká Lípa 1:2 (-24\,18\,-13)\nZŠ Liber
 ec\, Sokolovská 328
DTSTART;TZID=Europe/Berlin:20220109T120000
DTEND;TZID=Europe/Berlin:20220109T140000
LOCATION:Sportovní hala BIOS\, Sokolovská 254 Mnichovo Hradiště
SUMMARY:LIB-ZCI-4A: Mnichovo Hradiště-Česká Lípa
END:VEVENT
BEGIN:VEVENT
UID:64396566-3766-4965-a639-626530656666
DTSTAMP:20260422T001359Z
DESCRIPTION:3/8 Mnichovo Hradiště - Karlovarsko 2:0 (23\,22)
DTSTART;TZID=Europe/Berlin:20220212T113000
DTEND;TZID=Europe/Berlin:20220212T133000
LOCATION:Sportovní hala BIOS\, Sokolovská 254 Mnichovo Hradiště
SUMMARY:CP-ZCI-2E: Mnichovo Hradiště-Karlovarsko
END:VEVENT
BEGIN:VEVENT
UID:33643737-3063-4264-b536-646232383239
DTSTAMP:20260422T001359Z
DESCRIPTION:1/2 Česká Lípa - Mnichovo Hradiště 1:2 (25\,-19\,-16)
DTSTART;TZID=Europe/Berlin:20220212T093000
DTEND;TZID=Europe/Berlin:20220212T113000
LOCATION:ZŠ Lada\, Šluknovská 2904 Česká Lípa
SUMMARY:CP-ZCI-2E: Česká Lípa-Mnichovo Hradiště
END:VEVENT
BEGIN:VEVENT
UID:37393035-3133-4134-b638-646639376338
DTSTAMP:20260422T001359Z
DESCRIPTION:2/4 Orion Praha - Mnichovo Hradiště 2:0 (17\,20)
DTSTART;TZID=Europe/Berlin:20220212T103000
DTEND;TZID=Europe/Berlin:20220212T123000
LOCATION:ZŠ prof. Švejcara Mráčkova 3090\, Praha 12\, Modřany
SUMMARY:CP-ZCI-2E: Orion Praha-Mnichovo Hradiště
END:VEVENT
BEGIN:VEVENT
UID:36303332-6233-4238-a237-616163653031
DTSTAMP:20260422T001359Z
DESCRIPTION:4/10 Dansport - Mnichovo Hradiště 1:2 (-18\,15\,-8)
DTSTART;TZID=Europe/Berlin:20220212T133000
DTEND;TZID=Europe/Berlin:20220212T153000
LOCATION:Sportovní hala Gymnázia Jana Keplera Parléřova 118\, Praha - Hradč
 any
SUMMARY:CP-ZCI-2E: Dansport-Mnichovo Hradiště
END:VEVENT
BEGIN:VEVENT
UID:66313437-6631-4462-a531-626363666237
DTSTAMP:20260422T001359Z
DESCRIPTION:5/15 Jirkov - Mnichovo Hradiště 0:2 (-22\,-22)
DTSTART;TZID=Europe/Berlin:20220212T143000
DTEND;TZID=Europe/Berlin:20220212T163000
LOCATION:Sportovní hala MG a ZŠ Jirkov\, Krušnohorská 1675 Jirkov
SUMMARY:CP-ZCI-2E: Jirkov-Mnichovo Hradiště
END:VEVENT
BEGIN:VEVENT
UID:37353734-3035-4436-b361-613234356331
DTSTAMP:20260422T001359Z
DESCRIPTION:1/1 VK Dukla Liberec - Mnichovo Hradiště 0:2 (-20\,-22)\nZŠ Lib
 erec\, Sokolovská 328
DTSTART;TZID=Europe/Berlin:20220306T090000
DTEND;TZID=Europe/Berlin:20220306T110000
LOCATION:Dukla Liberec\, Jeronýmova 558 Liberec - Liberec VII-Horní Růžodol
SUMMARY:LIB-ZCI-5A: VK Dukla Liberec-Mnichovo Hradiště
END:VEVENT
BEGIN:VEVENT
UID:63363530-3038-4931-a633-656634343065
DTSTAMP:20260422T001359Z
DESCRIPTION:1/4 Tělovýchovná jednota SLAVIA Liberec\, z.s. 'A' - Mnichovo H
 radiště 0:2 (-20\,-19)\nZŠ Liberec\, Sokolovská 328
DTSTART;TZID=Europe/Berlin:20220306T120000
DTEND;TZID=Europe/Berlin:20220306T140000
LOCATION:Základní škola\, Liberec\, Sokolovská \, Sokolovská 328 Liberec - 
 Liberec XIII-Nové Pavlovice
SUMMARY:LIB-ZCI-5A: Tělovýchovná jednota SLAVIA Liberec\, z.s. 'A'-Mnichovo
  Hradiště
END:VEVENT
BEGIN:VEVENT
UID:61363861-3764-4039-b064-653264386662
DTSTAMP:20260422T001359Z
DESCRIPTION:1/5 Česká Lípa - Mnichovo Hradiště 2:0 (11\,22)\nZŠ Liberec\, S
 okolovská 328
DTSTART;TZID=Europe/Berlin:20220306T130000
DTEND;TZID=Europe/Berlin:20220306T150000
LOCATION:ZŠ Lada\, Šluknovská 2904 Česká Lípa
SUMMARY:LIB-ZCI-5A: Česká Lípa-Mnichovo Hradiště
END:VEVENT
BEGIN:VEVENT
UID:30663661-3630-4962-a130-613265643631
DTSTAMP:20260422T001359Z
DESCRIPTION:3/4 Mnichovo Hradiště - VK Dukla Liberec 1:2 (23\,-23\,-6)
DTSTART;TZID=Europe/Berlin:20220312T103000
DTEND;TZID=Europe/Berlin:20220312T123000
LOCATION:Sportovní hala BIOS\, Sokolovská 254 Mnichovo Hradiště
SUMMARY:CP-ZCI-3G: Mnichovo Hradiště-VK Dukla Liberec
END:VEVENT
BEGIN:VEVENT
UID:61363935-6361-4634-a364-633933663532
DTSTAMP:20260422T001359Z
DESCRIPTION:6/10 Mnichovo Hradiště - Dansport 2:0 (17\,18)
DTSTART;TZID=Europe/Berlin:20220312T133000
DTEND;TZID=Europe/Berlin:20220312T153000
LOCATION:Sportovní hala BIOS\, Sokolovská 254 Mnichovo Hradiště
SUMMARY:CP-ZCI-3G: Mnichovo Hradiště-Dansport
END:VEVENT
BEGIN:VEVENT
UID:66316631-3333-4835-a537-353863373732
DTSTAMP:20260422T001359Z
DESCRIPTION:1/1 Česká Lípa - Mnichovo Hradiště 1:2 (-18\,9\,-13)
DTSTART;TZID=Europe/Berlin:20220312T083000
DTEND;TZID=Europe/Berlin:20220312T103000
LOCATION:ZŠ Lada\, Šluknovská 2904 Česká Lípa
SUMMARY:CP-ZCI-3G: Česká Lípa-Mnichovo Hradiště
END:VEVENT
BEGIN:VEVENT
UID:38343065-6235-4563-a663-316430376561
DTSTAMP:20260422T001359Z
DESCRIPTION:4/7 Orion Praha - Mnichovo Hradiště 0:2 (-24\,-24)
DTSTART;TZID=Europe/Berlin:20220312T113000
DTEND;TZID=Europe/Berlin:20220312T133000
LOCATION:ZŠ prof. Švejcara Mráčkova 3090\, Praha 12\, Modřany
SUMMARY:CP-ZCI-3G: Orion Praha-Mnichovo Hradiště
END:VEVENT
BEGIN:VEVENT
UID:65353730-3737-4334-a531-386532636130
DTSTAMP:20260422T001359Z
DESCRIPTION:7/13 VK Ostrava 'A' - Mnichovo Hradiště 0:2 (-15\,-15)
DTSTART;TZID=Europe/Berlin:20220312T143000
DTEND;TZID=Europe/Berlin:20220312T163000
LOCATION:Hala Střední zdravotní školy\, 1. máje 2208 Ostrava - Mariánské Ho
 ry
SUMMARY:CP-ZCI-3G: VK Ostrava 'A'-Mnichovo Hradiště
END:VEVENT
BEGIN:VEVENT
UID:38373938-6363-4439-b362-653035316433
DTSTAMP:20260422T001359Z
DESCRIPTION:1/1 Tělovýchovná jednota Jiskra Nový Bor\, z.s. - Mnichovo Hrad
 iště 0:2 (-8\,-8)\nZákladní škola\, Liberec\, Švermova 403/40
DTSTART;TZID=Europe/Berlin:20220326T083000
DTEND;TZID=Europe/Berlin:20220326T103000
LOCATION:Sportovní hala Františka Arnošta Nový Bor\, U hřiště 1391 Nový Bor
SUMMARY:LIB-ZCI-6A: Tělovýchovná jednota Jiskra Nový Bor\, z.s.-Mnichovo Hr
 adiště
END:VEVENT
BEGIN:VEVENT
UID:66643839-3132-4366-a537-653438366565
DTSTAMP:20260422T001359Z
DESCRIPTION:1/4 VK Dukla Liberec - Mnichovo Hradiště 0:2 (-22\,-10)\nZáklad
 ní škola\, Liberec\, Švermova 403/40
DTSTART;TZID=Europe/Berlin:20220326T113000
DTEND;TZID=Europe/Berlin:20220326T133000
LOCATION:Dukla Liberec\, Jeronýmova 558 Liberec - Liberec VII-Horní Růžodol
SUMMARY:LIB-ZCI-6A: VK Dukla Liberec-Mnichovo Hradiště
END:VEVENT
BEGIN:VEVENT
UID:38636465-3062-4036-a637-326261336133
DTSTAMP:20260422T001359Z
DESCRIPTION:1/5 Česká Lípa - Mnichovo Hradiště 2:0 (18\,15)\nZákladní škola
 \, Liberec\, Švermova 403/40
DTSTART;TZID=Europe/Berlin:20220326T123000
DTEND;TZID=Europe/Berlin:20220326T143000
LOCATION:ZŠ Lada\, Šluknovská 2904 Česká Lípa
SUMMARY:LIB-ZCI-6A: Česká Lípa-Mnichovo Hradiště
END:VEVENT
BEGIN:VEVENT
UID:30363331-6131-4239-b534-663733333764
DTSTAMP:20260422T001359Z
DESCRIPTION:1/2 Mnichovo Hradiště - Plzeň 0:2 (-21\,-16)
DTSTART;TZID=Europe/Berlin:20220415T100000
DTEND;TZID=Europe/Berlin:20220415T120000
LOCATION:Zimní stadion\, U Stadionu 12 Nymburk
SUMMARY:MCR-ZCI-D: Mnichovo Hradiště-Plzeň
END:VEVENT
BEGIN:VEVENT
UID:32356563-3537-4532-a663-303639316433
DTSTAMP:20260422T001359Z
DESCRIPTION:1/5 Mnichovo Hradiště - Orion Praha 2:0 (17\,22)
DTSTART;TZID=Europe/Berlin:20220415T130000
DTEND;TZID=Europe/Berlin:20220415T150000
LOCATION:Zimní stadion\, U Stadionu 12 Nymburk
SUMMARY:MCR-ZCI-D: Mnichovo Hradiště-Orion Praha
END:VEVENT
BEGIN:VEVENT
UID:65636435-6264-4537-b638-383038646362
DTSTAMP:20260422T001359Z
DESCRIPTION:1/11 Mnichovo Hradiště - Nymburk 1:2 (-16\,18\,-7)
DTSTART;TZID=Europe/Berlin:20220415T173000
DTEND;TZID=Europe/Berlin:20220415T193000
LOCATION:Zimní stadion\, U Stadionu 12 Nymburk
SUMMARY:MCR-ZCI-D: Mnichovo Hradiště-Nymburk
END:VEVENT
BEGIN:VEVENT
UID:65393231-3366-4730-a436-323035633838
DTSTAMP:20260422T001359Z
DESCRIPTION:1/10 Aš-Klokani - Mnichovo Hradiště 2:0 (14\,21)
DTSTART;TZID=Europe/Berlin:20220415T160000
DTEND;TZID=Europe/Berlin:20220415T180000
LOCATION:Zimní stadion\, U Stadionu 12 Nymburk
SUMMARY:MCR-ZCI-D: Aš-Klokani-Mnichovo Hradiště
END:VEVENT
BEGIN:VEVENT
UID:63366136-6339-4263-b565-333635393538
DTSTAMP:20260422T001359Z
DESCRIPTION:2/18 Brno - Mnichovo Hradiště 2:0 (16\,19)
DTSTART;TZID=Europe/Berlin:20220416T110000
DTEND;TZID=Europe/Berlin:20220416T130000
LOCATION:Zimní stadion\, U Stadionu 12 Nymburk
SUMMARY:MCR-ZCI-D: Brno-Mnichovo Hradiště
END:VEVENT
BEGIN:VEVENT
UID:33613535-3934-4966-a439-656330326566
DTSTAMP:20260422T001359Z
DESCRIPTION:2/19 České Budějovice B - Mnichovo Hradiště 2:0 (22\,23)
DTSTART;TZID=Europe/Berlin:20220416T123000
DTEND;TZID=Europe/Berlin:20220416T143000
LOCATION:Zimní stadion\, U Stadionu 12 Nymburk
SUMMARY:MCR-ZCI-D: České Budějovice B-Mnichovo Hradiště
END:VEVENT
END:VCALENDAR
