BEGIN:VCALENDAR
VERSION:2.0
PRODID:-//VK ČEZ Karlovarsko75933//NONSGML kigkonsult.se iCalcreator 2.41.80//
CALSCALE:GREGORIAN
UID:62343665-3435-4935-a132-313463313534
BEGIN:VEVENT
UID:35306239-3931-4361-b334-636239333637
DTSTAMP:20260424T075816Z
DESCRIPTION:1/2 Karlovarsko - Č. Budějovice 0:3 (-17\,-28\,-25)
DTSTART;TZID=Europe/Berlin:20211009T100000
DTEND;TZID=Europe/Berlin:20211009T120000
LOCATION:sportovní hala Příbram\, Legionářů 378 Příbram - Příbram VII
SUMMARY:EX-JRI-1B: Karlovarsko-Č. Budějovice
END:VEVENT
BEGIN:VEVENT
UID:39393539-6538-4365-b032-663366363264
DTSTAMP:20260424T075816Z
DESCRIPTION:2/9 Karlovarsko - Zlín 2:3 (21\,-17\,-18\,19\,-9)
DTSTART;TZID=Europe/Berlin:20211010T150000
DTEND;TZID=Europe/Berlin:20211010T170000
LOCATION:sportovní hala Příbram\, Legionářů 378 Příbram - Příbram VII
SUMMARY:EX-JRI-1B: Karlovarsko-Zlín
END:VEVENT
BEGIN:VEVENT
UID:38656437-3030-4732-b064-613330366461
DTSTAMP:20260424T075816Z
DESCRIPTION:1/4 Příbram - Karlovarsko 3:0 (16\,16\,17)
DTSTART;TZID=Europe/Berlin:20211009T140000
DTEND;TZID=Europe/Berlin:20211009T160000
LOCATION:sportovní hala Příbram\, Legionářů 378 Příbram - Příbram VII
SUMMARY:EX-JRI-1B: Příbram-Karlovarsko
END:VEVENT
BEGIN:VEVENT
UID:37646631-3337-4337-b337-663436613534
DTSTAMP:20260424T075816Z
DESCRIPTION:2/6 Orion - Karlovarsko 3:1 (-18\,27\,25\,18)
DTSTART;TZID=Europe/Berlin:20211010T090000
DTEND;TZID=Europe/Berlin:20211010T110000
LOCATION:sportovní hala Příbram\, Legionářů 378 Příbram - Příbram VII
SUMMARY:EX-JRI-1B: Orion-Karlovarsko
END:VEVENT
BEGIN:VEVENT
UID:63363834-3163-4434-b832-666164313466
DTSTAMP:20260424T075816Z
DESCRIPTION:1/1 Karlovarsko - Blue Ostrava 2:1 (19\,-18\,7)
DTSTART;TZID=Europe/Berlin:20210910T133000
DTEND;TZID=Europe/Berlin:20210910T153000
LOCATION:Mattoni Arena Hala míčových sportů\, Západní 1812 Karlovy Vary
SUMMARY:T-JRI-B: Karlovarsko-Blue Ostrava
END:VEVENT
BEGIN:VEVENT
UID:37386363-6437-4237-b466-373965666434
DTSTAMP:20260424T075816Z
DESCRIPTION:4/8 Karlovarsko - Č. Budějovice 1:2 (-23\,24\,-17)
DTSTART;TZID=Europe/Berlin:20210911T090000
DTEND;TZID=Europe/Berlin:20210911T110000
LOCATION:Mattoni Arena Hala míčových sportů\, Západní 1812 Karlovy Vary
SUMMARY:T-JRI-B: Karlovarsko-Č. Budějovice
END:VEVENT
BEGIN:VEVENT
UID:32313536-6339-4863-b562-616231663534
DTSTAMP:20260424T075816Z
DESCRIPTION:2/4 Příbram - Karlovarsko 2:0 (20\,14)
DTSTART;TZID=Europe/Berlin:20210910T145000
DTEND;TZID=Europe/Berlin:20210910T165000
LOCATION:sportovní hala Příbram\, Legionářů 378 Příbram - Příbram VII
SUMMARY:T-JRI-B: Příbram-Karlovarsko
END:VEVENT
BEGIN:VEVENT
UID:39313261-3137-4132-a330-326561353337
DTSTAMP:20260424T075816Z
DESCRIPTION:5/9 Zlín - Karlovarsko 2:1 (21\,-23\,15)
DTSTART;TZID=Europe/Berlin:20210911T113500
DTEND;TZID=Europe/Berlin:20210911T133500
LOCATION:Sportovní hala Datart Zlín\, U Zimního stadionu 4286 Zlín
SUMMARY:T-JRI-B: Zlín-Karlovarsko
END:VEVENT
BEGIN:VEVENT
UID:30363761-3164-4761-a233-653632366430
DTSTAMP:20260424T075816Z
DESCRIPTION:2/4 Karlovarsko - Nový Jičín 1:2 (18\,-18\,-10)\nP3 o 19.
DTSTART;TZID=Europe/Berlin:20210910T152000
DTEND;TZID=Europe/Berlin:20210910T172000
LOCATION:Mattoni Arena Hala míčových sportů\, Západní 1812 Karlovy Vary
SUMMARY:T-JRI-H: Karlovarsko-Nový Jičín
END:VEVENT
BEGIN:VEVENT
UID:34313734-6130-4830-b630-623537613165
DTSTAMP:20260424T075816Z
DESCRIPTION:1/1 Green F-M - Karlovarsko 2:0 (24\,22)
DTSTART;TZID=Europe/Berlin:20210910T140500
DTEND;TZID=Europe/Berlin:20210910T160500
LOCATION:Hala SPŠ\, 28. října 1639 Frýdek-Místek - Místek
SUMMARY:T-JRI-H: Green F-M-Karlovarsko
END:VEVENT
BEGIN:VEVENT
UID:62353865-3063-4565-b932-353461323664
DTSTAMP:20260424T075816Z
DESCRIPTION:1/1 Karlovarsko - Orion 3:1 (-24\,17\,10\,13)
DTSTART;TZID=Europe/Berlin:20211106T100000
DTEND;TZID=Europe/Berlin:20211106T120000
LOCATION:Hala Střední pedagogické školy\, Lidická 455 Karlovy Vary - Drahov
 ice
SUMMARY:EX-JRI-2D: Karlovarsko-Orion
END:VEVENT
BEGIN:VEVENT
UID:66646432-3233-4737-a339-356166356431
DTSTAMP:20260424T075816Z
DESCRIPTION:1/4 Karlovarsko - Kolín 2:3 (22\,-24\,24\,-18\,-11)
DTSTART;TZID=Europe/Berlin:20211106T160000
DTEND;TZID=Europe/Berlin:20211106T180000
LOCATION:Hala Střední pedagogické školy\, Lidická 455 Karlovy Vary - Drahov
 ice
SUMMARY:EX-JRI-2D: Karlovarsko-Kolín
END:VEVENT
BEGIN:VEVENT
UID:30393763-3834-4134-b238-316365323464
DTSTAMP:20260424T075816Z
DESCRIPTION:2/7 Karlovarsko - Svitavy 2:3 (17\,-19\,-15\,19\,-10)
DTSTART;TZID=Europe/Berlin:20211107T110000
DTEND;TZID=Europe/Berlin:20211107T130000
LOCATION:Hala Střední pedagogické školy\, Lidická 455 Karlovy Vary - Drahov
 ice
SUMMARY:EX-JRI-2D: Karlovarsko-Svitavy
END:VEVENT
BEGIN:VEVENT
UID:33393231-3734-4438-b035-313037343161
DTSTAMP:20260424T075816Z
DESCRIPTION:2/10 Benátky n. J. - Karlovarsko 2:3 (20\,23\,-22\,-15\,-8)
DTSTART;TZID=Europe/Berlin:20211107T170000
DTEND;TZID=Europe/Berlin:20211107T190000
LOCATION:Hala Střední pedagogické školy\, Lidická 455 Karlovy Vary - Drahov
 ice
SUMMARY:EX-JRI-2D: Benátky n. J.-Karlovarsko
END:VEVENT
BEGIN:VEVENT
UID:62646131-3535-4664-a338-613435633234
DTSTAMP:20260424T075816Z
DESCRIPTION:1/3 Karlovarsko - Green F-M 0:3 (-17\,-21\,-20)
DTSTART;TZID=Europe/Berlin:20211204T140000
DTEND;TZID=Europe/Berlin:20211204T160000
LOCATION:Hala ABC\, Purkyňova 116 Nový Jičín
SUMMARY:EX-JRI-3C: Karlovarsko-Green F-M
END:VEVENT
BEGIN:VEVENT
UID:66323934-3739-4531-a234-323563383166
DTSTAMP:20260424T075816Z
DESCRIPTION:1/5 Karlovarsko - Zlín 2:3 (21\,-19\,-14\,22\,-9)
DTSTART;TZID=Europe/Berlin:20211204T180000
DTEND;TZID=Europe/Berlin:20211204T200000
LOCATION:Hala ABC\, Purkyňova 116 Nový Jičín
SUMMARY:EX-JRI-3C: Karlovarsko-Zlín
END:VEVENT
BEGIN:VEVENT
UID:66323138-6365-4564-b732-333465633439
DTSTAMP:20260424T075816Z
DESCRIPTION:2/7 Nový Jičín - Karlovarsko 3:1 (16\,17\,-24\,14)
DTSTART;TZID=Europe/Berlin:20211205T110000
DTEND;TZID=Europe/Berlin:20211205T130000
LOCATION:Hala ABC\, Purkyňova 116 Nový Jičín
SUMMARY:EX-JRI-3C: Nový Jičín-Karlovarsko
END:VEVENT
BEGIN:VEVENT
UID:66353735-6139-4130-b433-343561633166
DTSTAMP:20260424T075816Z
DESCRIPTION:2/9 Benátky n. J. - Karlovarsko 0:3 (-18\,-19\,-20)
DTSTART;TZID=Europe/Berlin:20211205T150000
DTEND;TZID=Europe/Berlin:20211205T170000
LOCATION:Hala ABC\, Purkyňova 116 Nový Jičín
SUMMARY:EX-JRI-3C: Benátky n. J.-Karlovarsko
END:VEVENT
BEGIN:VEVENT
UID:61653637-3836-4464-b261-613966363561
DTSTAMP:20260424T075816Z
DESCRIPTION:1/3 Karlovarsko - Benátky n. J. 0:3 (-22\,-21\,-16)
DTSTART;TZID=Europe/Berlin:20220115T130000
DTEND;TZID=Europe/Berlin:20220115T150000
LOCATION:Sportovní hala Na Střelnici\, Pražská 2162 Svitavy - Předměstí
SUMMARY:EX-JRI-4D: Karlovarsko-Benátky n. J.
END:VEVENT
BEGIN:VEVENT
UID:66613335-3234-4435-b463-663334323638
DTSTAMP:20260424T075816Z
DESCRIPTION:1/5 Karlovarsko - Orion 1:3 (-17\,-18\,20\,-15)
DTSTART;TZID=Europe/Berlin:20220115T160000
DTEND;TZID=Europe/Berlin:20220115T180000
LOCATION:Sportovní hala Na Střelnici\, Pražská 2162 Svitavy - Předměstí
SUMMARY:EX-JRI-4D: Karlovarsko-Orion
END:VEVENT
BEGIN:VEVENT
UID:62333533-3637-4561-a235-393130653061
DTSTAMP:20260424T075816Z
DESCRIPTION:2/7 Svitavy - Karlovarsko 3:0 (10\,17\,17)
DTSTART;TZID=Europe/Berlin:20220116T090000
DTEND;TZID=Europe/Berlin:20220116T110000
LOCATION:Sportovní hala Na Střelnici\, Pražská 2162 Svitavy - Předměstí
SUMMARY:EX-JRI-4D: Svitavy-Karlovarsko
END:VEVENT
BEGIN:VEVENT
UID:32656439-3462-4065-b537-313036353433
DTSTAMP:20260424T075816Z
DESCRIPTION:2/9 Ústí n. L. - Karlovarsko 3:0 (20\,19\,21)
DTSTART;TZID=Europe/Berlin:20220116T120000
DTEND;TZID=Europe/Berlin:20220116T140000
LOCATION:Sportovní hala Na Střelnici\, Pražská 2162 Svitavy - Předměstí
SUMMARY:EX-JRI-4D: Ústí n. L.-Karlovarsko
END:VEVENT
BEGIN:VEVENT
UID:35643535-6164-4037-a366-366163306631
DTSTAMP:20260424T075816Z
DESCRIPTION:1/2 Karlovarsko - Ústí n. L. 0:3 (-17\,-20\,-21)
DTSTART;TZID=Europe/Berlin:20220212T120000
DTEND;TZID=Europe/Berlin:20220212T140000
LOCATION:hala STAV\, SOŠ Kolín\, Brankovická 1417 Kolín - Kolín V
SUMMARY:EX-JRI-5D: Karlovarsko-Ústí n. L.
END:VEVENT
BEGIN:VEVENT
UID:33336539-3933-4533-b037-323332376165
DTSTAMP:20260424T075816Z
DESCRIPTION:2/9 Karlovarsko - Kojetín 1:3 (-14\,20\,-13\,-23)
DTSTART;TZID=Europe/Berlin:20220213T150000
DTEND;TZID=Europe/Berlin:20220213T170000
LOCATION:hala STAV\, SOŠ Kolín\, Brankovická 1417 Kolín - Kolín V
SUMMARY:EX-JRI-5D: Karlovarsko-Kojetín
END:VEVENT
BEGIN:VEVENT
UID:38636364-3034-4466-b535-616133373938
DTSTAMP:20260424T075816Z
DESCRIPTION:1/4 Kolín - Karlovarsko 3:0 (16\,23\,16)
DTSTART;TZID=Europe/Berlin:20220212T160000
DTEND;TZID=Europe/Berlin:20220212T180000
LOCATION:hala STAV\, SOŠ Kolín\, Brankovická 1417 Kolín - Kolín V
SUMMARY:EX-JRI-5D: Kolín-Karlovarsko
END:VEVENT
BEGIN:VEVENT
UID:33333565-6534-4334-a265-636531366437
DTSTAMP:20260424T075816Z
DESCRIPTION:2/6 Orion - Karlovarsko 3:1 (17\,21\,-14\,24)
DTSTART;TZID=Europe/Berlin:20220213T090000
DTEND;TZID=Europe/Berlin:20220213T110000
LOCATION:hala STAV\, SOŠ Kolín\, Brankovická 1417 Kolín - Kolín V
SUMMARY:EX-JRI-5D: Orion-Karlovarsko
END:VEVENT
BEGIN:VEVENT
UID:61663431-3839-4962-a361-643062666237
DTSTAMP:20260424T075816Z
DESCRIPTION:1/2 Karlovarsko - Ústí n. L. 3:0 (15\,17\,14)
DTSTART;TZID=Europe/Berlin:20220305T120000
DTEND;TZID=Europe/Berlin:20220305T140000
LOCATION:Nibe aréna\, městská sportovní hala\, 5. května 746 Benátky nad Ji
 zerou - Benátky nad Jizerou II
SUMMARY:EX-JRI-6D: Karlovarsko-Ústí n. L.
END:VEVENT
BEGIN:VEVENT
UID:63623030-3763-4037-b061-643835626539
DTSTAMP:20260424T075816Z
DESCRIPTION:2/9 Karlovarsko - Kojetín 3:1 (22\,19\,-23\,17)
DTSTART;TZID=Europe/Berlin:20220306T150000
DTEND;TZID=Europe/Berlin:20220306T170000
LOCATION:Nibe aréna\, městská sportovní hala\, 5. května 746 Benátky nad Ji
 zerou - Benátky nad Jizerou II
SUMMARY:EX-JRI-6D: Karlovarsko-Kojetín
END:VEVENT
BEGIN:VEVENT
UID:38653533-6538-4163-b562-363066343235
DTSTAMP:20260424T075816Z
DESCRIPTION:1/4 Benátky n. J. - Karlovarsko 3:1 (17\,-23\,24\,24)
DTSTART;TZID=Europe/Berlin:20220305T160000
DTEND;TZID=Europe/Berlin:20220305T180000
LOCATION:Nibe aréna\, městská sportovní hala\, 5. května 746 Benátky nad Ji
 zerou - Benátky nad Jizerou II
SUMMARY:EX-JRI-6D: Benátky n. J.-Karlovarsko
END:VEVENT
BEGIN:VEVENT
UID:61336264-6235-4364-b835-303036303064
DTSTAMP:20260424T075816Z
DESCRIPTION:2/6 Orion - Karlovarsko 2:3 (22\,-20\,16\,-20\,-13)
DTSTART;TZID=Europe/Berlin:20220306T090000
DTEND;TZID=Europe/Berlin:20220306T110000
LOCATION:Nibe aréna\, městská sportovní hala\, 5. května 746 Benátky nad Ji
 zerou - Benátky nad Jizerou II
SUMMARY:EX-JRI-6D: Orion-Karlovarsko
END:VEVENT
END:VCALENDAR
