BEGIN:VCALENDAR
VERSION:2.0
PRODID:-//SK VOLEJBAL Ústí nad Labem75938//NONSGML kigkonsult.se iCalcreator 2.41.80//
CALSCALE:GREGORIAN
UID:61643733-3937-4339-b263-613930323633
BEGIN:VEVENT
UID:38643765-3562-4834-a336-363338326466
DTSTAMP:20260425T232048Z
DESCRIPTION:2/6 Ústí n. L. - Velké Meziříčí 0:3 (-16\,-21\,-20)
DTSTART;TZID=Europe/Berlin:20211010T090000
DTEND;TZID=Europe/Berlin:20211010T110000
LOCATION:Dukla Liberec\, Jeronýmova 558 Liberec - Liberec VII-Horní Růžodol
SUMMARY:EX-JRI-1A: Ústí n. L.-Velké Meziříčí
END:VEVENT
BEGIN:VEVENT
UID:61353664-3465-4536-a161-393164326438
DTSTAMP:20260425T232048Z
DESCRIPTION:1/1 Liberec - Ústí n. L. 3:0 (27\,19\,14)
DTSTART;TZID=Europe/Berlin:20211009T093000
DTEND;TZID=Europe/Berlin:20211009T113000
LOCATION:Dukla Liberec\, Jeronýmova 558 Liberec - Liberec VII-Horní Růžodol
SUMMARY:EX-JRI-1A: Liberec-Ústí n. L.
END:VEVENT
BEGIN:VEVENT
UID:61356164-3930-4762-a431-343335633766
DTSTAMP:20260425T232048Z
DESCRIPTION:1/3 Green F-M - Ústí n. L. 3:1 (25\,17\,-22\,14)
DTSTART;TZID=Europe/Berlin:20211009T133000
DTEND;TZID=Europe/Berlin:20211009T153000
LOCATION:Dukla Liberec\, Jeronýmova 558 Liberec - Liberec VII-Horní Růžodol
SUMMARY:EX-JRI-1A: Green F-M-Ústí n. L.
END:VEVENT
BEGIN:VEVENT
UID:33303435-3063-4337-b865-383132303165
DTSTAMP:20260425T232048Z
DESCRIPTION:2/8 Kolín - Ústí n. L. 0:3 (-28\,-28\,-21)
DTSTART;TZID=Europe/Berlin:20211010T130000
DTEND;TZID=Europe/Berlin:20211010T150000
LOCATION:Dukla Liberec\, Jeronýmova 558 Liberec - Liberec VII-Horní Růžodol
SUMMARY:EX-JRI-1A: Kolín-Ústí n. L.
END:VEVENT
BEGIN:VEVENT
UID:33346331-3139-4561-b831-376366356164
DTSTAMP:20260425T232048Z
DESCRIPTION:2/3 Ústí n. L. - Benátky n. J. 2:0 (13\,27)
DTSTART;TZID=Europe/Berlin:20210910T161000
DTEND;TZID=Europe/Berlin:20210910T181000
LOCATION:Střední průmyslová škola strojní a elektro\, Resslova 210 Ústí nad
  Labem - Klíše
SUMMARY:T-JRI-D: Ústí n. L.-Benátky n. J.
END:VEVENT
BEGIN:VEVENT
UID:39626334-3139-4161-a631-663066336364
DTSTAMP:20260425T232048Z
DESCRIPTION:5/10 Ústí n. L. - SGLD Brno 1:2 (23\,-12\,-9)
DTSTART;TZID=Europe/Berlin:20210911T125000
DTEND;TZID=Europe/Berlin:20210911T145000
LOCATION:Střední průmyslová škola strojní a elektro\, Resslova 210 Ústí nad
  Labem - Klíše
SUMMARY:T-JRI-D: Ústí n. L.-SGLD Brno
END:VEVENT
BEGIN:VEVENT
UID:35303366-6161-4131-b663-623933353936
DTSTAMP:20260425T232048Z
DESCRIPTION:1/1 VK Ostrava - Ústí n. L. 2:0 (22\,23)
DTSTART;TZID=Europe/Berlin:20210910T145000
DTEND;TZID=Europe/Berlin:20210910T165000
LOCATION:Hala Janáčkova konzervatoř Ostrava\, Českobratrská 958 Ostrava - M
 oravská Ostrava
SUMMARY:T-JRI-D: VK Ostrava-Ústí n. L.
END:VEVENT
BEGIN:VEVENT
UID:32616232-3663-4234-b630-623362306334
DTSTAMP:20260425T232048Z
DESCRIPTION:3/6 Prosek - Ústí n. L. 2:0 (23\,23)
DTSTART;TZID=Europe/Berlin:20210911T090000
DTEND;TZID=Europe/Berlin:20210911T110000
LOCATION:SH SK Prosek\, Lovosická 559 Praha - Letňany
SUMMARY:T-JRI-D: Prosek-Ústí n. L.
END:VEVENT
BEGIN:VEVENT
UID:61363237-6536-4561-a431-376263343032
DTSTAMP:20260425T232048Z
DESCRIPTION:1/3 Kojetín - Ústí n. L. 2:0 (19\,14)
DTSTART;TZID=Europe/Berlin:20210910T140500
DTEND;TZID=Europe/Berlin:20210910T160500
LOCATION:Městská sportovní hala\, Hanusíkova 1476 Kojetín - Kojetín I-Město
SUMMARY:T-JRI-G1-8: Kojetín-Ústí n. L.
END:VEVENT
BEGIN:VEVENT
UID:33616434-6639-4764-b963-663137356330
DTSTAMP:20260425T232048Z
DESCRIPTION:2/8 Benátky n. J. - Ústí n. L. 2:0 (16\,23)\nP1 o 7.
DTSTART;TZID=Europe/Berlin:20210910T163500
DTEND;TZID=Europe/Berlin:20210910T183500
LOCATION:Nibe aréna\, městská sportovní hala\, 5. května 746 Benátky nad Ji
 zerou - Benátky nad Jizerou II
SUMMARY:T-JRI-G1-8: Benátky n. J.-Ústí n. L.
END:VEVENT
BEGIN:VEVENT
UID:35666133-6364-4637-b335-376332666639
DTSTAMP:20260425T232048Z
DESCRIPTION:2/6 Ústí n. L. - Prosek 0:3 (-21\,-19\,-21)
DTSTART;TZID=Europe/Berlin:20211107T090000
DTEND;TZID=Europe/Berlin:20211107T110000
LOCATION:Hala Janáčkova konzervatoř Ostrava\, Českobratrská 958 Ostrava - M
 oravská Ostrava
SUMMARY:EX-JRI-2C: Ústí n. L.-Prosek
END:VEVENT
BEGIN:VEVENT
UID:66316261-3336-4561-b866-656163363566
DTSTAMP:20260425T232048Z
DESCRIPTION:2/8 Ústí n. L. - Nový Jičín 1:3 (24\,-15\,-19\,-23)
DTSTART;TZID=Europe/Berlin:20211107T130000
DTEND;TZID=Europe/Berlin:20211107T150000
LOCATION:Hala Janáčkova konzervatoř Ostrava\, Českobratrská 958 Ostrava - M
 oravská Ostrava
SUMMARY:EX-JRI-2C: Ústí n. L.-Nový Jičín
END:VEVENT
BEGIN:VEVENT
UID:31653465-3333-4166-b864-666463356530
DTSTAMP:20260425T232048Z
DESCRIPTION:1/3 VK Ostrava - Ústí n. L. 3:1 (17\,-23\,12\,25)
DTSTART;TZID=Europe/Berlin:20211106T140000
DTEND;TZID=Europe/Berlin:20211106T160000
LOCATION:Hala Janáčkova konzervatoř Ostrava\, Českobratrská 958 Ostrava - M
 oravská Ostrava
SUMMARY:EX-JRI-2C: VK Ostrava-Ústí n. L.
END:VEVENT
BEGIN:VEVENT
UID:61613332-3864-4261-a333-376664663935
DTSTAMP:20260425T232048Z
DESCRIPTION:1/5 Č. Budějovice - Ústí n. L. 3:0 (25\,16\,22)
DTSTART;TZID=Europe/Berlin:20211106T180000
DTEND;TZID=Europe/Berlin:20211106T200000
LOCATION:Hala Janáčkova konzervatoř Ostrava\, Českobratrská 958 Ostrava - M
 oravská Ostrava
SUMMARY:EX-JRI-2C: Č. Budějovice-Ústí n. L.
END:VEVENT
BEGIN:VEVENT
UID:31363131-3436-4532-b733-316333396566
DTSTAMP:20260425T232048Z
DESCRIPTION:1/3 Ústí n. L. - Orion 2:3 (-13\,20\,28\,-16\,-13)
DTSTART;TZID=Europe/Berlin:20211204T140000
DTEND;TZID=Europe/Berlin:20211204T160000
LOCATION:ZŠ Oskara Nedbala České Budějovice\, O. Nedbala 882 České Budějovi
 ce - České Budějovice 2
SUMMARY:EX-JRI-3D: Ústí n. L.-Orion
END:VEVENT
BEGIN:VEVENT
UID:38313237-6538-4161-b330-363031393961
DTSTAMP:20260425T232048Z
DESCRIPTION:1/5 Ústí n. L. - Kolín 1:3 (23\,-23\,-14\,-13)
DTSTART;TZID=Europe/Berlin:20211204T180000
DTEND;TZID=Europe/Berlin:20211204T200000
LOCATION:ZŠ Oskara Nedbala České Budějovice\, O. Nedbala 882 České Budějovi
 ce - České Budějovice 2
SUMMARY:EX-JRI-3D: Ústí n. L.-Kolín
END:VEVENT
BEGIN:VEVENT
UID:38306463-3366-4538-b935-303761666334
DTSTAMP:20260425T232048Z
DESCRIPTION:2/7 Č. Budějovice - Ústí n. L. 3:0 (16\,13\,9)
DTSTART;TZID=Europe/Berlin:20211205T110000
DTEND;TZID=Europe/Berlin:20211205T130000
LOCATION:ZŠ Oskara Nedbala České Budějovice\, O. Nedbala 882 České Budějovi
 ce - České Budějovice 2
SUMMARY:EX-JRI-3D: Č. Budějovice-Ústí n. L.
END:VEVENT
BEGIN:VEVENT
UID:37616335-6166-4064-a364-363639663364
DTSTAMP:20260425T232048Z
DESCRIPTION:2/9 Svitavy - Ústí n. L. 3:1 (19\,15\,-23\,18)
DTSTART;TZID=Europe/Berlin:20211205T150000
DTEND;TZID=Europe/Berlin:20211205T170000
LOCATION:ZŠ Oskara Nedbala České Budějovice\, O. Nedbala 882 České Budějovi
 ce - České Budějovice 2
SUMMARY:EX-JRI-3D: Svitavy-Ústí n. L.
END:VEVENT
BEGIN:VEVENT
UID:34663461-3764-4132-b439-336261323137
DTSTAMP:20260425T232048Z
DESCRIPTION:1/2 Ústí n. L. - Orion 0:3 (-20\,-14\,-23)
DTSTART;TZID=Europe/Berlin:20220115T100000
DTEND;TZID=Europe/Berlin:20220115T120000
LOCATION:Sportovní hala Na Střelnici\, Pražská 2162 Svitavy - Předměstí
SUMMARY:EX-JRI-4D: Ústí n. L.-Orion
END:VEVENT
BEGIN:VEVENT
UID:64653730-3631-4633-b035-393861316333
DTSTAMP:20260425T232048Z
DESCRIPTION:2/9 Ústí n. L. - Karlovarsko 3:0 (20\,19\,21)
DTSTART;TZID=Europe/Berlin:20220116T120000
DTEND;TZID=Europe/Berlin:20220116T140000
LOCATION:Sportovní hala Na Střelnici\, Pražská 2162 Svitavy - Předměstí
SUMMARY:EX-JRI-4D: Ústí n. L.-Karlovarsko
END:VEVENT
BEGIN:VEVENT
UID:62623764-6231-4463-a339-623366383133
DTSTAMP:20260425T232048Z
DESCRIPTION:1/4 Svitavy - Ústí n. L. 3:1 (-21\,15\,27\,17)
DTSTART;TZID=Europe/Berlin:20220115T130000
DTEND;TZID=Europe/Berlin:20220115T150000
LOCATION:Sportovní hala Na Střelnici\, Pražská 2162 Svitavy - Předměstí
SUMMARY:EX-JRI-4D: Svitavy-Ústí n. L.
END:VEVENT
BEGIN:VEVENT
UID:31643566-6333-4436-b736-343437396661
DTSTAMP:20260425T232048Z
DESCRIPTION:2/6 Benátky n. J. - Ústí n. L. 3:1 (-19\,10\,21\,16)
DTSTART;TZID=Europe/Berlin:20220116T090000
DTEND;TZID=Europe/Berlin:20220116T110000
LOCATION:Sportovní hala Na Střelnici\, Pražská 2162 Svitavy - Předměstí
SUMMARY:EX-JRI-4D: Benátky n. J.-Ústí n. L.
END:VEVENT
BEGIN:VEVENT
UID:39316438-6239-4461-a161-396463646465
DTSTAMP:20260425T232048Z
DESCRIPTION:2/8 Ústí n. L. - Orion 3:2 (22\,-24\,22\,-23\,16)
DTSTART;TZID=Europe/Berlin:20220213T130000
DTEND;TZID=Europe/Berlin:20220213T150000
LOCATION:hala STAV\, SOŠ Kolín\, Brankovická 1417 Kolín - Kolín V
SUMMARY:EX-JRI-5D: Ústí n. L.-Orion
END:VEVENT
BEGIN:VEVENT
UID:64616239-6130-4832-b135-313661303237
DTSTAMP:20260425T232048Z
DESCRIPTION:2/10 Ústí n. L. - Kolín 3:2 (22\,-21\,23\,-13\,12)
DTSTART;TZID=Europe/Berlin:20220213T170000
DTEND;TZID=Europe/Berlin:20220213T190000
LOCATION:hala STAV\, SOŠ Kolín\, Brankovická 1417 Kolín - Kolín V
SUMMARY:EX-JRI-5D: Ústí n. L.-Kolín
END:VEVENT
BEGIN:VEVENT
UID:63303938-6565-4538-a131-376466306339
DTSTAMP:20260425T232048Z
DESCRIPTION:1/2 Karlovarsko - Ústí n. L. 0:3 (-17\,-20\,-21)
DTSTART;TZID=Europe/Berlin:20220212T120000
DTEND;TZID=Europe/Berlin:20220212T140000
LOCATION:hala STAV\, SOŠ Kolín\, Brankovická 1417 Kolín - Kolín V
SUMMARY:EX-JRI-5D: Karlovarsko-Ústí n. L.
END:VEVENT
BEGIN:VEVENT
UID:33343861-6433-4565-b164-353565663831
DTSTAMP:20260425T232048Z
DESCRIPTION:1/5 Kojetín - Ústí n. L. 3:0 (17\,17\,21)
DTSTART;TZID=Europe/Berlin:20220212T180000
DTEND;TZID=Europe/Berlin:20220212T200000
LOCATION:hala STAV\, SOŠ Kolín\, Brankovická 1417 Kolín - Kolín V
SUMMARY:EX-JRI-5D: Kojetín-Ústí n. L.
END:VEVENT
BEGIN:VEVENT
UID:63316165-3431-4230-a432-303763663735
DTSTAMP:20260425T232048Z
DESCRIPTION:2/8 Ústí n. L. - Orion 3:2 (-19\,26\,18\,-23\,13)
DTSTART;TZID=Europe/Berlin:20220306T130000
DTEND;TZID=Europe/Berlin:20220306T150000
LOCATION:Nibe aréna\, městská sportovní hala\, 5. května 746 Benátky nad Ji
 zerou - Benátky nad Jizerou II
SUMMARY:EX-JRI-6D: Ústí n. L.-Orion
END:VEVENT
BEGIN:VEVENT
UID:30333033-3361-4662-b133-626265663433
DTSTAMP:20260425T232048Z
DESCRIPTION:2/10 Ústí n. L. - Benátky n. J. 0:3 (-12\,-22\,-21)
DTSTART;TZID=Europe/Berlin:20220306T170000
DTEND;TZID=Europe/Berlin:20220306T190000
LOCATION:Nibe aréna\, městská sportovní hala\, 5. května 746 Benátky nad Ji
 zerou - Benátky nad Jizerou II
SUMMARY:EX-JRI-6D: Ústí n. L.-Benátky n. J.
END:VEVENT
BEGIN:VEVENT
UID:37386635-6134-4062-a565-613830663865
DTSTAMP:20260425T232048Z
DESCRIPTION:1/2 Karlovarsko - Ústí n. L. 3:0 (15\,17\,14)
DTSTART;TZID=Europe/Berlin:20220305T120000
DTEND;TZID=Europe/Berlin:20220305T140000
LOCATION:Nibe aréna\, městská sportovní hala\, 5. května 746 Benátky nad Ji
 zerou - Benátky nad Jizerou II
SUMMARY:EX-JRI-6D: Karlovarsko-Ústí n. L.
END:VEVENT
BEGIN:VEVENT
UID:34383633-6433-4662-b032-396561663961
DTSTAMP:20260425T232048Z
DESCRIPTION:1/5 Kojetín - Ústí n. L. 3:0 (21\,20\,23)
DTSTART;TZID=Europe/Berlin:20220305T180000
DTEND;TZID=Europe/Berlin:20220305T200000
LOCATION:Nibe aréna\, městská sportovní hala\, 5. května 746 Benátky nad Ji
 zerou - Benátky nad Jizerou II
SUMMARY:EX-JRI-6D: Kojetín-Ústí n. L.
END:VEVENT
BEGIN:VEVENT
UID:66633936-6235-4137-b138-326636346333
DTSTAMP:20260425T232048Z
DESCRIPTION:1/4 Ústí n. L. - Plzeň 3:0 (12\,19\,17)
DTSTART;TZID=Europe/Berlin:20220507T150000
DTEND;TZID=Europe/Berlin:20220507T170000
LOCATION:Střední průmyslová škola strojní a elektro\, Resslova 210 Ústí nad
  Labem - Klíše
SUMMARY:EX-JRI-K: Ústí n. L.-Plzeň
END:VEVENT
BEGIN:VEVENT
UID:63316564-3339-4134-b030-636138313366
DTSTAMP:20260425T232048Z
DESCRIPTION:2/7 Ústí n. L. - Lanškroun 3:2 (-22\,-28\,17\,21\,7)
DTSTART;TZID=Europe/Berlin:20220508T110000
DTEND;TZID=Europe/Berlin:20220508T130000
LOCATION:Střední průmyslová škola strojní a elektro\, Resslova 210 Ústí nad
  Labem - Klíše
SUMMARY:EX-JRI-K: Ústí n. L.-Lanškroun
END:VEVENT
BEGIN:VEVENT
UID:36346361-3939-4161-b263-663631393763
DTSTAMP:20260425T232048Z
DESCRIPTION:1/1 Orion - Ústí n. L. 0:3 (-17\,-14\,-16)
DTSTART;TZID=Europe/Berlin:20220507T090000
DTEND;TZID=Europe/Berlin:20220507T110000
LOCATION:Střední průmyslová škola strojní a elektro\, Resslova 210 Ústí nad
  Labem - Klíše
SUMMARY:EX-JRI-K: Orion-Ústí n. L.
END:VEVENT
BEGIN:VEVENT
UID:35386666-3138-4566-a234-333238353130
DTSTAMP:20260425T232048Z
DESCRIPTION:2/10 Nymburk - Ústí n. L. 2:3 (29\,-20\,-20\,22\,-10)
DTSTART;TZID=Europe/Berlin:20220508T170000
DTEND;TZID=Europe/Berlin:20220508T190000
LOCATION:Střední průmyslová škola strojní a elektro\, Resslova 210 Ústí nad
  Labem - Klíše
SUMMARY:EX-JRI-K: Nymburk-Ústí n. L.
END:VEVENT
END:VCALENDAR
