BEGIN:VCALENDAR
VERSION:2.0
PRODID:-//PVK Olymp Praha75939//NONSGML kigkonsult.se iCalcreator 2.41.80//
CALSCALE:GREGORIAN
UID:36663831-3063-4365-b931-313862376632
BEGIN:VEVENT
UID:39343937-3538-4233-b233-356330616332
DTSTAMP:20260423T101139Z
DESCRIPTION:1/1 Olymp - Mikulova 3:0 (13\,10\,15)
DTSTART;TZID=Europe/Berlin:20211009T090000
DTEND;TZID=Europe/Berlin:20211009T110000
LOCATION:PVK Olymp Praha\, Přípotoční 300 Praha - Vršovice
SUMMARY:EX-JKY-1B: Olymp-Mikulova
END:VEVENT
BEGIN:VEVENT
UID:37633835-3565-4536-b530-303535393138
DTSTAMP:20260423T101139Z
DESCRIPTION:4/4 Olymp - Ostrava 0:3 (-22\,-26\,-20)
DTSTART;TZID=Europe/Berlin:20211009T150000
DTEND;TZID=Europe/Berlin:20211009T170000
LOCATION:PVK Olymp Praha\, Přípotoční 300 Praha - Vršovice
SUMMARY:EX-JKY-1B: Olymp-Ostrava
END:VEVENT
BEGIN:VEVENT
UID:64373030-3236-4535-a432-363265653431
DTSTAMP:20260423T101139Z
DESCRIPTION:10/10 Olymp - Lanškroun 3:0 (15\,17\,14)
DTSTART;TZID=Europe/Berlin:20211010T170000
DTEND;TZID=Europe/Berlin:20211010T190000
LOCATION:PVK Olymp Praha\, Přípotoční 300 Praha - Vršovice
SUMMARY:EX-JKY-1B: Olymp-Lanškroun
END:VEVENT
BEGIN:VEVENT
UID:37623132-6661-4331-a366-336161643536
DTSTAMP:20260423T101139Z
DESCRIPTION:7/7 Šternberk - Olymp 0:3 (-17\,-21\,-21)
DTSTART;TZID=Europe/Berlin:20211010T110000
DTEND;TZID=Europe/Berlin:20211010T130000
LOCATION:PVK Olymp Praha\, Přípotoční 300 Praha - Vršovice
SUMMARY:EX-JKY-1B: Šternberk-Olymp
END:VEVENT
BEGIN:VEVENT
UID:65373030-6536-4339-a632-383232393663
DTSTAMP:20260423T101139Z
DESCRIPTION:3/3 Olymp - Ostrava 3:2 (-18\,15\,16\,-21\,5)
DTSTART;TZID=Europe/Berlin:20211113T130000
DTEND;TZID=Europe/Berlin:20211113T150000
LOCATION:Městská sportovní hala Chodov\, Tyršova 1201 Chodov
SUMMARY:EX-JKY-2A: Olymp-Ostrava
END:VEVENT
BEGIN:VEVENT
UID:63336130-3136-4334-b535-376436376137
DTSTAMP:20260423T101139Z
DESCRIPTION:6/6 Olymp - Č. Budějovice 3:0 (21\,22\,13)
DTSTART;TZID=Europe/Berlin:20211114T090000
DTEND;TZID=Europe/Berlin:20211114T110000
LOCATION:Městská sportovní hala Chodov\, Tyršova 1201 Chodov
SUMMARY:EX-JKY-2A: Olymp-Č. Budějovice
END:VEVENT
BEGIN:VEVENT
UID:36653236-3834-4530-a632-616466653663
DTSTAMP:20260423T101139Z
DESCRIPTION:1/1 Chodov - Olymp 0:3 (-22\,-15\,-17)
DTSTART;TZID=Europe/Berlin:20211113T090000
DTEND;TZID=Europe/Berlin:20211113T110000
LOCATION:Městská sportovní hala Chodov\, Tyršova 1201 Chodov
SUMMARY:EX-JKY-2A: Chodov-Olymp
END:VEVENT
BEGIN:VEVENT
UID:33633231-3461-4432-b864-316631383562
DTSTAMP:20260423T101139Z
DESCRIPTION:8/8 Liberec - Olymp 1:3 (-23\,18\,-18\,-9)
DTSTART;TZID=Europe/Berlin:20211114T130000
DTEND;TZID=Europe/Berlin:20211114T150000
LOCATION:Městská sportovní hala Chodov\, Tyršova 1201 Chodov
SUMMARY:EX-JKY-2A: Liberec-Olymp
END:VEVENT
BEGIN:VEVENT
UID:37343466-3566-4635-a238-386538356663
DTSTAMP:20260423T101139Z
DESCRIPTION:11/1 Olymp - Liberec 0:3 (-27\,-20\,-23)
DTSTART;TZID=Europe/Berlin:20211211T100000
DTEND;TZID=Europe/Berlin:20211211T120000
LOCATION:PVK Olymp Praha\, Přípotoční 300 Praha - Vršovice
SUMMARY:EX-JKY-3A: Olymp-Liberec
END:VEVENT
BEGIN:VEVENT
UID:37353439-3139-4538-b436-353965346634
DTSTAMP:20260423T101139Z
DESCRIPTION:14/4 Olymp - Šternberk 3:0 (0\,0\,0)\nOdloženo covid
DTSTART;TZID=Europe/Berlin:20211228T150000
DTEND;TZID=Europe/Berlin:20211228T170000
LOCATION:PVK Olymp Praha\, Přípotoční 300 Praha - Vršovice
SUMMARY:EX-JKY-3A: Olymp-Šternberk
END:VEVENT
BEGIN:VEVENT
UID:35336263-6336-4930-a638-383837393166
DTSTAMP:20260423T101139Z
DESCRIPTION:20/10 Olymp - Chodov 3:0 (20\,14\,20)
DTSTART;TZID=Europe/Berlin:20211211T173000
DTEND;TZID=Europe/Berlin:20211211T193000
LOCATION:PVK Olymp Praha\, Přípotoční 300 Praha - Vršovice
SUMMARY:EX-JKY-3A: Olymp-Chodov
END:VEVENT
BEGIN:VEVENT
UID:65356264-3735-4739-b235-323961393934
DTSTAMP:20260423T101139Z
DESCRIPTION:17/7 Ostrava - Olymp 0:3 (-22\,-20\,-22)
DTSTART;TZID=Europe/Berlin:20211212T100000
DTEND;TZID=Europe/Berlin:20211212T120000
LOCATION:PVK Olymp Praha\, Přípotoční 300 Praha - Vršovice
SUMMARY:EX-JKY-3A: Ostrava-Olymp
END:VEVENT
BEGIN:VEVENT
UID:31383836-3364-4234-b563-303861613634
DTSTAMP:20260423T101139Z
DESCRIPTION:25/5 Olymp - Plzeň 2:3 (23\,-22\,-22\,20\,-13)
DTSTART;TZID=Europe/Berlin:20220108T170000
DTEND;TZID=Europe/Berlin:20220108T190000
LOCATION:Hala míčových sportů\, Varenská 3098 Ostrava - Moravská Ostrava
SUMMARY:EX-JKY-4A: Olymp-Plzeň
END:VEVENT
BEGIN:VEVENT
UID:32386439-3830-4138-b365-303162366431
DTSTAMP:20260423T101139Z
DESCRIPTION:28/8 Olymp - Kr. Pole 3:1 (15\,-19\,10\,16)
DTSTART;TZID=Europe/Berlin:20220109T130000
DTEND;TZID=Europe/Berlin:20220109T150000
LOCATION:Hala míčových sportů\, Varenská 3098 Ostrava - Moravská Ostrava
SUMMARY:EX-JKY-4A: Olymp-Kr. Pole
END:VEVENT
BEGIN:VEVENT
UID:37306266-3338-4536-b331-326361333139
DTSTAMP:20260423T101139Z
DESCRIPTION:22/2 Liberec - Olymp 2:3 (-18\,21\,21\,-12\,-13)
DTSTART;TZID=Europe/Berlin:20220108T110000
DTEND;TZID=Europe/Berlin:20220108T130000
LOCATION:Hala míčových sportů\, Varenská 3098 Ostrava - Moravská Ostrava
SUMMARY:EX-JKY-4A: Liberec-Olymp
END:VEVENT
BEGIN:VEVENT
UID:62393136-3663-4537-b734-383563393066
DTSTAMP:20260423T101139Z
DESCRIPTION:30/10 Ostrava - Olymp 0:3 (-17\,-12\,-11)
DTSTART;TZID=Europe/Berlin:20220107T180000
DTEND;TZID=Europe/Berlin:20220107T200000
LOCATION:Hala míčových sportů\, Varenská 3098 Ostrava - Moravská Ostrava
SUMMARY:EX-JKY-4A: Ostrava-Olymp
END:VEVENT
BEGIN:VEVENT
UID:30336561-3630-4936-b238-663762316531
DTSTAMP:20260423T101139Z
DESCRIPTION:33/3 Olymp - Ostrava 3:0 (12\,21\,15)
DTSTART;TZID=Europe/Berlin:20220212T130000
DTEND;TZID=Europe/Berlin:20220212T150000
LOCATION:Městská sportovní hala\, U Přehrady 4747 Jablonec nad Nisou
SUMMARY:EX-JKY-5A: Olymp-Ostrava
END:VEVENT
BEGIN:VEVENT
UID:30326332-3664-4238-b538-366531396330
DTSTAMP:20260423T101139Z
DESCRIPTION:36/6 Olymp - Šternberk 3:0 (22\,21\,10)
DTSTART;TZID=Europe/Berlin:20220213T090000
DTEND;TZID=Europe/Berlin:20220213T110000
LOCATION:Městská sportovní hala\, U Přehrady 4747 Jablonec nad Nisou
SUMMARY:EX-JKY-5A: Olymp-Šternberk
END:VEVENT
BEGIN:VEVENT
UID:64346234-6139-4039-a430-613132646634
DTSTAMP:20260423T101139Z
DESCRIPTION:31/1 Liberec - Olymp 3:0 (23\,19\,22)
DTSTART;TZID=Europe/Berlin:20220212T090000
DTEND;TZID=Europe/Berlin:20220212T110000
LOCATION:Městská sportovní hala\, U Přehrady 4747 Jablonec nad Nisou
SUMMARY:EX-JKY-5A: Liberec-Olymp
END:VEVENT
BEGIN:VEVENT
UID:66333833-6439-4438-a163-656536303066
DTSTAMP:20260423T101139Z
DESCRIPTION:38/8 Kr. Pole - Olymp 0:3 (-16\,-20\,-24)
DTSTART;TZID=Europe/Berlin:20220213T130000
DTEND;TZID=Europe/Berlin:20220213T150000
LOCATION:Městská sportovní hala\, U Přehrady 4747 Jablonec nad Nisou
SUMMARY:EX-JKY-5A: Kr. Pole-Olymp
END:VEVENT
BEGIN:VEVENT
UID:34396665-3132-4131-b165-636535653864
DTSTAMP:20260423T101139Z
DESCRIPTION:43/3 Olymp - Chodov 3:0 (0\,0\,0)\nOdloženo covid
DTSTART;TZID=Europe/Berlin:20220226T130000
DTEND;TZID=Europe/Berlin:20220226T150000
LOCATION:UP Olomouc\, U sportovní haly 38 Olomouc - Lazce
SUMMARY:EX-JKY-6A: Olymp-Chodov
END:VEVENT
BEGIN:VEVENT
UID:63393738-6561-4766-b064-643033363538
DTSTAMP:20260423T101139Z
DESCRIPTION:46/6 Olymp - Plzeň 3:0 (17\,21\,20)
DTSTART;TZID=Europe/Berlin:20220227T100000
DTEND;TZID=Europe/Berlin:20220227T120000
LOCATION:UP Olomouc\, U sportovní haly 38 Olomouc - Lazce
SUMMARY:EX-JKY-6A: Olymp-Plzeň
END:VEVENT
BEGIN:VEVENT
UID:64643333-6365-4166-b034-303032626331
DTSTAMP:20260423T101139Z
DESCRIPTION:41/1 Šternberk - Olymp 3:0 (19\,15\,19)
DTSTART;TZID=Europe/Berlin:20220226T100000
DTEND;TZID=Europe/Berlin:20220226T120000
LOCATION:UP Olomouc\, U sportovní haly 38 Olomouc - Lazce
SUMMARY:EX-JKY-6A: Šternberk-Olymp
END:VEVENT
BEGIN:VEVENT
UID:36383137-3562-4266-a231-363932643437
DTSTAMP:20260423T101139Z
DESCRIPTION:48/8 Liberec - Olymp 3:1 (-17\,17\,23\,18)
DTSTART;TZID=Europe/Berlin:20220227T123000
DTEND;TZID=Europe/Berlin:20220227T143000
LOCATION:UP Olomouc\, U sportovní haly 38 Olomouc - Lazce
SUMMARY:EX-JKY-6A: Liberec-Olymp
END:VEVENT
BEGIN:VEVENT
UID:61323361-6131-4634-a135-663333653433
DTSTAMP:20260423T101139Z
DESCRIPTION:53/3 Olymp - Liberec 1:3 (22\,-21\,-20\,-20)
DTSTART;TZID=Europe/Berlin:20220423T130000
DTEND;TZID=Europe/Berlin:20220423T150000
LOCATION:Ecce Homo Šternberk\, Dvorská 2515 Šternberk
SUMMARY:EX-JKY-7A: Olymp-Liberec
END:VEVENT
BEGIN:VEVENT
UID:34383661-3934-4663-b834-343662323337
DTSTAMP:20260423T101139Z
DESCRIPTION:56/6 Olymp - Kr. Pole 3:2 (-15\,16\,12\,-20\,11)
DTSTART;TZID=Europe/Berlin:20220424T090000
DTEND;TZID=Europe/Berlin:20220424T110000
LOCATION:Ecce Homo Šternberk\, Dvorská 2515 Šternberk
SUMMARY:EX-JKY-7A: Olymp-Kr. Pole
END:VEVENT
BEGIN:VEVENT
UID:36393264-3439-4639-a130-613665666461
DTSTAMP:20260423T101139Z
DESCRIPTION:51/1 Šternberk - Olymp 1:3 (-22\,22\,-24\,-24)
DTSTART;TZID=Europe/Berlin:20220423T090000
DTEND;TZID=Europe/Berlin:20220423T110000
LOCATION:Ecce Homo Šternberk\, Dvorská 2515 Šternberk
SUMMARY:EX-JKY-7A: Šternberk-Olymp
END:VEVENT
BEGIN:VEVENT
UID:61393031-3464-4362-a333-313235343338
DTSTAMP:20260423T101139Z
DESCRIPTION:58/8 Plzeň - Olymp 1:3 (21\,-18\,-21\,-10)
DTSTART;TZID=Europe/Berlin:20220424T130000
DTEND;TZID=Europe/Berlin:20220424T150000
LOCATION:Ecce Homo Šternberk\, Dvorská 2515 Šternberk
SUMMARY:EX-JKY-7A: Plzeň-Olymp
END:VEVENT
BEGIN:VEVENT
UID:32326232-6538-4962-b261-613934343134
DTSTAMP:20260423T101139Z
DESCRIPTION:1/1 Olymp - Kr. Pole 2:3 (-13\,21\,21\,-17\,-11)
DTSTART;TZID=Europe/Berlin:20220505T183000
DTEND;TZID=Europe/Berlin:20220505T203000
LOCATION:Dukla Liberec\, Jeronýmova 558 Liberec - Liberec VII-Horní Růžodol
SUMMARY:EX-JKY-FII: Olymp-Kr. Pole
END:VEVENT
BEGIN:VEVENT
UID:63393362-3963-4235-a666-653337303530
DTSTAMP:20260423T101139Z
DESCRIPTION:3/3 Olymp - Ostrava 3:0 (12\,20\,13)
DTSTART;TZID=Europe/Berlin:20220506T183000
DTEND;TZID=Europe/Berlin:20220506T203000
LOCATION:Dukla Liberec\, Jeronýmova 558 Liberec - Liberec VII-Horní Růžodol
SUMMARY:EX-JKY-FII: Olymp-Ostrava
END:VEVENT
BEGIN:VEVENT
UID:33303638-3263-4637-a362-363161323863
DTSTAMP:20260423T101139Z
DESCRIPTION:4/4 Olymp - Chodov 3:0 (19\,14\,17)\no 3. místo
DTSTART;TZID=Europe/Berlin:20220508T120000
DTEND;TZID=Europe/Berlin:20220508T140000
LOCATION:PVK Olymp Praha\, Přípotoční 300 Praha - Vršovice
SUMMARY:EX-JKY-F: Olymp-Chodov
END:VEVENT
BEGIN:VEVENT
UID:39386133-6135-4535-b932-313531363931
DTSTAMP:20260423T101139Z
DESCRIPTION:2/2 Liberec - Olymp 3:0 (19\,21\,19)\n1 SF: 1A - 2B
DTSTART;TZID=Europe/Berlin:20220507T130000
DTEND;TZID=Europe/Berlin:20220507T150000
LOCATION:Dukla Liberec\, Jeronýmova 558 Liberec - Liberec VII-Horní Růžodol
SUMMARY:EX-JKY-F: Liberec-Olymp
END:VEVENT
END:VCALENDAR
