BEGIN:VCALENDAR
VERSION:2.0
PRODID:-//TJ Tatran Střešovice75946//NONSGML kigkonsult.se iCalcreator 2.41.80//
CALSCALE:GREGORIAN
UID:64323866-3161-4135-b934-383364366134
BEGIN:VEVENT
UID:61636438-6637-4236-b836-646138636263
DTSTAMP:20260423T042812Z
DESCRIPTION:2/2 Střešovice - Plzeň 3:2 (20\,-19\,25\,-10\,10)
DTSTART;TZID=Europe/Berlin:20211009T093000
DTEND;TZID=Europe/Berlin:20211009T113000
LOCATION:STAREZ ARÉNA VODOVA (Velká hala)\, Vodova 336 Brno - Královo Pole
SUMMARY:EX-JKY-1A: Střešovice-Plzeň
END:VEVENT
BEGIN:VEVENT
UID:65343633-6262-4865-a439-356138613561
DTSTAMP:20260423T042812Z
DESCRIPTION:9/9 Střešovice - Chodov 0:3 (-13\,-17\,-13)
DTSTART;TZID=Europe/Berlin:20211010T130000
DTEND;TZID=Europe/Berlin:20211010T150000
LOCATION:STAREZ ARÉNA VODOVA (Velká hala)\, Vodova 336 Brno - Královo Pole
SUMMARY:EX-JKY-1A: Střešovice-Chodov
END:VEVENT
BEGIN:VEVENT
UID:66396330-3761-4035-b531-323564653762
DTSTAMP:20260423T042812Z
DESCRIPTION:4/4 Kr. Pole - Střešovice 3:2 (-15\,-22\,16\,17\,6)
DTSTART;TZID=Europe/Berlin:20211009T130000
DTEND;TZID=Europe/Berlin:20211009T150000
LOCATION:STAREZ ARÉNA VODOVA (Velká hala)\, Vodova 336 Brno - Královo Pole
SUMMARY:EX-JKY-1A: Kr. Pole-Střešovice
END:VEVENT
BEGIN:VEVENT
UID:64636131-6237-4834-b835-353665333037
DTSTAMP:20260423T042812Z
DESCRIPTION:6/6 Prostějov - Střešovice 3:1 (22\,-21\,21\,19)
DTSTART;TZID=Europe/Berlin:20211010T090000
DTEND;TZID=Europe/Berlin:20211010T110000
LOCATION:STAREZ ARÉNA VODOVA (Velká hala)\, Vodova 336 Brno - Královo Pole
SUMMARY:EX-JKY-1A: Prostějov-Střešovice
END:VEVENT
BEGIN:VEVENT
UID:34383765-6266-4862-a666-346536656132
DTSTAMP:20260423T042812Z
DESCRIPTION:3/4 Střešovice - TJ Sokol Mnichovo Hradiště 2:0 (15\,13)
DTSTART;TZID=Europe/Berlin:20211016T110000
DTEND;TZID=Europe/Berlin:20211016T130000
LOCATION:TJ Tatran Střešovice\, Sibeliova 368 Praha - Střešovice
SUMMARY:CP-JKY-A: Střešovice-TJ Sokol Mnichovo Hradiště
END:VEVENT
BEGIN:VEVENT
UID:64343837-6636-4463-b863-383635333231
DTSTAMP:20260423T042812Z
DESCRIPTION:5/8 Střešovice - Volejbal Ústí n. L. 2:1 (21\,-23\,15)
DTSTART;TZID=Europe/Berlin:20211016T130000
DTEND;TZID=Europe/Berlin:20211016T150000
LOCATION:TJ Tatran Střešovice\, Sibeliova 368 Praha - Střešovice
SUMMARY:CP-JKY-A: Střešovice-Volejbal Ústí n. L.
END:VEVENT
BEGIN:VEVENT
UID:65646264-3637-4764-b039-636234646139
DTSTAMP:20260423T042812Z
DESCRIPTION:7/13 Střešovice - Břeclav 2:0 (7\,14)
DTSTART;TZID=Europe/Berlin:20211016T150000
DTEND;TZID=Europe/Berlin:20211016T170000
LOCATION:TJ Tatran Střešovice\, Sibeliova 368 Praha - Střešovice
SUMMARY:CP-JKY-A: Střešovice-Břeclav
END:VEVENT
BEGIN:VEVENT
UID:30323035-6137-4263-b236-306535323132
DTSTAMP:20260423T042812Z
DESCRIPTION:9/17 Střešovice - VSK ČK A 2:1 (-24\,4\,10)
DTSTART;TZID=Europe/Berlin:20211016T170000
DTEND;TZID=Europe/Berlin:20211016T190000
LOCATION:TJ Tatran Střešovice\, Sibeliova 368 Praha - Střešovice
SUMMARY:CP-JKY-A: Střešovice-VSK ČK A
END:VEVENT
BEGIN:VEVENT
UID:61323037-3038-4464-a665-303864643037
DTSTAMP:20260423T042812Z
DESCRIPTION:2/2 Kralupy - Střešovice 2:0 (15\,19)
DTSTART;TZID=Europe/Berlin:20211016T100000
DTEND;TZID=Europe/Berlin:20211016T120000
LOCATION:TJ KRALUPY\, z.s.\, Gen. Klapálka 1029 Kralupy nad Vltavou
SUMMARY:CP-JKY-A: Kralupy-Střešovice
END:VEVENT
BEGIN:VEVENT
UID:66623231-6130-4761-b661-313733626438
DTSTAMP:20260423T042812Z
DESCRIPTION:10/19 Praha - Střešovice 1:2 (16\,-14\,-7)
DTSTART;TZID=Europe/Berlin:20211017T100000
DTEND;TZID=Europe/Berlin:20211017T120000
LOCATION:ZŠ Žernosecká Žernosecká 3/1597
SUMMARY:CP-JKY-A: Praha-Střešovice
END:VEVENT
BEGIN:VEVENT
UID:32323230-3836-4237-b633-656335646439
DTSTAMP:20260423T042812Z
DESCRIPTION:11/24 Přerov - Střešovice 0:2 (-0\,-0)
DTSTART;TZID=Europe/Berlin:20211017T120000
DTEND;TZID=Europe/Berlin:20211017T140000
LOCATION:Městská sportovní hala\, Petřivalského 2884 Přerov - Přerov I-Měst
 o
SUMMARY:CP-JKY-A: Přerov-Střešovice
END:VEVENT
BEGIN:VEVENT
UID:32383331-3733-4764-a434-613464663531
DTSTAMP:20260423T042812Z
DESCRIPTION:1/1 Střešovice - Lvi 3:2 (-24\,-22\,24\,18\,7)
DTSTART;TZID=Europe/Berlin:20211113T140000
DTEND;TZID=Europe/Berlin:20211113T160000
LOCATION:Sportovní hala ZŠ\, náměstí Českého povstání 511 Praha - Ruzyně
SUMMARY:EX-JKY-2C: Střešovice-Lvi
END:VEVENT
BEGIN:VEVENT
UID:61393631-6163-4636-b335-396633663831
DTSTAMP:20260423T042812Z
DESCRIPTION:4/4 Střešovice - Plzeň 2:3 (21\,-23\,22\,-18\,-12)
DTSTART;TZID=Europe/Berlin:20211113T180000
DTEND;TZID=Europe/Berlin:20211113T200000
LOCATION:Sportovní hala ZŠ\, náměstí Českého povstání 511 Praha - Ruzyně
SUMMARY:EX-JKY-2C: Střešovice-Plzeň
END:VEVENT
BEGIN:VEVENT
UID:62313530-3732-4136-b063-323739643966
DTSTAMP:20260423T042812Z
DESCRIPTION:10/10 Střešovice - Mikulova 3:1 (-23\,12\,16\,26)
DTSTART;TZID=Europe/Berlin:20211112T184500
DTEND;TZID=Europe/Berlin:20211112T204500
LOCATION:Sportovní hala ZŠ\, náměstí Českého povstání 511 Praha - Ruzyně
SUMMARY:EX-JKY-2C: Střešovice-Mikulova
END:VEVENT
BEGIN:VEVENT
UID:65633864-3530-4537-b430-613630383664
DTSTAMP:20260423T042812Z
DESCRIPTION:7/7 Frýdek-Místek - Střešovice 3:X
DTSTART;TZID=Europe/Berlin:20211114T133000
DTEND;TZID=Europe/Berlin:20211114T153000
LOCATION:Sportovní hala ZŠ\, náměstí Českého povstání 511 Praha - Ruzyně
SUMMARY:EX-JKY-2C: Frýdek-Místek-Střešovice
END:VEVENT
BEGIN:VEVENT
UID:35643637-6435-4966-b939-356639356236
DTSTAMP:20260423T042812Z
DESCRIPTION:4/7 Střešovice - H. Králové 2:0 (25\,17)
DTSTART;TZID=Europe/Berlin:20211120T124500
DTEND;TZID=Europe/Berlin:20211120T144500
LOCATION:TJ Tatran Střešovice\, Sibeliova 368 Praha - Střešovice
SUMMARY:CP-JKY-1A: Střešovice-H. Králové
END:VEVENT
BEGIN:VEVENT
UID:63393530-6565-4534-a332-626465616235
DTSTAMP:20260423T042812Z
DESCRIPTION:7/14 Střešovice - Lvi 2:X
DTSTART;TZID=Europe/Berlin:20211120T163000
DTEND;TZID=Europe/Berlin:20211120T183000
LOCATION:TJ Tatran Střešovice\, Sibeliova 368 Praha - Střešovice
SUMMARY:CP-JKY-1A: Střešovice-Lvi
END:VEVENT
BEGIN:VEVENT
UID:62376637-3934-4162-b461-383038363536
DTSTAMP:20260423T042812Z
DESCRIPTION:14/28 Střešovice - Kralupy 1:2 (21\,-23\,-9)
DTSTART;TZID=Europe/Berlin:20211121T144500
DTEND;TZID=Europe/Berlin:20211121T164500
LOCATION:TJ Tatran Střešovice\, Sibeliova 368 Praha - Střešovice
SUMMARY:CP-JKY-1A: Střešovice-Kralupy
END:VEVENT
BEGIN:VEVENT
UID:31356263-6636-4630-a333-343234353463
DTSTAMP:20260423T042812Z
DESCRIPTION:1/2 Lanškroun - Střešovice 2:0 (17\,16)
DTSTART;TZID=Europe/Berlin:20211120T090000
DTEND;TZID=Europe/Berlin:20211120T110000
LOCATION:SOŠ a SOU Lanškroun\, Sokolská 288 Lanškroun - Ostrovské Předměstí
SUMMARY:CP-JKY-1A: Lanškroun-Střešovice
END:VEVENT
BEGIN:VEVENT
UID:35643837-3563-4265-b730-393833623066
DTSTAMP:20260423T042812Z
DESCRIPTION:6/11 S V B C - Střešovice 2:0 (22\,20)
DTSTART;TZID=Europe/Berlin:20211120T151500
DTEND;TZID=Europe/Berlin:20211120T171500
SUMMARY:CP-JKY-1A: S V B C-Střešovice
END:VEVENT
BEGIN:VEVENT
UID:37376462-3631-4537-a664-653465656466
DTSTAMP:20260423T042812Z
DESCRIPTION:10/20 Rychnov n. K. - Střešovice 2:1 (-21\,22\,8)
DTSTART;TZID=Europe/Berlin:20211121T094500
DTEND;TZID=Europe/Berlin:20211121T114500
LOCATION:Hala VOŠ a SPŠS\, U Stadionu 1166 Rychnov nad Kněžnou
SUMMARY:CP-JKY-1A: Rychnov n. K.-Střešovice
END:VEVENT
BEGIN:VEVENT
UID:64346334-3935-4238-b431-636632306362
DTSTAMP:20260423T042812Z
DESCRIPTION:11/21 Nymburk - Střešovice 1:2 (-25\,26\,-11)
DTSTART;TZID=Europe/Berlin:20211121T110000
DTEND;TZID=Europe/Berlin:20211121T130000
LOCATION:Zimní stadion\, U Stadionu 12 Nymburk
SUMMARY:CP-JKY-1A: Nymburk-Střešovice
END:VEVENT
BEGIN:VEVENT
UID:33323331-6433-4638-a637-343430666561
DTSTAMP:20260423T042812Z
DESCRIPTION:12/2 Střešovice - Mikulova 3:1 (-23\,14\,20\,21)
DTSTART;TZID=Europe/Berlin:20211211T110000
DTEND;TZID=Europe/Berlin:20211211T130000
LOCATION:SOŠ a SOU Lanškroun\, Sokolská 288 Lanškroun - Ostrovské Předměstí
SUMMARY:EX-JKY-3C: Střešovice-Mikulova
END:VEVENT
BEGIN:VEVENT
UID:31646532-3764-4262-a639-396539653837
DTSTAMP:20260423T042812Z
DESCRIPTION:19/9 Střešovice - Lvi 3:1 (-24\,21\,22\,20)
DTSTART;TZID=Europe/Berlin:20211212T150000
DTEND;TZID=Europe/Berlin:20211212T170000
LOCATION:SOŠ a SOU Lanškroun\, Sokolská 288 Lanškroun - Ostrovské Předměstí
SUMMARY:EX-JKY-3C: Střešovice-Lvi
END:VEVENT
BEGIN:VEVENT
UID:33653763-3863-4665-b434-383132616330
DTSTAMP:20260423T042812Z
DESCRIPTION:14/4 Lanškroun - Střešovice 3:1 (23\,23\,-23\,16)
DTSTART;TZID=Europe/Berlin:20211211T150000
DTEND;TZID=Europe/Berlin:20211211T170000
LOCATION:SOŠ a SOU Lanškroun\, Sokolská 288 Lanškroun - Ostrovské Předměstí
SUMMARY:EX-JKY-3C: Lanškroun-Střešovice
END:VEVENT
BEGIN:VEVENT
UID:39333137-6631-4933-a165-386634653837
DTSTAMP:20260423T042812Z
DESCRIPTION:16/6 Přerov - Střešovice 1:3 (-20\,-20\,20\,-18)
DTSTART;TZID=Europe/Berlin:20211212T090000
DTEND;TZID=Europe/Berlin:20211212T110000
LOCATION:SOŠ a SOU Lanškroun\, Sokolská 288 Lanškroun - Ostrovské Předměstí
SUMMARY:EX-JKY-3C: Přerov-Střešovice
END:VEVENT
BEGIN:VEVENT
UID:62383134-3036-4365-b833-623161303235
DTSTAMP:20260423T042812Z
DESCRIPTION:22/2 Střešovice - Lvi 1:3 (-20\,-15\,23\,-25)
DTSTART;TZID=Europe/Berlin:20220108T110000
DTEND;TZID=Europe/Berlin:20220108T130000
LOCATION:ZŠ 1.máje 1700 Frýdek-Místek\, 1. máje 1700 Frýdek-Místek - Místek
SUMMARY:EX-JKY-4C: Střešovice-Lvi
END:VEVENT
BEGIN:VEVENT
UID:38376366-6539-4337-b033-363465306433
DTSTAMP:20260423T042812Z
DESCRIPTION:29/9 Střešovice - Mikulova 3:0 (18\,15\,19)
DTSTART;TZID=Europe/Berlin:20220109T150000
DTEND;TZID=Europe/Berlin:20220109T170000
LOCATION:ZŠ 1.máje 1700 Frýdek-Místek\, 1. máje 1700 Frýdek-Místek - Místek
SUMMARY:EX-JKY-4C: Střešovice-Mikulova
END:VEVENT
BEGIN:VEVENT
UID:34373432-3634-4635-a235-323664373738
DTSTAMP:20260423T042812Z
DESCRIPTION:24/4 Frýdek-Místek - Střešovice 3:0 (21\,25\,20)
DTSTART;TZID=Europe/Berlin:20220108T150000
DTEND;TZID=Europe/Berlin:20220108T170000
LOCATION:ZŠ 1.máje 1700 Frýdek-Místek\, 1. máje 1700 Frýdek-Místek - Místek
SUMMARY:EX-JKY-4C: Frýdek-Místek-Střešovice
END:VEVENT
BEGIN:VEVENT
UID:30313335-3866-4539-a564-326133623435
DTSTAMP:20260423T042812Z
DESCRIPTION:26/6 Lanškroun - Střešovice 3:1 (18\,-22\,15\,11)
DTSTART;TZID=Europe/Berlin:20220109T090000
DTEND;TZID=Europe/Berlin:20220109T110000
LOCATION:ZŠ 1.máje 1700 Frýdek-Místek\, 1. máje 1700 Frýdek-Místek - Místek
SUMMARY:EX-JKY-4C: Lanškroun-Střešovice
END:VEVENT
BEGIN:VEVENT
UID:30313634-3861-4634-b039-353532383931
DTSTAMP:20260423T042812Z
DESCRIPTION:1/2 Střešovice - Kralupy
DTSTART;TZID=Europe/Berlin:20220122T093000
DTEND;TZID=Europe/Berlin:20220122T113000
LOCATION:TJ Tatran Střešovice\, Sibeliova 368 Praha - Střešovice
SUMMARY:CP-JKY-2A: Střešovice-Kralupy
END:VEVENT
BEGIN:VEVENT
UID:62376366-3236-4838-a338-366238656632
DTSTAMP:20260423T042812Z
DESCRIPTION:3/5 Střešovice - Uh. Hradiště
DTSTART;TZID=Europe/Berlin:20220122T123000
DTEND;TZID=Europe/Berlin:20220122T143000
LOCATION:TJ Tatran Střešovice\, Sibeliova 368 Praha - Střešovice
SUMMARY:CP-JKY-2A: Střešovice-Uh. Hradiště
END:VEVENT
BEGIN:VEVENT
UID:39353534-3130-4630-a430-663636386432
DTSTAMP:20260423T042812Z
DESCRIPTION:4/9 Střešovice - Lanškroun
DTSTART;TZID=Europe/Berlin:20220122T140000
DTEND;TZID=Europe/Berlin:20220122T160000
LOCATION:TJ Tatran Střešovice\, Sibeliova 368 Praha - Střešovice
SUMMARY:CP-JKY-2A: Střešovice-Lanškroun
END:VEVENT
BEGIN:VEVENT
UID:62663964-3565-4535-b033-343966653535
DTSTAMP:20260423T042812Z
DESCRIPTION:5/13 Střešovice - H. Králové
DTSTART;TZID=Europe/Berlin:20220122T153000
DTEND;TZID=Europe/Berlin:20220122T173000
LOCATION:TJ Tatran Střešovice\, Sibeliova 368 Praha - Střešovice
SUMMARY:CP-JKY-2A: Střešovice-H. Králové
END:VEVENT
BEGIN:VEVENT
UID:64663237-6236-4532-b639-396566303433
DTSTAMP:20260423T042812Z
DESCRIPTION:7/17 S V B C - Střešovice
DTSTART;TZID=Europe/Berlin:20220122T183000
DTEND;TZID=Europe/Berlin:20220122T203000
SUMMARY:CP-JKY-2A: S V B C-Střešovice
END:VEVENT
BEGIN:VEVENT
UID:36623939-3631-4638-b264-343564326334
DTSTAMP:20260423T042812Z
DESCRIPTION:8/21 Orion A - Střešovice
DTSTART;TZID=Europe/Berlin:20220123T090000
DTEND;TZID=Europe/Berlin:20220123T110000
LOCATION:ZŠ Dolní Břežany\, Na Vršku 290 Dolní Břežany
SUMMARY:CP-JKY-2A: Orion A-Střešovice
END:VEVENT
BEGIN:VEVENT
UID:63396231-6632-4138-a464-666366396266
DTSTAMP:20260423T042812Z
DESCRIPTION:9/25 Nymburk - Střešovice
DTSTART;TZID=Europe/Berlin:20220123T103000
DTEND;TZID=Europe/Berlin:20220123T123000
LOCATION:Zimní stadion\, U Stadionu 12 Nymburk
SUMMARY:CP-JKY-2A: Nymburk-Střešovice
END:VEVENT
BEGIN:VEVENT
UID:31613465-3236-4833-b530-323362303234
DTSTAMP:20260423T042812Z
DESCRIPTION:33/3 Střešovice - Frýdek-Místek 0:3 (-20\,-23\,-16)
DTSTART;TZID=Europe/Berlin:20220212T130000
DTEND;TZID=Europe/Berlin:20220212T150000
LOCATION:ZŠ Oskara Nedbala České Budějovice\, O. Nedbala 882 České Budějovi
 ce - České Budějovice 2
SUMMARY:EX-JKY-5C: Střešovice-Frýdek-Místek
END:VEVENT
BEGIN:VEVENT
UID:39653737-6134-4135-a534-303661636563
DTSTAMP:20260423T042812Z
DESCRIPTION:36/6 Střešovice - Prostějov 1:3 (-23\,22\,-13\,-22)
DTSTART;TZID=Europe/Berlin:20220213T090000
DTEND;TZID=Europe/Berlin:20220213T110000
LOCATION:ZŠ Oskara Nedbala České Budějovice\, O. Nedbala 882 České Budějovi
 ce - České Budějovice 2
SUMMARY:EX-JKY-5C: Střešovice-Prostějov
END:VEVENT
BEGIN:VEVENT
UID:39663431-3164-4330-b738-366435363238
DTSTAMP:20260423T042812Z
DESCRIPTION:31/1 Č. Budějovice - Střešovice 1:3 (-17\,17\,-15\,-20)
DTSTART;TZID=Europe/Berlin:20220212T090000
DTEND;TZID=Europe/Berlin:20220212T110000
LOCATION:ZŠ Oskara Nedbala České Budějovice\, O. Nedbala 882 České Budějovi
 ce - České Budějovice 2
SUMMARY:EX-JKY-5C: Č. Budějovice-Střešovice
END:VEVENT
BEGIN:VEVENT
UID:65636132-3435-4836-a236-643964386361
DTSTAMP:20260423T042812Z
DESCRIPTION:38/8 Mikulova - Střešovice 1:3 (-13\,-21\,19\,-19)
DTSTART;TZID=Europe/Berlin:20220213T130000
DTEND;TZID=Europe/Berlin:20220213T150000
LOCATION:ZŠ Oskara Nedbala České Budějovice\, O. Nedbala 882 České Budějovi
 ce - České Budějovice 2
SUMMARY:EX-JKY-5C: Mikulova-Střešovice
END:VEVENT
BEGIN:VEVENT
UID:66313836-3661-4936-b333-646365356261
DTSTAMP:20260423T042812Z
DESCRIPTION:43/3 Střešovice - Frýdek-Místek 3:1 (23\,-25\,12\,23)
DTSTART;TZID=Europe/Berlin:20220226T130000
DTEND;TZID=Europe/Berlin:20220226T150000
LOCATION:Sportovní hala ZŠ\, náměstí Českého povstání 511 Praha - Ruzyně
SUMMARY:EX-JKY-6C: Střešovice-Frýdek-Místek
END:VEVENT
BEGIN:VEVENT
UID:61633539-6130-4063-b861-396136626132
DTSTAMP:20260423T042812Z
DESCRIPTION:46/6 Střešovice - Č. Budějovice 3:2 (18\,-8\,19\,-17\,17)
DTSTART;TZID=Europe/Berlin:20220227T090000
DTEND;TZID=Europe/Berlin:20220227T110000
LOCATION:Sportovní hala ZŠ\, náměstí Českého povstání 511 Praha - Ruzyně
SUMMARY:EX-JKY-6C: Střešovice-Č. Budějovice
END:VEVENT
BEGIN:VEVENT
UID:61313866-3434-4164-b664-323963643238
DTSTAMP:20260423T042812Z
DESCRIPTION:41/1 Lvi - Střešovice 1:3 (23\,-22\,-17\,-15)
DTSTART;TZID=Europe/Berlin:20220226T090000
DTEND;TZID=Europe/Berlin:20220226T110000
LOCATION:Sportovní hala ZŠ\, náměstí Českého povstání 511 Praha - Ruzyně
SUMMARY:EX-JKY-6C: Lvi-Střešovice
END:VEVENT
BEGIN:VEVENT
UID:30636631-6536-4334-a561-393739613237
DTSTAMP:20260423T042812Z
DESCRIPTION:48/8 Mikulova - Střešovice 2:3 (19\,22\,-17\,-17\,-12)
DTSTART;TZID=Europe/Berlin:20220227T130000
DTEND;TZID=Europe/Berlin:20220227T150000
LOCATION:Sportovní hala ZŠ\, náměstí Českého povstání 511 Praha - Ruzyně
SUMMARY:EX-JKY-6C: Mikulova-Střešovice
END:VEVENT
BEGIN:VEVENT
UID:63313031-3231-4531-b336-626634613730
DTSTAMP:20260423T042812Z
DESCRIPTION:1/2 Střešovice - Nymburk 0:2 (-14\,-16)
DTSTART;TZID=Europe/Berlin:20220219T090000
DTEND;TZID=Europe/Berlin:20220219T110000
LOCATION:TJ Tatran Střešovice\, Sibeliova 368 Praha - Střešovice
SUMMARY:CP-JKY-3A: Střešovice-Nymburk
END:VEVENT
BEGIN:VEVENT
UID:62626563-3562-4132-b532-353164313061
DTSTAMP:20260423T042812Z
DESCRIPTION:3/5 Střešovice - Uh. Hradiště 0:2 (-22\,-21)
DTSTART;TZID=Europe/Berlin:20220219T113000
DTEND;TZID=Europe/Berlin:20220219T133000
LOCATION:TJ Tatran Střešovice\, Sibeliova 368 Praha - Střešovice
SUMMARY:CP-JKY-3A: Střešovice-Uh. Hradiště
END:VEVENT
BEGIN:VEVENT
UID:64356536-3566-4261-b032-343566313131
DTSTAMP:20260423T042812Z
DESCRIPTION:5/10 Střešovice - Lanškroun 0:2 (-13\,-19)
DTSTART;TZID=Europe/Berlin:20220219T140000
DTEND;TZID=Europe/Berlin:20220219T160000
LOCATION:TJ Tatran Střešovice\, Sibeliova 368 Praha - Střešovice
SUMMARY:CP-JKY-3A: Střešovice-Lanškroun
END:VEVENT
BEGIN:VEVENT
UID:30616636-3233-4336-b835-646234613332
DTSTAMP:20260423T042812Z
DESCRIPTION:7/13 Střešovice - Orion A 0:2 (-20\,-26)
DTSTART;TZID=Europe/Berlin:20220219T163000
DTEND;TZID=Europe/Berlin:20220219T183000
LOCATION:TJ Tatran Střešovice\, Sibeliova 368 Praha - Střešovice
SUMMARY:CP-JKY-3A: Střešovice-Orion A
END:VEVENT
BEGIN:VEVENT
UID:66346435-3765-4037-b833-653736633430
DTSTAMP:20260423T042812Z
DESCRIPTION:9/17 S V B C - Střešovice 2:1 (-22\,12\,7)
DTSTART;TZID=Europe/Berlin:20220219T190000
DTEND;TZID=Europe/Berlin:20220219T210000
SUMMARY:CP-JKY-3A: S V B C-Střešovice
END:VEVENT
BEGIN:VEVENT
UID:63386230-3335-4662-a263-346361313463
DTSTAMP:20260423T042812Z
DESCRIPTION:10/19 H. Králové - Střešovice 2:0 (15\,21)
DTSTART;TZID=Europe/Berlin:20220220T130000
DTEND;TZID=Europe/Berlin:20220220T150000
LOCATION:TJ Slavia Hradec Králové\, Víta Nejedlého 1216 Hradec Králové
SUMMARY:CP-JKY-3A: H. Králové-Střešovice
END:VEVENT
BEGIN:VEVENT
UID:30643734-6133-4966-a133-396661626335
DTSTAMP:20260423T042812Z
DESCRIPTION:13/25 Kralupy - Střešovice 2:1 (26\,-21\,10)
DTSTART;TZID=Europe/Berlin:20220220T114500
DTEND;TZID=Europe/Berlin:20220220T134500
LOCATION:TJ KRALUPY\, z.s.\, Gen. Klapálka 1029 Kralupy nad Vltavou
SUMMARY:CP-JKY-3A: Kralupy-Střešovice
END:VEVENT
BEGIN:VEVENT
UID:61383433-3766-4236-a533-323562306636
DTSTAMP:20260423T042812Z
DESCRIPTION:55/5 Střešovice - Ostrava 0:3 (-15\,-23\,-13)
DTSTART;TZID=Europe/Berlin:20220423T170000
DTEND;TZID=Europe/Berlin:20220423T190000
LOCATION:Nová sportovní hala ISŠTE Sokolov\, Jednoty 1620 Sokolov
SUMMARY:EX-JKY-7B: Střešovice-Ostrava
END:VEVENT
BEGIN:VEVENT
UID:36663730-3534-4239-b762-386139646665
DTSTAMP:20260423T042812Z
DESCRIPTION:58/8 Střešovice - Č. Budějovice 3:0 (17\,14\,21)
DTSTART;TZID=Europe/Berlin:20220424T130000
DTEND;TZID=Europe/Berlin:20220424T150000
LOCATION:Nová sportovní hala ISŠTE Sokolov\, Jednoty 1620 Sokolov
SUMMARY:EX-JKY-7B: Střešovice-Č. Budějovice
END:VEVENT
BEGIN:VEVENT
UID:33396336-3966-4636-b630-376438663161
DTSTAMP:20260423T042812Z
DESCRIPTION:52/2 Lanškroun - Střešovice 3:1 (23\,-21\,22\,19)
DTSTART;TZID=Europe/Berlin:20220423T110000
DTEND;TZID=Europe/Berlin:20220423T130000
LOCATION:Nová sportovní hala ISŠTE Sokolov\, Jednoty 1620 Sokolov
SUMMARY:EX-JKY-7B: Lanškroun-Střešovice
END:VEVENT
BEGIN:VEVENT
UID:34333834-6532-4038-b061-393938366366
DTSTAMP:20260423T042812Z
DESCRIPTION:60/10 Chodov - Střešovice 2:3 (-13\,24\,-20\,26\,-14)
DTSTART;TZID=Europe/Berlin:20220424T170000
DTEND;TZID=Europe/Berlin:20220424T190000
LOCATION:Nová sportovní hala ISŠTE Sokolov\, Jednoty 1620 Sokolov
SUMMARY:EX-JKY-7B: Chodov-Střešovice
END:VEVENT
BEGIN:VEVENT
UID:33363038-6565-4636-a335-626339316661
DTSTAMP:20260423T042812Z
DESCRIPTION:4/4 Střešovice - Prostějov 0:3 (-22\,-21\,-14)
DTSTART;TZID=Europe/Berlin:20220507T170000
DTEND;TZID=Europe/Berlin:20220507T190000
LOCATION:Národní sportovní centrum\, Za velodromem 4187 Prostějov
SUMMARY:EX-JKY-K: Střešovice-Prostějov
END:VEVENT
BEGIN:VEVENT
UID:61356466-3038-4934-b039-323930646161
DTSTAMP:20260423T042812Z
DESCRIPTION:5/5 Střešovice - Hlincovka 3:1 (14\,-23\,19\,17)
DTSTART;TZID=Europe/Berlin:20220508T100000
DTEND;TZID=Europe/Berlin:20220508T120000
LOCATION:Národní sportovní centrum\, Za velodromem 4187 Prostějov
SUMMARY:EX-JKY-K: Střešovice-Hlincovka
END:VEVENT
BEGIN:VEVENT
UID:37633238-6261-4131-b737-653063393435
DTSTAMP:20260423T042812Z
DESCRIPTION:2/2 Bižuterie - Střešovice 2:3 (-26\,25\,-15\,18\,-15)
DTSTART;TZID=Europe/Berlin:20220507T120000
DTEND;TZID=Europe/Berlin:20220507T140000
LOCATION:Národní sportovní centrum\, Za velodromem 4187 Prostějov
SUMMARY:EX-JKY-K: Bižuterie-Střešovice
END:VEVENT
BEGIN:VEVENT
UID:32313638-3463-4263-a237-663836353664
DTSTAMP:20260423T042812Z
DESCRIPTION:1/2 Střešovice - VK Brno 0:2 (-22\,-19)
DTSTART;TZID=Europe/Berlin:20220319T090000
DTEND;TZID=Europe/Berlin:20220319T110000
LOCATION:TJ Tatran Střešovice\, Sibeliova 368 Praha - Střešovice
SUMMARY:CP-JKY-4B: Střešovice-VK Brno
END:VEVENT
BEGIN:VEVENT
UID:30646165-3662-4934-b631-383461666264
DTSTAMP:20260423T042812Z
DESCRIPTION:4/8 Střešovice - Praha 1:2 (-24\,23\,-1)
DTSTART;TZID=Europe/Berlin:20220319T120000
DTEND;TZID=Europe/Berlin:20220319T140000
LOCATION:TJ Tatran Střešovice\, Sibeliova 368 Praha - Střešovice
SUMMARY:CP-JKY-4B: Střešovice-Praha
END:VEVENT
BEGIN:VEVENT
UID:63643737-6262-4536-a566-636133613632
DTSTAMP:20260423T042812Z
DESCRIPTION:12/24 Střešovice - Žatec 2:0 (18\,14)
DTSTART;TZID=Europe/Berlin:20220320T093000
DTEND;TZID=Europe/Berlin:20220320T113000
LOCATION:TJ Tatran Střešovice\, Sibeliova 368 Praha - Střešovice
SUMMARY:CP-JKY-4B: Střešovice-Žatec
END:VEVENT
BEGIN:VEVENT
UID:33663937-3361-4034-b836-613062393338
DTSTAMP:20260423T042812Z
DESCRIPTION:6/11 Volejbal Ústí n. L. - Střešovice 0:2 (-16\,-20)
DTSTART;TZID=Europe/Berlin:20220319T140000
DTEND;TZID=Europe/Berlin:20220319T160000
LOCATION:Gymnázium a SOŠ Dr. Václava Šmejkala Stará 99\, 400 11 Ústí nad La
 bem-Severní Terasa
SUMMARY:CP-JKY-4B: Volejbal Ústí n. L.-Střešovice
END:VEVENT
BEGIN:VEVENT
UID:65343439-3861-4230-b930-333165356462
DTSTAMP:20260423T042812Z
DESCRIPTION:7/13 Orion A - Střešovice 1:2 (19\,-13\,-12)
DTSTART;TZID=Europe/Berlin:20220319T150000
DTEND;TZID=Europe/Berlin:20220319T170000
LOCATION:ZŠ Dolní Břežany\, Na Vršku 290 Dolní Břežany
SUMMARY:CP-JKY-4B: Orion A-Střešovice
END:VEVENT
BEGIN:VEVENT
UID:36626135-6166-4563-a462-383533386461
DTSTAMP:20260423T042812Z
DESCRIPTION:9/18 SK Třebín A - Střešovice 2:1 (-19\,14\,7)
DTSTART;TZID=Europe/Berlin:20220319T170000
DTEND;TZID=Europe/Berlin:20220319T190000
LOCATION:ZŠ Máj I\, M. Chlajna 1319 České Budějovice - České Budějovice 2
SUMMARY:CP-JKY-4B: SK Třebín A-Střešovice
END:VEVENT
BEGIN:VEVENT
UID:35616161-3032-4135-b930-376161656239
DTSTAMP:20260423T042812Z
DESCRIPTION:14/28 Jirkov - Střešovice 0:2 (-21\,-16)
DTSTART;TZID=Europe/Berlin:20220320T113000
DTEND;TZID=Europe/Berlin:20220320T133000
LOCATION:Sportovní hala MG a ZŠ Jirkov\, Krušnohorská 1675 Jirkov
SUMMARY:CP-JKY-4B: Jirkov-Střešovice
END:VEVENT
END:VCALENDAR
