BEGIN:VCALENDAR
VERSION:2.0
PRODID:-//VK Prostějov75953//NONSGML kigkonsult.se iCalcreator 2.41.80//
CALSCALE:GREGORIAN
UID:30653065-6432-4535-b238-323864643538
BEGIN:VEVENT
UID:66383830-3466-4262-b337-356437356539
DTSTAMP:20260423T042829Z
DESCRIPTION:3/3 Prostějov - Chodov 0:3 (-18\,-14\,-24)
DTSTART;TZID=Europe/Berlin:20211009T093000
DTEND;TZID=Europe/Berlin:20211009T113000
LOCATION:STAREZ ARÉNA VODOVA (Velká hala)\, Vodova 336 Brno - Královo Pole
SUMMARY:EX-JKY-1A: Prostějov-Chodov
END:VEVENT
BEGIN:VEVENT
UID:33336634-3536-4261-b066-653735316633
DTSTAMP:20260423T042829Z
DESCRIPTION:6/6 Prostějov - Střešovice 3:1 (22\,-21\,21\,19)
DTSTART;TZID=Europe/Berlin:20211010T090000
DTEND;TZID=Europe/Berlin:20211010T110000
LOCATION:STAREZ ARÉNA VODOVA (Velká hala)\, Vodova 336 Brno - Královo Pole
SUMMARY:EX-JKY-1A: Prostějov-Střešovice
END:VEVENT
BEGIN:VEVENT
UID:33666665-6465-4235-b537-333761653535
DTSTAMP:20260423T042829Z
DESCRIPTION:1/1 Kr. Pole - Prostějov 3:2 (19\,-24\,-25\,17\,14)\nHráno na S
 G Botanická
DTSTART;TZID=Europe/Berlin:20211008T180000
DTEND;TZID=Europe/Berlin:20211008T200000
LOCATION:STAREZ ARÉNA VODOVA (Velká hala)\, Vodova 336 Brno - Královo Pole
SUMMARY:EX-JKY-1A: Kr. Pole-Prostějov
END:VEVENT
BEGIN:VEVENT
UID:30633665-3564-4535-b831-313936626533
DTSTAMP:20260423T042829Z
DESCRIPTION:8/8 Plzeň - Prostějov 0:3 (-17\,-14\,-21)
DTSTART;TZID=Europe/Berlin:20211010T120000
DTEND;TZID=Europe/Berlin:20211010T140000
LOCATION:STAREZ ARÉNA VODOVA (Velká hala)\, Vodova 336 Brno - Královo Pole
SUMMARY:EX-JKY-1A: Plzeň-Prostějov
END:VEVENT
BEGIN:VEVENT
UID:66626438-3232-4132-b061-633337656234
DTSTAMP:20260423T042829Z
DESCRIPTION:3/3 Prostějov - Lanškroun 3:1 (22\,17\,-19\,20)
DTSTART;TZID=Europe/Berlin:20211113T120000
DTEND;TZID=Europe/Berlin:20211113T140000
LOCATION:Městská sportovní hala\, Petřivalského 2884 Přerov - Přerov I-Měst
 o
SUMMARY:EX-JKY-2B: Prostějov-Lanškroun
END:VEVENT
BEGIN:VEVENT
UID:63333133-3164-4263-b463-613262373866
DTSTAMP:20260423T042829Z
DESCRIPTION:6/6 Prostějov - Kr. Pole 0:3 (-18\,-19\,-13)
DTSTART;TZID=Europe/Berlin:20211114T090000
DTEND;TZID=Europe/Berlin:20211114T110000
LOCATION:Městská sportovní hala\, Petřivalského 2884 Přerov - Přerov I-Měst
 o
SUMMARY:EX-JKY-2B: Prostějov-Kr. Pole
END:VEVENT
BEGIN:VEVENT
UID:35316661-3831-4665-b566-363937663735
DTSTAMP:20260423T042829Z
DESCRIPTION:1/1 Přerov - Prostějov 3:2 (21\,-19\,22\,-23\,15)
DTSTART;TZID=Europe/Berlin:20211112T180000
DTEND;TZID=Europe/Berlin:20211112T200000
LOCATION:Městská sportovní hala\, Petřivalského 2884 Přerov - Přerov I-Měst
 o
SUMMARY:EX-JKY-2B: Přerov-Prostějov
END:VEVENT
BEGIN:VEVENT
UID:61646631-3763-4634-b333-633934643236
DTSTAMP:20260423T042829Z
DESCRIPTION:8/8 Šternberk - Prostějov 3:0 (9\,21\,22)
DTSTART;TZID=Europe/Berlin:20211114T130000
DTEND;TZID=Europe/Berlin:20211114T150000
LOCATION:Městská sportovní hala\, Petřivalského 2884 Přerov - Přerov I-Měst
 o
SUMMARY:EX-JKY-2B: Šternberk-Prostějov
END:VEVENT
BEGIN:VEVENT
UID:32653534-3832-4165-a564-353565663733
DTSTAMP:20260423T042829Z
DESCRIPTION:12/2 Prostějov - Plzeň 1:3 (25\,-22\,-21\,-19)
DTSTART;TZID=Europe/Berlin:20211211T110000
DTEND;TZID=Europe/Berlin:20211211T130000
LOCATION:Sportovní hala ZŠ Tyršova 366\, Strmilov\, Tyršova 366 Strmilov
SUMMARY:EX-JKY-3B: Prostějov-Plzeň
END:VEVENT
BEGIN:VEVENT
UID:64383066-3732-4135-b335-666535393366
DTSTAMP:20260423T042829Z
DESCRIPTION:19/9 Prostějov - Frýdek-Místek 3:1 (16\,23\,-11\,26)
DTSTART;TZID=Europe/Berlin:20211212T150000
DTEND;TZID=Europe/Berlin:20211212T170000
LOCATION:Sportovní hala ZŠ Tyršova 366\, Strmilov\, Tyršova 366 Strmilov
SUMMARY:EX-JKY-3B: Prostějov-Frýdek-Místek
END:VEVENT
BEGIN:VEVENT
UID:66376530-3662-4035-a637-306461313166
DTSTAMP:20260423T042829Z
DESCRIPTION:14/4 Č. Budějovice - Prostějov 3:0 (20\,17\,22)
DTSTART;TZID=Europe/Berlin:20211211T150000
DTEND;TZID=Europe/Berlin:20211211T170000
LOCATION:Sportovní hala ZŠ Tyršova 366\, Strmilov\, Tyršova 366 Strmilov
SUMMARY:EX-JKY-3B: Č. Budějovice-Prostějov
END:VEVENT
BEGIN:VEVENT
UID:30306630-6661-4534-b330-333934666537
DTSTAMP:20260423T042829Z
DESCRIPTION:16/6 Kr. Pole - Prostějov 3:0 (13\,11\,23)
DTSTART;TZID=Europe/Berlin:20211212T090000
DTEND;TZID=Europe/Berlin:20211212T110000
LOCATION:Sportovní hala ZŠ Tyršova 366\, Strmilov\, Tyršova 366 Strmilov
SUMMARY:EX-JKY-3B: Kr. Pole-Prostějov
END:VEVENT
BEGIN:VEVENT
UID:30636564-6433-4962-a232-373030373733
DTSTAMP:20260423T042829Z
DESCRIPTION:21/1 Prostějov - Přerov 1:3 (-21\,-25\,22\,-26)
DTSTART;TZID=Europe/Berlin:20220112T181500
DTEND;TZID=Europe/Berlin:20220112T201500
LOCATION:Národní sportovní centrum\, Za velodromem 4187 Prostějov
SUMMARY:EX-JKY-4B: Prostějov-Přerov
END:VEVENT
BEGIN:VEVENT
UID:62653061-3537-4431-b330-623033613563
DTSTAMP:20260423T042829Z
DESCRIPTION:24/4 Prostějov - Šternberk 1:3 (24\,-17\,-20\,-17)
DTSTART;TZID=Europe/Berlin:20220104T183000
DTEND;TZID=Europe/Berlin:20220104T203000
LOCATION:Národní sportovní centrum\, Za velodromem 4187 Prostějov
SUMMARY:EX-JKY-4B: Prostějov-Šternberk
END:VEVENT
BEGIN:VEVENT
UID:38393630-3937-4066-a135-653863396533
DTSTAMP:20260423T042829Z
DESCRIPTION:30/10 Prostějov - Č. Budějovice 0:3 (-25\,-21\,-23)
DTSTART;TZID=Europe/Berlin:20220108T130000
DTEND;TZID=Europe/Berlin:20220108T150000
LOCATION:Národní sportovní centrum\, Za velodromem 4187 Prostějov
SUMMARY:EX-JKY-4B: Prostějov-Č. Budějovice
END:VEVENT
BEGIN:VEVENT
UID:36303837-6336-4730-a536-313138353834
DTSTAMP:20260423T042829Z
DESCRIPTION:27/7 Chodov - Prostějov 3:0 (25\,20\,23)
DTSTART;TZID=Europe/Berlin:20220109T160000
DTEND;TZID=Europe/Berlin:20220109T180000
LOCATION:Národní sportovní centrum\, Za velodromem 4187 Prostějov
SUMMARY:EX-JKY-4B: Chodov-Prostějov
END:VEVENT
BEGIN:VEVENT
UID:34653133-3663-4262-b962-353532653264
DTSTAMP:20260423T042829Z
DESCRIPTION:32/2 Prostějov - Mikulova 3:2 (15\,13\,-24\,-24\,9)
DTSTART;TZID=Europe/Berlin:20220212T110000
DTEND;TZID=Europe/Berlin:20220212T130000
LOCATION:ZŠ Oskara Nedbala České Budějovice\, O. Nedbala 882 České Budějovi
 ce - České Budějovice 2
SUMMARY:EX-JKY-5C: Prostějov-Mikulova
END:VEVENT
BEGIN:VEVENT
UID:35323835-3162-4739-b865-363564316265
DTSTAMP:20260423T042829Z
DESCRIPTION:39/9 Prostějov - Frýdek-Místek 3:0 (15\,17\,18)
DTSTART;TZID=Europe/Berlin:20220213T150000
DTEND;TZID=Europe/Berlin:20220213T170000
LOCATION:ZŠ Oskara Nedbala České Budějovice\, O. Nedbala 882 České Budějovi
 ce - České Budějovice 2
SUMMARY:EX-JKY-5C: Prostějov-Frýdek-Místek
END:VEVENT
BEGIN:VEVENT
UID:35306137-3834-4431-b231-663835386434
DTSTAMP:20260423T042829Z
DESCRIPTION:34/4 Č. Budějovice - Prostějov 0:3 (-9\,-14\,-25)
DTSTART;TZID=Europe/Berlin:20220212T150000
DTEND;TZID=Europe/Berlin:20220212T170000
LOCATION:ZŠ Oskara Nedbala České Budějovice\, O. Nedbala 882 České Budějovi
 ce - České Budějovice 2
SUMMARY:EX-JKY-5C: Č. Budějovice-Prostějov
END:VEVENT
BEGIN:VEVENT
UID:65303865-3436-4563-a162-653935356264
DTSTAMP:20260423T042829Z
DESCRIPTION:36/6 Střešovice - Prostějov 1:3 (-23\,22\,-13\,-22)
DTSTART;TZID=Europe/Berlin:20220213T090000
DTEND;TZID=Europe/Berlin:20220213T110000
LOCATION:ZŠ Oskara Nedbala České Budějovice\, O. Nedbala 882 České Budějovi
 ce - České Budějovice 2
SUMMARY:EX-JKY-5C: Střešovice-Prostějov
END:VEVENT
BEGIN:VEVENT
UID:36623134-3865-4763-b633-393261643462
DTSTAMP:20260423T042829Z
DESCRIPTION:43/3 Prostějov - Ostrava 1:3 (-20\,-15\,12\,-25)
DTSTART;TZID=Europe/Berlin:20220226T113000
DTEND;TZID=Europe/Berlin:20220226T133000
LOCATION:Sportovní hala Mikulov\, Na Hradbách 1474 Mikulov
SUMMARY:EX-JKY-6B: Prostějov-Ostrava
END:VEVENT
BEGIN:VEVENT
UID:62643132-6165-4965-a634-643361343630
DTSTAMP:20260423T042829Z
DESCRIPTION:46/6 Prostějov - Lanškroun 1:3 (22\,-18\,-18\,-23)
DTSTART;TZID=Europe/Berlin:20220227T110000
DTEND;TZID=Europe/Berlin:20220227T130000
LOCATION:Sportovní hala Mikulov\, Na Hradbách 1474 Mikulov
SUMMARY:EX-JKY-6B: Prostějov-Lanškroun
END:VEVENT
BEGIN:VEVENT
UID:63393332-3035-4539-b237-656661383165
DTSTAMP:20260423T042829Z
DESCRIPTION:41/1 Kr. Pole - Prostějov 3:0 (17\,17\,15)
DTSTART;TZID=Europe/Berlin:20220225T170000
DTEND;TZID=Europe/Berlin:20220225T190000
LOCATION:Sportovní hala Mikulov\, Na Hradbách 1474 Mikulov
SUMMARY:EX-JKY-6B: Kr. Pole-Prostějov
END:VEVENT
BEGIN:VEVENT
UID:32343534-6630-4666-a530-323433626533
DTSTAMP:20260423T042829Z
DESCRIPTION:48/8 Přerov - Prostějov 1:3 (-21\,-24\,23\,-16)
DTSTART;TZID=Europe/Berlin:20220227T170000
DTEND;TZID=Europe/Berlin:20220227T190000
LOCATION:Sportovní hala Mikulov\, Na Hradbách 1474 Mikulov
SUMMARY:EX-JKY-6B: Přerov-Prostějov
END:VEVENT
BEGIN:VEVENT
UID:65616162-3736-4663-b539-643239613636
DTSTAMP:20260423T042829Z
DESCRIPTION:51/1 Prostějov - Lvi 3:0 (20\,20\,21)
DTSTART;TZID=Europe/Berlin:20220423T090000
DTEND;TZID=Europe/Berlin:20220423T110000
LOCATION:Národní sportovní centrum\, Za velodromem 4187 Prostějov
SUMMARY:EX-JKY-7C: Prostějov-Lvi
END:VEVENT
BEGIN:VEVENT
UID:30386237-6162-4465-b866-396339343061
DTSTAMP:20260423T042829Z
DESCRIPTION:54/4 Prostějov - Frýdek-Místek 3:1 (17\,21\,-18\,19)
DTSTART;TZID=Europe/Berlin:20220423T150000
DTEND;TZID=Europe/Berlin:20220423T170000
LOCATION:Národní sportovní centrum\, Za velodromem 4187 Prostějov
SUMMARY:EX-JKY-7C: Prostějov-Frýdek-Místek
END:VEVENT
BEGIN:VEVENT
UID:35346565-6332-4265-a331-373766643031
DTSTAMP:20260423T042829Z
DESCRIPTION:60/10 Prostějov - Přerov 2:3 (23\,-20\,-15\,19\,-9)
DTSTART;TZID=Europe/Berlin:20220424T170000
DTEND;TZID=Europe/Berlin:20220424T190000
LOCATION:Národní sportovní centrum\, Za velodromem 4187 Prostějov
SUMMARY:EX-JKY-7C: Prostějov-Přerov
END:VEVENT
BEGIN:VEVENT
UID:32343638-3231-4239-b437-333166313863
DTSTAMP:20260423T042829Z
DESCRIPTION:57/7 Mikulova - Prostějov 0:3 (-14\,-16\,-9)
DTSTART;TZID=Europe/Berlin:20220424T110000
DTEND;TZID=Europe/Berlin:20220424T130000
LOCATION:Národní sportovní centrum\, Za velodromem 4187 Prostějov
SUMMARY:EX-JKY-7C: Mikulova-Prostějov
END:VEVENT
BEGIN:VEVENT
UID:36363737-3831-4533-a662-346536343764
DTSTAMP:20260423T042829Z
DESCRIPTION:1/1 Prostějov - Hlincovka 0:3 (-21\,-26\,-28)
DTSTART;TZID=Europe/Berlin:20220507T100000
DTEND;TZID=Europe/Berlin:20220507T120000
LOCATION:Národní sportovní centrum\, Za velodromem 4187 Prostějov
SUMMARY:EX-JKY-K: Prostějov-Hlincovka
END:VEVENT
BEGIN:VEVENT
UID:31393030-3663-4262-a134-313936646330
DTSTAMP:20260423T042829Z
DESCRIPTION:4/4 Střešovice - Prostějov 0:3 (-22\,-21\,-14)
DTSTART;TZID=Europe/Berlin:20220507T170000
DTEND;TZID=Europe/Berlin:20220507T190000
LOCATION:Národní sportovní centrum\, Za velodromem 4187 Prostějov
SUMMARY:EX-JKY-K: Střešovice-Prostějov
END:VEVENT
BEGIN:VEVENT
UID:37303762-3864-4334-b231-366566663831
DTSTAMP:20260423T042829Z
DESCRIPTION:6/6 Bižuterie - Prostějov 1:3 (-12\,-16\,14\,-17)
DTSTART;TZID=Europe/Berlin:20220508T120000
DTEND;TZID=Europe/Berlin:20220508T140000
LOCATION:Národní sportovní centrum\, Za velodromem 4187 Prostějov
SUMMARY:EX-JKY-K: Bižuterie-Prostějov
END:VEVENT
END:VCALENDAR
