BEGIN:VCALENDAR
VERSION:2.0
PRODID:-//VK MADETA České Budějovice76004//NONSGML kigkonsult.se iCalcreator 2.41.80//
CALSCALE:GREGORIAN
UID:38613139-3864-4238-a263-666462646666
BEGIN:VEVENT
UID:63313362-6331-4333-b765-383136353334
DTSTAMP:20260422T085137Z
DESCRIPTION:7/7 Č. Budějovice - Liberec 0:3 (-14\,-18\,-15)
DTSTART;TZID=Europe/Berlin:20211003T110000
DTEND;TZID=Europe/Berlin:20211003T130000
LOCATION:Dukla Liberec\, Jeronýmova 558 Liberec - Liberec VII-Horní Růžodol
SUMMARY:EX-KKY-1A: Č. Budějovice-Liberec
END:VEVENT
BEGIN:VEVENT
UID:38623064-3935-4364-b038-663233386565
DTSTAMP:20260422T085137Z
DESCRIPTION:3/3 Olymp - Č. Budějovice 3:2 (1\,-24\,-18\,9\,7)
DTSTART;TZID=Europe/Berlin:20211002T130000
DTEND;TZID=Europe/Berlin:20211002T150000
LOCATION:Dukla Liberec\, Jeronýmova 558 Liberec - Liberec VII-Horní Růžodol
SUMMARY:EX-KKY-1A: Olymp-Č. Budějovice
END:VEVENT
BEGIN:VEVENT
UID:30393436-3466-4963-b136-616565633939
DTSTAMP:20260422T085137Z
DESCRIPTION:5/5 Orion - Č. Budějovice 1:3 (-16\,-22\,20\,-13)
DTSTART;TZID=Europe/Berlin:20211002T170000
DTEND;TZID=Europe/Berlin:20211002T190000
LOCATION:Dukla Liberec\, Jeronýmova 558 Liberec - Liberec VII-Horní Růžodol
SUMMARY:EX-KKY-1A: Orion-Č. Budějovice
END:VEVENT
BEGIN:VEVENT
UID:35363438-6362-4665-b539-633661613531
DTSTAMP:20260422T085137Z
DESCRIPTION:9/9 Kralupy - Č. Budějovice 0:3 (-22\,-16\,-20)
DTSTART;TZID=Europe/Berlin:20211003T150000
DTEND;TZID=Europe/Berlin:20211003T170000
LOCATION:Dukla Liberec\, Jeronýmova 558 Liberec - Liberec VII-Horní Růžodol
SUMMARY:EX-KKY-1A: Kralupy-Č. Budějovice
END:VEVENT
BEGIN:VEVENT
UID:63343736-3238-4339-b266-376437316437
DTSTAMP:20260422T085137Z
DESCRIPTION:7/7 Č. Budějovice - Přerov 1:3 (-24\,-22\,21\,-20)
DTSTART;TZID=Europe/Berlin:20211107T110000
DTEND;TZID=Europe/Berlin:20211107T130000
LOCATION:Městská sportovní hala\, Petřivalského 2884 Přerov - Přerov I-Měst
 o
SUMMARY:EX-KKY-2B: Č. Budějovice-Přerov
END:VEVENT
BEGIN:VEVENT
UID:33643235-3438-4165-a266-616139383263
DTSTAMP:20260422T085137Z
DESCRIPTION:3/3 Frýdek-Místek - Č. Budějovice 3:2 (-20\,19\,20\,-18\,14)
DTSTART;TZID=Europe/Berlin:20211106T130000
DTEND;TZID=Europe/Berlin:20211106T150000
LOCATION:Městská sportovní hala\, Petřivalského 2884 Přerov - Přerov I-Měst
 o
SUMMARY:EX-KKY-2B: Frýdek-Místek-Č. Budějovice
END:VEVENT
BEGIN:VEVENT
UID:61333537-3839-4439-a635-633538613536
DTSTAMP:20260422T085137Z
DESCRIPTION:5/5 Střešovice - Č. Budějovice 1:3 (-9\,-14\,23\,-14)
DTSTART;TZID=Europe/Berlin:20211106T170000
DTEND;TZID=Europe/Berlin:20211106T190000
LOCATION:Městská sportovní hala\, Petřivalského 2884 Přerov - Přerov I-Měst
 o
SUMMARY:EX-KKY-2B: Střešovice-Č. Budějovice
END:VEVENT
BEGIN:VEVENT
UID:63623163-3931-4961-a532-623833663535
DTSTAMP:20260422T085137Z
DESCRIPTION:9/9 Olymp - Č. Budějovice 3:0 (14\,8\,21)
DTSTART;TZID=Europe/Berlin:20211107T150000
DTEND;TZID=Europe/Berlin:20211107T170000
LOCATION:Městská sportovní hala\, Petřivalského 2884 Přerov - Přerov I-Měst
 o
SUMMARY:EX-KKY-2B: Olymp-Č. Budějovice
END:VEVENT
BEGIN:VEVENT
UID:37623063-6365-4635-a165-363733303863
DTSTAMP:20260422T085137Z
DESCRIPTION:17/7 Č. Budějovice - Prostějov 3:1 (17\,21\,-20\,14)
DTSTART;TZID=Europe/Berlin:20211205T100000
DTEND;TZID=Europe/Berlin:20211205T120000
LOCATION:Národní sportovní centrum\, Za velodromem 4187 Prostějov
SUMMARY:EX-KKY-3C: Č. Budějovice-Prostějov
END:VEVENT
BEGIN:VEVENT
UID:64643230-3031-4638-b665-353437383230
DTSTAMP:20260422T085137Z
DESCRIPTION:13/3 Šternberk - Č. Budějovice 1:3 (-21\,-17\,19\,-29)
DTSTART;TZID=Europe/Berlin:20211204T130000
DTEND;TZID=Europe/Berlin:20211204T150000
LOCATION:Národní sportovní centrum\, Za velodromem 4187 Prostějov
SUMMARY:EX-KKY-3C: Šternberk-Č. Budějovice
END:VEVENT
BEGIN:VEVENT
UID:31363239-6233-4433-a563-313138353137
DTSTAMP:20260422T085137Z
DESCRIPTION:15/5 Olymp B - Č. Budějovice 2:3 (19\,-22\,-21\,21\,-6)\nNH: Le
 tní hala
DTSTART;TZID=Europe/Berlin:20211204T170000
DTEND;TZID=Europe/Berlin:20211204T190000
LOCATION:Národní sportovní centrum\, Za velodromem 4187 Prostějov
SUMMARY:EX-KKY-3C: Olymp B-Č. Budějovice
END:VEVENT
BEGIN:VEVENT
UID:30396465-3838-4338-b936-396463613134
DTSTAMP:20260422T085137Z
DESCRIPTION:19/9 Střešovice - Č. Budějovice 3:0 (18\,20\,21)\nNH: Letní hal
 a
DTSTART;TZID=Europe/Berlin:20211205T130000
DTEND;TZID=Europe/Berlin:20211205T150000
LOCATION:Národní sportovní centrum\, Za velodromem 4187 Prostějov
SUMMARY:EX-KKY-3C: Střešovice-Č. Budějovice
END:VEVENT
BEGIN:VEVENT
UID:37336535-6636-4835-b336-343163383663
DTSTAMP:20260422T085137Z
DESCRIPTION:21/1 Č. Budějovice - Havlíčkův Brod 3:1 (13\,20\,-14\,17)
DTSTART;TZID=Europe/Berlin:20220115T090000
DTEND;TZID=Europe/Berlin:20220115T110000
LOCATION:Sportovní hala Meteor\, Jana Kollára 1742 České Budějovice - České
  Budějovice 7
SUMMARY:EX-KKY-4C: Č. Budějovice-Havlíčkův Brod
END:VEVENT
BEGIN:VEVENT
UID:66616164-6538-4334-b163-666130306432
DTSTAMP:20260422T085137Z
DESCRIPTION:24/4 Č. Budějovice - Plzeň 3:0 (24\,15\,14)
DTSTART;TZID=Europe/Berlin:20220115T150000
DTEND;TZID=Europe/Berlin:20220115T170000
LOCATION:Sportovní hala Meteor\, Jana Kollára 1742 České Budějovice - České
  Budějovice 7
SUMMARY:EX-KKY-4C: Č. Budějovice-Plzeň
END:VEVENT
BEGIN:VEVENT
UID:36386432-6363-4566-b930-313462373432
DTSTAMP:20260422T085137Z
DESCRIPTION:30/10 Č. Budějovice - Olymp B 3:1 (-23\,22\,20\,22)
DTSTART;TZID=Europe/Berlin:20220116T170000
DTEND;TZID=Europe/Berlin:20220116T190000
LOCATION:Sportovní hala Meteor\, Jana Kollára 1742 České Budějovice - České
  Budějovice 7
SUMMARY:EX-KKY-4C: Č. Budějovice-Olymp B
END:VEVENT
BEGIN:VEVENT
UID:38613437-3262-4466-b362-323664643133
DTSTAMP:20260422T085137Z
DESCRIPTION:27/7 Kralupy - Č. Budějovice 0:3 (-18\,-17\,-19)
DTSTART;TZID=Europe/Berlin:20220116T110000
DTEND;TZID=Europe/Berlin:20220116T130000
LOCATION:Sportovní hala Meteor\, Jana Kollára 1742 České Budějovice - České
  Budějovice 7
SUMMARY:EX-KKY-4C: Kralupy-Č. Budějovice
END:VEVENT
BEGIN:VEVENT
UID:30343738-6332-4561-b466-653438623434
DTSTAMP:20260422T085137Z
DESCRIPTION:33/3 Č. Budějovice - Frýdek-Místek 1:3 (-26\,21\,-23\,-20)
DTSTART;TZID=Europe/Berlin:20220206T133000
DTEND;TZID=Europe/Berlin:20220206T153000
LOCATION:PVK Olymp Praha\, Přípotoční 300 Praha - Vršovice
SUMMARY:EX-KKY-5B: Č. Budějovice-Frýdek-Místek
END:VEVENT
BEGIN:VEVENT
UID:64366230-3731-4832-a462-643534613039
DTSTAMP:20260422T085137Z
DESCRIPTION:36/6 Č. Budějovice - Prostějov 3:0 (14\,20\,16)
DTSTART;TZID=Europe/Berlin:20220205T100000
DTEND;TZID=Europe/Berlin:20220205T120000
LOCATION:PVK Olymp Praha\, Přípotoční 300 Praha - Vršovice
SUMMARY:EX-KKY-5B: Č. Budějovice-Prostějov
END:VEVENT
BEGIN:VEVENT
UID:62363439-6565-4431-b562-386536623632
DTSTAMP:20260422T085137Z
DESCRIPTION:31/1 Olymp B - Č. Budějovice 1:3 (-23\,-18\,19\,-21)
DTSTART;TZID=Europe/Berlin:20220205T150000
DTEND;TZID=Europe/Berlin:20220205T170000
LOCATION:PVK Olymp Praha\, Přípotoční 300 Praha - Vršovice
SUMMARY:EX-KKY-5B: Olymp B-Č. Budějovice
END:VEVENT
BEGIN:VEVENT
UID:36373134-3865-4533-a139-356233313664
DTSTAMP:20260422T085137Z
DESCRIPTION:38/8 Kr. Pole - Č. Budějovice 3:2 (24\,23\,-17\,-24\,3)
DTSTART;TZID=Europe/Berlin:20220206T090000
DTEND;TZID=Europe/Berlin:20220206T110000
LOCATION:PVK Olymp Praha\, Přípotoční 300 Praha - Vršovice
SUMMARY:EX-KKY-5B: Kr. Pole-Č. Budějovice
END:VEVENT
BEGIN:VEVENT
UID:38333330-3837-4736-b238-356537643930
DTSTAMP:20260422T085137Z
DESCRIPTION:41/1 Č. Budějovice - S V B C 3:0 (15\,18\,21)
DTSTART;TZID=Europe/Berlin:20220305T090000
DTEND;TZID=Europe/Berlin:20220305T110000
LOCATION:Sportovní hala Meteor\, Jana Kollára 1742 České Budějovice - České
  Budějovice 7
SUMMARY:EX-KKY-6A: Č. Budějovice-S V B C
END:VEVENT
BEGIN:VEVENT
UID:30633732-6631-4235-b330-613762303637
DTSTAMP:20260422T085137Z
DESCRIPTION:44/4 Č. Budějovice - Liberec 0:3 (-7\,-23\,-21)
DTSTART;TZID=Europe/Berlin:20220305T150000
DTEND;TZID=Europe/Berlin:20220305T170000
LOCATION:Sportovní hala Meteor\, Jana Kollára 1742 České Budějovice - České
  Budějovice 7
SUMMARY:EX-KKY-6A: Č. Budějovice-Liberec
END:VEVENT
BEGIN:VEVENT
UID:30393534-6530-4939-a364-616162663739
DTSTAMP:20260422T085137Z
DESCRIPTION:50/10 Č. Budějovice - Olymp B 2:3 (19\,-19\,15\,-21\,-11)
DTSTART;TZID=Europe/Berlin:20220306T170000
DTEND;TZID=Europe/Berlin:20220306T190000
LOCATION:Sportovní hala Meteor\, Jana Kollára 1742 České Budějovice - České
  Budějovice 7
SUMMARY:EX-KKY-6A: Č. Budějovice-Olymp B
END:VEVENT
BEGIN:VEVENT
UID:61643238-3336-4439-b337-343331393566
DTSTAMP:20260422T085137Z
DESCRIPTION:47/7 Ostrava - Č. Budějovice 0:3 (-23\,-14\,-16)
DTSTART;TZID=Europe/Berlin:20220306T110000
DTEND;TZID=Europe/Berlin:20220306T130000
LOCATION:Sportovní hala Meteor\, Jana Kollára 1742 České Budějovice - České
  Budějovice 7
SUMMARY:EX-KKY-6A: Ostrava-Č. Budějovice
END:VEVENT
BEGIN:VEVENT
UID:37353861-3637-4863-a263-353734333461
DTSTAMP:20260422T085137Z
DESCRIPTION:52/2 Č. Budějovice - Liberec 0:3 (-20\,-11\,-14)
DTSTART;TZID=Europe/Berlin:20220414T110000
DTEND;TZID=Europe/Berlin:20220414T130000
LOCATION:PVK Olymp Praha\, Přípotoční 300 Praha - Vršovice
SUMMARY:EX-KKY-7A: Č. Budějovice-Liberec
END:VEVENT
BEGIN:VEVENT
UID:32306634-6636-4137-a238-663637373734
DTSTAMP:20260422T085137Z
DESCRIPTION:59/9 Č. Budějovice - Ostrava 3:0 (19\,15\,14)
DTSTART;TZID=Europe/Berlin:20220415T150000
DTEND;TZID=Europe/Berlin:20220415T170000
LOCATION:PVK Olymp Praha\, Přípotoční 300 Praha - Vršovice
SUMMARY:EX-KKY-7A: Č. Budějovice-Ostrava
END:VEVENT
BEGIN:VEVENT
UID:63366535-3739-4365-a365-633731393931
DTSTAMP:20260422T085137Z
DESCRIPTION:54/4 Olymp - Č. Budějovice 3:0 (15\,12\,18)
DTSTART;TZID=Europe/Berlin:20220414T150000
DTEND;TZID=Europe/Berlin:20220414T170000
LOCATION:PVK Olymp Praha\, Přípotoční 300 Praha - Vršovice
SUMMARY:EX-KKY-7A: Olymp-Č. Budějovice
END:VEVENT
BEGIN:VEVENT
UID:38663063-3137-4263-b762-326664646665
DTSTAMP:20260422T085137Z
DESCRIPTION:56/6 S V B C - Č. Budějovice 0:3 (-21\,-16\,-14)
DTSTART;TZID=Europe/Berlin:20220415T090000
DTEND;TZID=Europe/Berlin:20220415T110000
LOCATION:PVK Olymp Praha\, Přípotoční 300 Praha - Vršovice
SUMMARY:EX-KKY-7A: S V B C-Č. Budějovice
END:VEVENT
END:VCALENDAR
