BEGIN:VCALENDAR
VERSION:2.0
PRODID:-//TJ Jiskra Humpolec, z.s.76023//NONSGML kigkonsult.se iCalcreator 2.41.80//
CALSCALE:GREGORIAN
UID:30303061-3033-4333-b762-623637643564
BEGIN:VEVENT
UID:30613433-3133-4061-b834-356339363535
DTSTAMP:20260422T003936Z
DESCRIPTION:1/4 TJ Jiskra Humpolec\, z.s. - TJ Sokol Štoky 0:3 (-11\,-15\,-
 9)
DTSTART;TZID=Europe/Berlin:20210911T090000
DTEND;TZID=Europe/Berlin:20210911T110000
LOCATION:TJ Jiskra Humpolec\, Tyršovo náměstí 745 Humpolec
SUMMARY:VY-KKY: TJ Jiskra Humpolec\, z.s.-TJ Sokol Štoky
END:VEVENT
BEGIN:VEVENT
UID:64383330-3030-4838-b035-343261343534
DTSTAMP:20260422T003936Z
DESCRIPTION:2/9 TJ Jiskra Humpolec\, z.s. - TJ Sokol Štoky 0:3 (-17\,-20\,-
 15)
DTSTART;TZID=Europe/Berlin:20210911T120000
DTEND;TZID=Europe/Berlin:20210911T140000
LOCATION:TJ Jiskra Humpolec\, Tyršovo náměstí 745 Humpolec
SUMMARY:VY-KKY: TJ Jiskra Humpolec\, z.s.-TJ Sokol Štoky
END:VEVENT
BEGIN:VEVENT
UID:35656435-3432-4332-b039-373464396533
DTSTAMP:20260422T003936Z
DESCRIPTION:5/23 TJ Jiskra Humpolec\, z.s. - TJ Žďár nad Sázavou 3:0 (23\,1
 8\,22)
DTSTART;TZID=Europe/Berlin:20211002T090000
DTEND;TZID=Europe/Berlin:20211002T110000
LOCATION:TJ Jiskra Humpolec\, Tyršovo náměstí 745 Humpolec
SUMMARY:VY-KKY: TJ Jiskra Humpolec\, z.s.-TJ Žďár nad Sázavou
END:VEVENT
BEGIN:VEVENT
UID:63303633-3731-4065-a433-613539343066
DTSTAMP:20260422T003936Z
DESCRIPTION:6/28 TJ Jiskra Humpolec\, z.s. - TJ Žďár nad Sázavou 3:1 (-10\,
 20\,221\,27)
DTSTART;TZID=Europe/Berlin:20211002T120000
DTEND;TZID=Europe/Berlin:20211002T140000
LOCATION:TJ Jiskra Humpolec\, Tyršovo náměstí 745 Humpolec
SUMMARY:VY-KKY: TJ Jiskra Humpolec\, z.s.-TJ Žďár nad Sázavou
END:VEVENT
BEGIN:VEVENT
UID:65656537-3731-4333-a338-313864366534
DTSTAMP:20260422T003936Z
DESCRIPTION:9/42 TJ Jiskra Humpolec\, z.s. - Sokol H. Brod 0:3 (-9\,-14\,-2
 2)
DTSTART;TZID=Europe/Berlin:20211023T090000
DTEND;TZID=Europe/Berlin:20211023T110000
LOCATION:TJ Jiskra Humpolec\, Tyršovo náměstí 745 Humpolec
SUMMARY:VY-KKY: TJ Jiskra Humpolec\, z.s.-Sokol H. Brod
END:VEVENT
BEGIN:VEVENT
UID:35616231-3963-4937-b731-343333396637
DTSTAMP:20260422T003936Z
DESCRIPTION:10/47 TJ Jiskra Humpolec\, z.s. - Sokol H. Brod 0:3 (-21\,-13\,
 -20)
DTSTART;TZID=Europe/Berlin:20211023T120000
DTEND;TZID=Europe/Berlin:20211023T140000
LOCATION:TJ Jiskra Humpolec\, Tyršovo náměstí 745 Humpolec
SUMMARY:VY-KKY: TJ Jiskra Humpolec\, z.s.-Sokol H. Brod
END:VEVENT
BEGIN:VEVENT
UID:30356139-3333-4035-b261-383739663339
DTSTAMP:20260422T003936Z
DESCRIPTION:13/61 TJ Jiskra Humpolec\, z.s. - Volejbalový klub Třebíč 3:0 (
 16\,19\,19)
DTSTART;TZID=Europe/Berlin:20211113T090000
DTEND;TZID=Europe/Berlin:20211113T110000
LOCATION:TJ Jiskra Humpolec\, Tyršovo náměstí 745 Humpolec
SUMMARY:VY-KKY: TJ Jiskra Humpolec\, z.s.-Volejbalový klub Třebíč
END:VEVENT
BEGIN:VEVENT
UID:39636265-3037-4566-b735-343730333537
DTSTAMP:20260422T003936Z
DESCRIPTION:14/66 TJ Jiskra Humpolec\, z.s. - Volejbalový klub Třebíč 0:3 (
 -21\,-15\,-15)
DTSTART;TZID=Europe/Berlin:20211113T120000
DTEND;TZID=Europe/Berlin:20211113T140000
LOCATION:TJ Jiskra Humpolec\, Tyršovo náměstí 745 Humpolec
SUMMARY:VY-KKY: TJ Jiskra Humpolec\, z.s.-Volejbalový klub Třebíč
END:VEVENT
BEGIN:VEVENT
UID:38386262-3236-4635-a264-613264613561
DTSTAMP:20260422T003936Z
DESCRIPTION:15/75 TJ Jiskra Humpolec\, z.s. - Tělovýchovná jednota Sklo Boh
 emia Světlá nad Sázavou\, z.s. 0:3 (-20\,-19\,-22)
DTSTART;TZID=Europe/Berlin:20211127T090000
DTEND;TZID=Europe/Berlin:20211127T110000
LOCATION:TJ Jiskra Humpolec\, Tyršovo náměstí 745 Humpolec
SUMMARY:VY-KKY: TJ Jiskra Humpolec\, z.s.-Tělovýchovná jednota Sklo Bohemia
  Světlá nad Sázavou\, z.s.
END:VEVENT
BEGIN:VEVENT
UID:61353432-3235-4230-b263-613966633665
DTSTAMP:20260422T003936Z
DESCRIPTION:16/80 TJ Jiskra Humpolec\, z.s. - Tělovýchovná jednota Sklo Boh
 emia Světlá nad Sázavou\, z.s. 1:3 (-25\,20\,-14\,-12)
DTSTART;TZID=Europe/Berlin:20211127T120000
DTEND;TZID=Europe/Berlin:20211127T140000
LOCATION:TJ Jiskra Humpolec\, Tyršovo náměstí 745 Humpolec
SUMMARY:VY-KKY: TJ Jiskra Humpolec\, z.s.-Tělovýchovná jednota Sklo Bohemia
  Světlá nad Sázavou\, z.s.
END:VEVENT
BEGIN:VEVENT
UID:66613639-6166-4134-b533-303830376335
DTSTAMP:20260422T003936Z
DESCRIPTION:25/124 TJ Jiskra Humpolec\, z.s. - Orel jednota Červená Řečice 
 0:3 (-23\,-19\,-24)
DTSTART;TZID=Europe/Berlin:20211009T090000
DTEND;TZID=Europe/Berlin:20211009T110000
LOCATION:TJ Jiskra Humpolec\, Tyršovo náměstí 745 Humpolec
SUMMARY:VY-KKY: TJ Jiskra Humpolec\, z.s.-Orel jednota Červená Řečice
END:VEVENT
BEGIN:VEVENT
UID:66653465-6363-4432-a365-616563343333
DTSTAMP:20260422T003936Z
DESCRIPTION:26/129 TJ Jiskra Humpolec\, z.s. - Orel jednota Červená Řečice 
 3:2 (22\,23\,-16\,-13\,11)
DTSTART;TZID=Europe/Berlin:20211009T120000
DTEND;TZID=Europe/Berlin:20211009T140000
LOCATION:TJ Jiskra Humpolec\, Tyršovo náměstí 745 Humpolec
SUMMARY:VY-KKY: TJ Jiskra Humpolec\, z.s.-Orel jednota Červená Řečice
END:VEVENT
BEGIN:VEVENT
UID:36323436-3734-4866-b933-393031323637
DTSTAMP:20260422T003936Z
DESCRIPTION:29/145 TJ Jiskra Humpolec\, z.s. - Tělocvičná jednota Sokol Bed
 řichov 0:3 (-18\,-14\,-15)
DTSTART;TZID=Europe/Berlin:20220226T090000
DTEND;TZID=Europe/Berlin:20220226T110000
LOCATION:TJ Jiskra Humpolec\, Tyršovo náměstí 745 Humpolec
SUMMARY:VY-KKY: TJ Jiskra Humpolec\, z.s.-Tělocvičná jednota Sokol Bedřicho
 v
END:VEVENT
BEGIN:VEVENT
UID:64353263-6661-4431-a133-396331393832
DTSTAMP:20260422T003936Z
DESCRIPTION:30/150 TJ Jiskra Humpolec\, z.s. - Tělocvičná jednota Sokol Bed
 řichov 0:3 (-14\,-14\,-10)
DTSTART;TZID=Europe/Berlin:20220226T120000
DTEND;TZID=Europe/Berlin:20220226T140000
LOCATION:TJ Jiskra Humpolec\, Tyršovo náměstí 745 Humpolec
SUMMARY:VY-KKY: TJ Jiskra Humpolec\, z.s.-Tělocvičná jednota Sokol Bedřicho
 v
END:VEVENT
BEGIN:VEVENT
UID:37323336-6138-4131-b239-323639663465
DTSTAMP:20260422T003936Z
DESCRIPTION:35/172 TJ Jiskra Humpolec\, z.s. - Tělovýchovná jednota CHS Cho
 těboř\, z.s. 2:3 (-13\,15\,-20\,22\,-10)
DTSTART;TZID=Europe/Berlin:20220326T090000
DTEND;TZID=Europe/Berlin:20220326T110000
LOCATION:TJ Jiskra Humpolec\, Tyršovo náměstí 745 Humpolec
SUMMARY:VY-KKY: TJ Jiskra Humpolec\, z.s.-Tělovýchovná jednota CHS Chotěboř
 \, z.s.
END:VEVENT
BEGIN:VEVENT
UID:35316634-3339-4664-b164-613133393839
DTSTAMP:20260422T003936Z
DESCRIPTION:36/177 TJ Jiskra Humpolec\, z.s. - Tělovýchovná jednota CHS Cho
 těboř\, z.s. 0:3 (-12\,-22\,-21)
DTSTART;TZID=Europe/Berlin:20220326T120000
DTEND;TZID=Europe/Berlin:20220326T140000
LOCATION:TJ Jiskra Humpolec\, Tyršovo náměstí 745 Humpolec
SUMMARY:VY-KKY: TJ Jiskra Humpolec\, z.s.-Tělovýchovná jednota CHS Chotěboř
 \, z.s.
END:VEVENT
BEGIN:VEVENT
UID:63386637-6132-4663-a538-383236653863
DTSTAMP:20260422T003936Z
DESCRIPTION:7/34 Orel jednota Červená Řečice - TJ Jiskra Humpolec\, z.s. 0:
 3 (-16\,-24\,-16)
DTSTART;TZID=Europe/Berlin:20220212T100000
DTEND;TZID=Europe/Berlin:20220212T120000
LOCATION:základní škola Želiv\,  Želiv220
SUMMARY:VY-KKY: Orel jednota Červená Řečice-TJ Jiskra Humpolec\, z.s.
END:VEVENT
BEGIN:VEVENT
UID:34326564-3261-4635-b031-616261613739
DTSTAMP:20260422T003936Z
DESCRIPTION:8/39 Orel jednota Červená Řečice - TJ Jiskra Humpolec\, z.s. 3:
 2 (21\,-21\,-14\,20\,10)
DTSTART;TZID=Europe/Berlin:20220212T130000
DTEND;TZID=Europe/Berlin:20220212T150000
LOCATION:základní škola Želiv\,  Želiv220
SUMMARY:VY-KKY: Orel jednota Červená Řečice-TJ Jiskra Humpolec\, z.s.
END:VEVENT
BEGIN:VEVENT
UID:62326132-3230-4037-b663-393133653562
DTSTAMP:20260422T003936Z
DESCRIPTION:11/55 Tělocvičná jednota Sokol Bedřichov - TJ Jiskra Humpolec\,
  z.s. 3:0 (20\,22\,19)
DTSTART;TZID=Europe/Berlin:20211106T090000
DTEND;TZID=Europe/Berlin:20211106T110000
LOCATION:TJ Sokol Bedřichov\, Jihlava\, Sokolovská 4656 Jihlava
SUMMARY:VY-KKY: Tělocvičná jednota Sokol Bedřichov-TJ Jiskra Humpolec\, z.s
 .
END:VEVENT
BEGIN:VEVENT
UID:39373361-6231-4535-b637-343637323761
DTSTAMP:20260422T003936Z
DESCRIPTION:12/60 Tělocvičná jednota Sokol Bedřichov - TJ Jiskra Humpolec\,
  z.s. 3:2 (20\,-24\,-23\,15\,13)
DTSTART;TZID=Europe/Berlin:20211106T130000
DTEND;TZID=Europe/Berlin:20211106T150000
LOCATION:TJ Sokol Bedřichov\, Jihlava\, Sokolovská 4656 Jihlava
SUMMARY:VY-KKY: Tělocvičná jednota Sokol Bedřichov-TJ Jiskra Humpolec\, z.s
 .
END:VEVENT
BEGIN:VEVENT
UID:38366335-3732-4436-a539-333238613536
DTSTAMP:20260422T003936Z
DESCRIPTION:17/82 Tělovýchovná jednota CHS Chotěboř\, z.s. - TJ Jiskra Hump
 olec\, z.s. 3:1 (-22\,18\,22\,18)
DTSTART;TZID=Europe/Berlin:20220121T180000
DTEND;TZID=Europe/Berlin:20220121T200000
LOCATION:Sportovní hala \, Tyršova 794 Chotěboř
SUMMARY:VY-KKY: Tělovýchovná jednota CHS Chotěboř\, z.s.-TJ Jiskra Humpolec
 \, z.s.
END:VEVENT
BEGIN:VEVENT
UID:39306464-6332-4866-a164-653632373861
DTSTAMP:20260422T003936Z
DESCRIPTION:18/87 Tělovýchovná jednota CHS Chotěboř\, z.s. - TJ Jiskra Hump
 olec\, z.s. 3:1 (10\,16\,-21\,19)
DTSTART;TZID=Europe/Berlin:20220121T180000
DTEND;TZID=Europe/Berlin:20220121T200000
LOCATION:Sportovní hala \, Tyršova 794 Chotěboř
SUMMARY:VY-KKY: Tělovýchovná jednota CHS Chotěboř\, z.s.-TJ Jiskra Humpolec
 \, z.s.
END:VEVENT
BEGIN:VEVENT
UID:65356238-3364-4462-b436-386166393364
DTSTAMP:20260422T003936Z
DESCRIPTION:19/94 TJ Sokol Štoky - TJ Jiskra Humpolec\, z.s. 3:1 (17\,-13\,
 6\,22)
DTSTART;TZID=Europe/Berlin:20211211T100000
DTEND;TZID=Europe/Berlin:20211211T120000
LOCATION:Sportovní hala Základní škola a mateřská škola Štoky\,  Štoky220
SUMMARY:VY-KKY: TJ Sokol Štoky-TJ Jiskra Humpolec\, z.s.
END:VEVENT
BEGIN:VEVENT
UID:31373534-3862-4539-b664-353639323063
DTSTAMP:20260422T003936Z
DESCRIPTION:20/99 TJ Sokol Štoky - TJ Jiskra Humpolec\, z.s. 3:1 (22\,-23\,
 13\,25)
DTSTART;TZID=Europe/Berlin:20211211T130000
DTEND;TZID=Europe/Berlin:20211211T150000
LOCATION:Sportovní hala Základní škola a mateřská škola Štoky\,  Štoky220
SUMMARY:VY-KKY: TJ Sokol Štoky-TJ Jiskra Humpolec\, z.s.
END:VEVENT
BEGIN:VEVENT
UID:38663065-3534-4536-b731-393339643963
DTSTAMP:20260422T003936Z
DESCRIPTION:23/113 TJ Žďár nad Sázavou - TJ Jiskra Humpolec\, z.s. 3:0 (19\
 ,11\,14)
DTSTART;TZID=Europe/Berlin:20220108T100000
DTEND;TZID=Europe/Berlin:20220108T120000
LOCATION:ZŠ Palachova\, Palachova 1757 Žďár nad Sázavou - Žďár nad Sázavou 
 6
SUMMARY:VY-KKY: TJ Žďár nad Sázavou-TJ Jiskra Humpolec\, z.s.
END:VEVENT
BEGIN:VEVENT
UID:38616339-3735-4130-b961-646434373331
DTSTAMP:20260422T003936Z
DESCRIPTION:24/118 TJ Žďár nad Sázavou - TJ Jiskra Humpolec\, z.s. 3:0 (11\
 ,21\,16)
DTSTART;TZID=Europe/Berlin:20220108T130000
DTEND;TZID=Europe/Berlin:20220108T150000
LOCATION:ZŠ Palachova\, Palachova 1757 Žďár nad Sázavou - Žďár nad Sázavou 
 6
SUMMARY:VY-KKY: TJ Žďár nad Sázavou-TJ Jiskra Humpolec\, z.s.
END:VEVENT
BEGIN:VEVENT
UID:32376237-6330-4437-a463-303164663635
DTSTAMP:20260422T003936Z
DESCRIPTION:27/132 Sokol H. Brod - TJ Jiskra Humpolec\, z.s. 3:0 (9\,8\,7)
DTSTART;TZID=Europe/Berlin:20220129T110000
DTEND;TZID=Europe/Berlin:20220129T130000
LOCATION:Střední zdravotnická škola Havlíčkův Brod\, Masarykova 2033 Havlíč
 kův Brod
SUMMARY:VY-KKY: Sokol H. Brod-TJ Jiskra Humpolec\, z.s.
END:VEVENT
BEGIN:VEVENT
UID:64343730-3231-4262-a232-343836663239
DTSTAMP:20260422T003936Z
DESCRIPTION:28/137 Sokol H. Brod - TJ Jiskra Humpolec\, z.s. 3:0 (13\,18\,1
 4)
DTSTART;TZID=Europe/Berlin:20220129T150000
DTEND;TZID=Europe/Berlin:20220129T170000
LOCATION:Střední zdravotnická škola Havlíčkův Brod\, Masarykova 2033 Havlíč
 kův Brod
SUMMARY:VY-KKY: Sokol H. Brod-TJ Jiskra Humpolec\, z.s.
END:VEVENT
BEGIN:VEVENT
UID:65616562-3865-4636-a632-623965343732
DTSTAMP:20260422T003936Z
DESCRIPTION:31/151 Volejbalový klub Třebíč - TJ Jiskra Humpolec\, z.s. 3:1 
 (-33\,26\,22\,19)
DTSTART;TZID=Europe/Berlin:20220305T100000
DTEND;TZID=Europe/Berlin:20220305T120000
LOCATION:hala ZŠ TGM\, Komenského nám. 61 Třebíč - Horka-Domky
SUMMARY:VY-KKY: Volejbalový klub Třebíč-TJ Jiskra Humpolec\, z.s.
END:VEVENT
BEGIN:VEVENT
UID:38623936-3166-4732-a538-353634393939
DTSTAMP:20260422T003936Z
DESCRIPTION:32/156 Volejbalový klub Třebíč - TJ Jiskra Humpolec\, z.s. 3:2 
 (17\,19\,-21\,-22\,12)
DTSTART;TZID=Europe/Berlin:20220305T130000
DTEND;TZID=Europe/Berlin:20220305T150000
LOCATION:hala ZŠ TGM\, Komenského nám. 61 Třebíč - Horka-Domky
SUMMARY:VY-KKY: Volejbalový klub Třebíč-TJ Jiskra Humpolec\, z.s.
END:VEVENT
BEGIN:VEVENT
UID:31303234-6634-4134-b066-353634333065
DTSTAMP:20260422T003936Z
DESCRIPTION:33/165 Tělovýchovná jednota Sklo Bohemia Světlá nad Sázavou\, z
 .s. - TJ Jiskra Humpolec\, z.s. 3:0 (14\,18\,19)
DTSTART;TZID=Europe/Berlin:20220312T100000
DTEND;TZID=Europe/Berlin:20220312T120000
LOCATION:Sportovní hala\, Komenského 1256 Světlá nad Sázavou
SUMMARY:VY-KKY: Tělovýchovná jednota Sklo Bohemia Světlá nad Sázavou\, z.s.
 -TJ Jiskra Humpolec\, z.s.
END:VEVENT
BEGIN:VEVENT
UID:34613634-3936-4465-b534-663665313639
DTSTAMP:20260422T003936Z
DESCRIPTION:34/170 Tělovýchovná jednota Sklo Bohemia Světlá nad Sázavou\, z
 .s. - TJ Jiskra Humpolec\, z.s. 3:0 (14\,9\,21)
DTSTART;TZID=Europe/Berlin:20220312T130000
DTEND;TZID=Europe/Berlin:20220312T150000
LOCATION:Sportovní hala\, Komenského 1256 Světlá nad Sázavou
SUMMARY:VY-KKY: Tělovýchovná jednota Sklo Bohemia Světlá nad Sázavou\, z.s.
 -TJ Jiskra Humpolec\, z.s.
END:VEVENT
END:VCALENDAR
