BEGIN:VCALENDAR
VERSION:2.0
PRODID:-//Tělovýchovná jednota Jiskra Havlíčkův Brod z.s.76031//NONSGML kigkonsult.se iCalcreator 2.41.80//
CALSCALE:GREGORIAN
UID:62663361-3534-4161-b035-393132633134
BEGIN:VEVENT
UID:33623161-3863-4466-b232-386333343366
DTSTAMP:20260423T101132Z
DESCRIPTION:1/2 Tělovýchovná jednota Jiskra Havlíčkův Brod z.s. - TJ Jiskra
  Humpolec\, z.s. 3:1 (20\,-24\,21\,13)
DTSTART;TZID=Europe/Berlin:20210919T100000
DTEND;TZID=Europe/Berlin:20210919T120000
LOCATION:Tělocvična OA a hotelové školy\, Bratříků 851 Havlíčkův Brod
SUMMARY:VY-JKY: Tělovýchovná jednota Jiskra Havlíčkův Brod z.s.-TJ Jiskra H
 umpolec\, z.s.
END:VEVENT
BEGIN:VEVENT
UID:31353735-3137-4234-b430-333766373838
DTSTAMP:20260423T101132Z
DESCRIPTION:2/6 Tělovýchovná jednota Jiskra Havlíčkův Brod z.s. - TJ Jiskra
  Humpolec\, z.s. 3:0 (20\,16\,7)
DTSTART;TZID=Europe/Berlin:20210919T130000
DTEND;TZID=Europe/Berlin:20210919T150000
LOCATION:Tělocvična OA a hotelové školy\, Bratříků 851 Havlíčkův Brod
SUMMARY:VY-JKY: Tělovýchovná jednota Jiskra Havlíčkův Brod z.s.-TJ Jiskra H
 umpolec\, z.s.
END:VEVENT
BEGIN:VEVENT
UID:35626663-6364-4835-b437-666661393035
DTSTAMP:20260423T101132Z
DESCRIPTION:5/17 Tělovýchovná jednota Jiskra Havlíčkův Brod z.s. - Tělocvič
 ná jednota Sokol Havlíčkův Brod 3:0 (23\,21\,15)
DTSTART;TZID=Europe/Berlin:20211010T100000
DTEND;TZID=Europe/Berlin:20211010T120000
LOCATION:Tělocvična OA a hotelové školy\, Bratříků 851 Havlíčkův Brod
SUMMARY:VY-JKY: Tělovýchovná jednota Jiskra Havlíčkův Brod z.s.-Tělocvičná 
 jednota Sokol Havlíčkův Brod
END:VEVENT
BEGIN:VEVENT
UID:30326165-6137-4865-b763-303038343965
DTSTAMP:20260423T101132Z
DESCRIPTION:6/21 Tělovýchovná jednota Jiskra Havlíčkův Brod z.s. - Tělocvič
 ná jednota Sokol Havlíčkův Brod 3:1 (-24\,16\,18\,23)
DTSTART;TZID=Europe/Berlin:20211010T130000
DTEND;TZID=Europe/Berlin:20211010T150000
LOCATION:Tělocvična OA a hotelové školy\, Bratříků 851 Havlíčkův Brod
SUMMARY:VY-JKY: Tělovýchovná jednota Jiskra Havlíčkův Brod z.s.-Tělocvičná 
 jednota Sokol Havlíčkův Brod
END:VEVENT
BEGIN:VEVENT
UID:31383333-6364-4366-a461-643561386662
DTSTAMP:20260423T101132Z
DESCRIPTION:7/28 Tělovýchovná jednota Jiskra Havlíčkův Brod z.s. - Volejbal
 ový klub Třebíč 3:1 (11\,-23\,24\,20)
DTSTART;TZID=Europe/Berlin:20211024T100000
DTEND;TZID=Europe/Berlin:20211024T120000
LOCATION:Tělocvična OA a hotelové školy\, Bratříků 851 Havlíčkův Brod
SUMMARY:VY-JKY: Tělovýchovná jednota Jiskra Havlíčkův Brod z.s.-Volejbalový
  klub Třebíč
END:VEVENT
BEGIN:VEVENT
UID:34383862-3361-4361-b233-383135313963
DTSTAMP:20260423T101132Z
DESCRIPTION:8/32 Tělovýchovná jednota Jiskra Havlíčkův Brod z.s. - Volejbal
 ový klub Třebíč 3:2 (24\,-21\,21\,-21\,12)
DTSTART;TZID=Europe/Berlin:20211024T130000
DTEND;TZID=Europe/Berlin:20211024T150000
LOCATION:Tělocvična OA a hotelové školy\, Bratříků 851 Havlíčkův Brod
SUMMARY:VY-JKY: Tělovýchovná jednota Jiskra Havlíčkův Brod z.s.-Volejbalový
  klub Třebíč
END:VEVENT
BEGIN:VEVENT
UID:63633234-3232-4230-b262-343562653338
DTSTAMP:20260423T101132Z
DESCRIPTION:11/43 Tělovýchovná jednota Jiskra Havlíčkův Brod z.s. - Tělovýc
 hovná jednota Spartak Pelhřimov\, z.s. 3:1 (22\,20\,-23\,12)
DTSTART;TZID=Europe/Berlin:20211114T100000
DTEND;TZID=Europe/Berlin:20211114T120000
LOCATION:Tělocvična SPŠ Stavební\, Jihlavská 628 Havlíčkův Brod
SUMMARY:VY-JKY: Tělovýchovná jednota Jiskra Havlíčkův Brod z.s.-Tělovýchovn
 á jednota Spartak Pelhřimov\, z.s.
END:VEVENT
BEGIN:VEVENT
UID:34353933-6234-4039-a438-366235626435
DTSTAMP:20260423T101132Z
DESCRIPTION:12/47 Tělovýchovná jednota Jiskra Havlíčkův Brod z.s. - Tělovýc
 hovná jednota Spartak Pelhřimov\, z.s. 3:2 (25\,17\,-14\,-24\,5)
DTSTART;TZID=Europe/Berlin:20211114T130000
DTEND;TZID=Europe/Berlin:20211114T150000
LOCATION:Tělocvična SPŠ Stavební\, Jihlavská 628 Havlíčkův Brod
SUMMARY:VY-JKY: Tělovýchovná jednota Jiskra Havlíčkův Brod z.s.-Tělovýchovn
 á jednota Spartak Pelhřimov\, z.s.
END:VEVENT
BEGIN:VEVENT
UID:39333865-6430-4265-b865-653561656265
DTSTAMP:20260423T101132Z
DESCRIPTION:17/68 Tělovýchovná jednota Jiskra Havlíčkův Brod z.s. - TJ Námě
 šť nad Oslavou z.s. 3:0 (15\,18\,16)
DTSTART;TZID=Europe/Berlin:20220326T100000
DTEND;TZID=Europe/Berlin:20220326T120000
LOCATION:Tělocvična OA a hotelové školy\, Bratříků 851 Havlíčkův Brod
SUMMARY:VY-JKY: Tělovýchovná jednota Jiskra Havlíčkův Brod z.s.-TJ Náměšť n
 ad Oslavou z.s.
END:VEVENT
BEGIN:VEVENT
UID:30323566-6463-4733-b835-656237393038
DTSTAMP:20260423T101132Z
DESCRIPTION:18/72 Tělovýchovná jednota Jiskra Havlíčkův Brod z.s. - TJ Námě
 šť nad Oslavou z.s. 3:0 (16\,15\,13)
DTSTART;TZID=Europe/Berlin:20220326T130000
DTEND;TZID=Europe/Berlin:20220326T150000
LOCATION:Tělocvična OA a hotelové školy\, Bratříků 851 Havlíčkův Brod
SUMMARY:VY-JKY: Tělovýchovná jednota Jiskra Havlíčkův Brod z.s.-TJ Náměšť n
 ad Oslavou z.s.
END:VEVENT
BEGIN:VEVENT
UID:66653963-3439-4233-a262-666231366337
DTSTAMP:20260423T101132Z
DESCRIPTION:23/90 Tělovýchovná jednota Jiskra Havlíčkův Brod z.s. - Jihlava
  B 0:3 (-10\,-20\,-23)
DTSTART;TZID=Europe/Berlin:20220227T100000
DTEND;TZID=Europe/Berlin:20220227T120000
LOCATION:Tělocvična OA a hotelové školy\, Bratříků 851 Havlíčkův Brod
SUMMARY:VY-JKY: Tělovýchovná jednota Jiskra Havlíčkův Brod z.s.-Jihlava B
END:VEVENT
BEGIN:VEVENT
UID:63363435-6536-4162-b464-623038343066
DTSTAMP:20260423T101132Z
DESCRIPTION:24/94 Tělovýchovná jednota Jiskra Havlíčkův Brod z.s. - Jihlava
  B 1:3 (22\,-23\,-26\,-20)
DTSTART;TZID=Europe/Berlin:20220227T130000
DTEND;TZID=Europe/Berlin:20220227T150000
LOCATION:Tělocvična OA a hotelové školy\, Bratříků 851 Havlíčkův Brod
SUMMARY:VY-JKY: Tělovýchovná jednota Jiskra Havlíčkův Brod z.s.-Jihlava B
END:VEVENT
BEGIN:VEVENT
UID:37363237-3334-4638-a236-383337396363
DTSTAMP:20260423T101132Z
DESCRIPTION:27/107 Tělovýchovná jednota Jiskra Havlíčkův Brod z.s. - TJ Skl
 o Bohemia Světlá n. Sáz.\, z.s. 3:2 (-25\,21\,19\,-26\,11)
DTSTART;TZID=Europe/Berlin:20220327T100000
DTEND;TZID=Europe/Berlin:20220327T120000
LOCATION:Tělocvična OA a hotelové školy\, Bratříků 851 Havlíčkův Brod
SUMMARY:VY-JKY: Tělovýchovná jednota Jiskra Havlíčkův Brod z.s.-TJ Sklo Boh
 emia Světlá n. Sáz.\, z.s.
END:VEVENT
BEGIN:VEVENT
UID:31323334-3135-4533-b036-653936646165
DTSTAMP:20260423T101132Z
DESCRIPTION:28/111 Tělovýchovná jednota Jiskra Havlíčkův Brod z.s. - TJ Skl
 o Bohemia Světlá n. Sáz.\, z.s. 2:3 (-18\,22\,18\,-23\,-16)
DTSTART;TZID=Europe/Berlin:20220327T130000
DTEND;TZID=Europe/Berlin:20220327T150000
LOCATION:Tělocvična OA a hotelové školy\, Bratříků 851 Havlíčkův Brod
SUMMARY:VY-JKY: Tělovýchovná jednota Jiskra Havlíčkův Brod z.s.-TJ Sklo Boh
 emia Světlá n. Sáz.\, z.s.
END:VEVENT
BEGIN:VEVENT
UID:37623834-6465-4365-b137-306330646130
DTSTAMP:20260423T101132Z
DESCRIPTION:3/12 TJ Náměšť nad Oslavou z.s. - Tělovýchovná jednota Jiskra H
 avlíčkův Brod z.s. 0:3 (-22\,-10\,-10)
DTSTART;TZID=Europe/Berlin:20211003T100000
DTEND;TZID=Europe/Berlin:20211003T120000
LOCATION:ZŠ Komenského\, Komenského nám. 53 Náměšť nad Oslavou
SUMMARY:VY-JKY: TJ Náměšť nad Oslavou z.s.-Tělovýchovná jednota Jiskra Havl
 íčkův Brod z.s.
END:VEVENT
BEGIN:VEVENT
UID:61376438-3830-4865-b831-666533356665
DTSTAMP:20260423T101132Z
DESCRIPTION:4/16 TJ Náměšť nad Oslavou z.s. - Tělovýchovná jednota Jiskra H
 avlíčkův Brod z.s. 0:3 (-19\,-23\,-16)
DTSTART;TZID=Europe/Berlin:20211003T130000
DTEND;TZID=Europe/Berlin:20211003T150000
LOCATION:ZŠ Komenského\, Komenského nám. 53 Náměšť nad Oslavou
SUMMARY:VY-JKY: TJ Náměšť nad Oslavou z.s.-Tělovýchovná jednota Jiskra Havl
 íčkův Brod z.s.
END:VEVENT
BEGIN:VEVENT
UID:63306632-6261-4438-b266-373834313937
DTSTAMP:20260423T101132Z
DESCRIPTION:9/34 Jihlava B - Tělovýchovná jednota Jiskra Havlíčkův Brod z.s
 . 3:0 (9\,11\,16)
DTSTART;TZID=Europe/Berlin:20211107T110000
DTEND;TZID=Europe/Berlin:20211107T130000
LOCATION:ZŠ Jihlava Demlova\, Demlova 4178 Jihlava
SUMMARY:VY-JKY: Jihlava B-Tělovýchovná jednota Jiskra Havlíčkův Brod z.s.
END:VEVENT
BEGIN:VEVENT
UID:36643433-6132-4937-a165-623933373538
DTSTAMP:20260423T101132Z
DESCRIPTION:10/38 Jihlava B - Tělovýchovná jednota Jiskra Havlíčkův Brod z.
 s. 3:0 (18\,16\,11)
DTSTART;TZID=Europe/Berlin:20211107T130000
DTEND;TZID=Europe/Berlin:20211107T150000
LOCATION:ZŠ Jihlava Demlova\, Demlova 4178 Jihlava
SUMMARY:VY-JKY: Jihlava B-Tělovýchovná jednota Jiskra Havlíčkův Brod z.s.
END:VEVENT
BEGIN:VEVENT
UID:63383135-3331-4564-b430-326431623533
DTSTAMP:20260423T101132Z
DESCRIPTION:13/51 TJ Sklo Bohemia Světlá n. Sáz.\, z.s. - Tělovýchovná jedn
 ota Jiskra Havlíčkův Brod z.s. 3:0 (17\,21\,17)
DTSTART;TZID=Europe/Berlin:20211128T100000
DTEND;TZID=Europe/Berlin:20211128T120000
LOCATION:Sportovní hala\, Komenského 1256 Světlá nad Sázavou
SUMMARY:VY-JKY: TJ Sklo Bohemia Světlá n. Sáz.\, z.s.-Tělovýchovná jednota 
 Jiskra Havlíčkův Brod z.s.
END:VEVENT
BEGIN:VEVENT
UID:33346232-6230-4364-b166-666531663134
DTSTAMP:20260423T101132Z
DESCRIPTION:14/55 TJ Sklo Bohemia Světlá n. Sáz.\, z.s. - Tělovýchovná jedn
 ota Jiskra Havlíčkův Brod z.s. 0:3 (-19\,-17\,-23)
DTSTART;TZID=Europe/Berlin:20211128T130000
DTEND;TZID=Europe/Berlin:20211128T150000
LOCATION:Sportovní hala\, Komenského 1256 Světlá nad Sázavou
SUMMARY:VY-JKY: TJ Sklo Bohemia Světlá n. Sáz.\, z.s.-Tělovýchovná jednota 
 Jiskra Havlíčkův Brod z.s.
END:VEVENT
BEGIN:VEVENT
UID:38333065-6336-4362-b335-373134363966
DTSTAMP:20260423T101132Z
DESCRIPTION:15/58 TJ Jiskra Humpolec\, z.s. - Tělovýchovná jednota Jiskra H
 avlíčkův Brod z.s. 2:3 (17\,-27\,-19\,18\,-8)
DTSTART;TZID=Europe/Berlin:20220123T090000
DTEND;TZID=Europe/Berlin:20220123T110000
LOCATION:TJ Jiskra Humpolec\, Tyršovo náměstí 745 Humpolec
SUMMARY:VY-JKY: TJ Jiskra Humpolec\, z.s.-Tělovýchovná jednota Jiskra Havlí
 čkův Brod z.s.
END:VEVENT
BEGIN:VEVENT
UID:62396566-6564-4633-b234-343038393135
DTSTAMP:20260423T101132Z
DESCRIPTION:16/62 TJ Jiskra Humpolec\, z.s. - Tělovýchovná jednota Jiskra H
 avlíčkův Brod z.s. 0:3 (-22\,-20\,-20)
DTSTART;TZID=Europe/Berlin:20220123T120000
DTEND;TZID=Europe/Berlin:20220123T140000
LOCATION:TJ Jiskra Humpolec\, Tyršovo náměstí 745 Humpolec
SUMMARY:VY-JKY: TJ Jiskra Humpolec\, z.s.-Tělovýchovná jednota Jiskra Havlí
 čkův Brod z.s.
END:VEVENT
BEGIN:VEVENT
UID:63366231-3837-4563-b032-333937333330
DTSTAMP:20260423T101132Z
DESCRIPTION:19/73 Tělocvičná jednota Sokol Havlíčkův Brod - Tělovýchovná je
 dnota Jiskra Havlíčkův Brod z.s. 0:3 (-16\,-21\,-18)
DTSTART;TZID=Europe/Berlin:20220109T100000
DTEND;TZID=Europe/Berlin:20220109T120000
LOCATION:Střední zdravotnická škola Havlíčkův Brod\, Masarykova 2033 Havlíč
 kův Brod
SUMMARY:VY-JKY: Tělocvičná jednota Sokol Havlíčkův Brod-Tělovýchovná jednot
 a Jiskra Havlíčkův Brod z.s.
END:VEVENT
BEGIN:VEVENT
UID:61653639-6664-4437-b539-613062366265
DTSTAMP:20260423T101132Z
DESCRIPTION:20/77 Tělocvičná jednota Sokol Havlíčkův Brod - Tělovýchovná je
 dnota Jiskra Havlíčkův Brod z.s. 2:3 (15\,23\,-13\,-16\,-11)
DTSTART;TZID=Europe/Berlin:20220109T130000
DTEND;TZID=Europe/Berlin:20220109T150000
LOCATION:Střední zdravotnická škola Havlíčkův Brod\, Masarykova 2033 Havlíč
 kův Brod
SUMMARY:VY-JKY: Tělocvičná jednota Sokol Havlíčkův Brod-Tělovýchovná jednot
 a Jiskra Havlíčkův Brod z.s.
END:VEVENT
BEGIN:VEVENT
UID:65636365-3362-4736-b639-633232316433
DTSTAMP:20260423T101132Z
DESCRIPTION:21/84 Volejbalový klub Třebíč - Tělovýchovná jednota Jiskra Hav
 líčkův Brod z.s. 0:3 (-0\,-0\,-0)\ncovid - TR
DTSTART;TZID=Europe/Berlin:20220331T100000
DTEND;TZID=Europe/Berlin:20220331T120000
LOCATION:hala ZŠ TGM\, Komenského nám. 61 Třebíč - Horka-Domky
SUMMARY:VY-JKY: Volejbalový klub Třebíč-Tělovýchovná jednota Jiskra Havlíčk
 ův Brod z.s.
END:VEVENT
BEGIN:VEVENT
UID:61646564-6139-4732-a139-303330313333
DTSTAMP:20260423T101132Z
DESCRIPTION:22/88 Volejbalový klub Třebíč - Tělovýchovná jednota Jiskra Hav
 líčkův Brod z.s. 0:3 (-0\,-0\,-0)\ncovid - TR
DTSTART;TZID=Europe/Berlin:20220331T130000
DTEND;TZID=Europe/Berlin:20220331T150000
LOCATION:hala ZŠ TGM\, Komenského nám. 61 Třebíč - Horka-Domky
SUMMARY:VY-JKY: Volejbalový klub Třebíč-Tělovýchovná jednota Jiskra Havlíčk
 ův Brod z.s.
END:VEVENT
BEGIN:VEVENT
UID:63653633-3630-4533-b137-613361643164
DTSTAMP:20260423T101132Z
DESCRIPTION:25/99 Tělovýchovná jednota Spartak Pelhřimov\, z.s. - Tělovýcho
 vná jednota Jiskra Havlíčkův Brod z.s. 0:3 (-22\,-23\,-18)\ncovid - HB
DTSTART;TZID=Europe/Berlin:20220317T173000
DTEND;TZID=Europe/Berlin:20220317T193000
LOCATION:Základní škola Pelhřimov\, Osvobození\, Osvobození 1881 Pelhřimov
SUMMARY:VY-JKY: Tělovýchovná jednota Spartak Pelhřimov\, z.s.-Tělovýchovná 
 jednota Jiskra Havlíčkův Brod z.s.
END:VEVENT
BEGIN:VEVENT
UID:61636339-3635-4963-b063-393466646663
DTSTAMP:20260423T101132Z
DESCRIPTION:26/103 Tělovýchovná jednota Spartak Pelhřimov\, z.s. - Tělových
 ovná jednota Jiskra Havlíčkův Brod z.s. 1:3 (-11\,23\,-18\,-20)\ncovid - H
 B
DTSTART;TZID=Europe/Berlin:20220317T184500
DTEND;TZID=Europe/Berlin:20220317T204500
LOCATION:Základní škola Pelhřimov\, Osvobození\, Osvobození 1881 Pelhřimov
SUMMARY:VY-JKY: Tělovýchovná jednota Spartak Pelhřimov\, z.s.-Tělovýchovná 
 jednota Jiskra Havlíčkův Brod z.s.
END:VEVENT
END:VCALENDAR
