BEGIN:VCALENDAR
VERSION:2.0
PRODID:-//Volejbalový klub Choceň A76078//NONSGML kigkonsult.se iCalcreator 2.41.80//
CALSCALE:GREGORIAN
UID:65646333-6264-4566-a562-626165333836
BEGIN:VEVENT
UID:32666134-6339-4963-a566-646165396339
DTSTAMP:20260422T203416Z
DESCRIPTION:1/2 VK Choceň A - VK Litomyšl 3:1 (-25\,16\,8\,25)
DTSTART;TZID=Europe/Berlin:20211010T100000
DTEND;TZID=Europe/Berlin:20211010T120000
LOCATION:Volejbalová hala \, U Koupaliště 1734 Choceň
SUMMARY:PA-JKY: VK Choceň A-VK Litomyšl
END:VEVENT
BEGIN:VEVENT
UID:37326330-3332-4665-b739-303464336332
DTSTAMP:20260422T203416Z
DESCRIPTION:2/5 VK Choceň A - VK Litomyšl 3:0 (16\,14\,19)
DTSTART;TZID=Europe/Berlin:20211010T130000
DTEND;TZID=Europe/Berlin:20211010T150000
LOCATION:Volejbalová hala \, U Koupaliště 1734 Choceň
SUMMARY:PA-JKY: VK Choceň A-VK Litomyšl
END:VEVENT
BEGIN:VEVENT
UID:37643566-3834-4335-a564-393137306639
DTSTAMP:20260422T203416Z
DESCRIPTION:5/13 VK Choceň A - Energetik Chvaletice A 3:2 (-26\,-23\,15\,18
 \,13)
DTSTART;TZID=Europe/Berlin:20211107T100000
DTEND;TZID=Europe/Berlin:20211107T120000
LOCATION:Volejbalová hala \, U Koupaliště 1734 Choceň
SUMMARY:PA-JKY: VK Choceň A-Energetik Chvaletice A
END:VEVENT
BEGIN:VEVENT
UID:31333238-3864-4961-b964-646564366262
DTSTAMP:20260422T203416Z
DESCRIPTION:6/16 VK Choceň A - Energetik Chvaletice A 3:0 (22\,19\,11)
DTSTART;TZID=Europe/Berlin:20211107T130000
DTEND;TZID=Europe/Berlin:20211107T150000
LOCATION:Volejbalová hala \, U Koupaliště 1734 Choceň
SUMMARY:PA-JKY: VK Choceň A-Energetik Chvaletice A
END:VEVENT
BEGIN:VEVENT
UID:66626534-3265-4638-a630-643136323639
DTSTAMP:20260422T203416Z
DESCRIPTION:13/39 VK Choceň A - Dolní Újezd 0:3 (-22\,-20\,-23)
DTSTART;TZID=Europe/Berlin:20220320T130000
DTEND;TZID=Europe/Berlin:20220320T150000
LOCATION:Volejbalová hala \, U Koupaliště 1734 Choceň
SUMMARY:PA-JKY: VK Choceň A-Dolní Újezd
END:VEVENT
BEGIN:VEVENT
UID:64663131-3263-4037-a365-373930616432
DTSTAMP:20260422T203416Z
DESCRIPTION:14/42 VK Choceň A - Dolní Újezd 0:3 (-13\,-16\,-20)
DTSTART;TZID=Europe/Berlin:20220320T153000
DTEND;TZID=Europe/Berlin:20220320T173000
LOCATION:Volejbalová hala \, U Koupaliště 1734 Choceň
SUMMARY:PA-JKY: VK Choceň A-Dolní Újezd
END:VEVENT
BEGIN:VEVENT
UID:61616465-3765-4362-a331-616665343136
DTSTAMP:20260422T203416Z
DESCRIPTION:19/56 VK Choceň A - Sokol Česká Třebová B 3:0 (18\,20\,10)
DTSTART;TZID=Europe/Berlin:20220327T090000
DTEND;TZID=Europe/Berlin:20220327T110000
LOCATION:Volejbalová hala \, U Koupaliště 1734 Choceň
SUMMARY:PA-JKY: VK Choceň A-Sokol Česká Třebová B
END:VEVENT
BEGIN:VEVENT
UID:62613966-3033-4339-b763-303837336131
DTSTAMP:20260422T203416Z
DESCRIPTION:20/59 VK Choceň A - Sokol Česká Třebová B 3:0 (18\,16\,20)
DTSTART;TZID=Europe/Berlin:20220327T120000
DTEND;TZID=Europe/Berlin:20220327T140000
LOCATION:Volejbalová hala \, U Koupaliště 1734 Choceň
SUMMARY:PA-JKY: VK Choceň A-Sokol Česká Třebová B
END:VEVENT
BEGIN:VEVENT
UID:65633630-6234-4732-b933-376635356138
DTSTAMP:20260422T203416Z
DESCRIPTION:3/9 Dolní Újezd - VK Choceň A 3:0 (11\,9\,16)
DTSTART;TZID=Europe/Berlin:20211024T100000
DTEND;TZID=Europe/Berlin:20211024T120000
LOCATION:tělocvična Základní školy\,  Dolní Újezd342
SUMMARY:PA-JKY: Dolní Újezd-VK Choceň A
END:VEVENT
BEGIN:VEVENT
UID:66623331-3232-4630-b130-616232313632
DTSTAMP:20260422T203416Z
DESCRIPTION:4/12 Dolní Újezd - VK Choceň A 3:0 (17\,14\,6)
DTSTART;TZID=Europe/Berlin:20211024T130000
DTEND;TZID=Europe/Berlin:20211024T150000
LOCATION:tělocvična Základní školy\,  Dolní Újezd342
SUMMARY:PA-JKY: Dolní Újezd-VK Choceň A
END:VEVENT
BEGIN:VEVENT
UID:30626138-3030-4964-b137-363066623366
DTSTAMP:20260422T203416Z
DESCRIPTION:9/26 Sokol Česká Třebová B - VK Choceň A 1:3 (-19\,-22\,21\,-19
 )
DTSTART;TZID=Europe/Berlin:20211212T090000
DTEND;TZID=Europe/Berlin:20211212T110000
LOCATION:Základní škola Česká Třebová Habrmanova\, Na Skále\, Na Skále 566 
 Česká Třebová
SUMMARY:PA-JKY: Sokol Česká Třebová B-VK Choceň A
END:VEVENT
BEGIN:VEVENT
UID:65356135-6663-4933-b761-393630356363
DTSTAMP:20260422T203416Z
DESCRIPTION:10/29 Sokol Česká Třebová B - VK Choceň A 3:2 (-12\,-21\,21\,21
 \,14)
DTSTART;TZID=Europe/Berlin:20211212T130000
DTEND;TZID=Europe/Berlin:20211212T150000
LOCATION:Základní škola Česká Třebová Habrmanova\, Na Skále\, Na Skále 566 
 Česká Třebová
SUMMARY:PA-JKY: Sokol Česká Třebová B-VK Choceň A
END:VEVENT
BEGIN:VEVENT
UID:32643236-6130-4765-a262-323336376231
DTSTAMP:20260422T203416Z
DESCRIPTION:11/32 VK Litomyšl - VK Choceň A 1:3 (-18\,23\,-13\,-19)
DTSTART;TZID=Europe/Berlin:20220116T100000
DTEND;TZID=Europe/Berlin:20220116T120000
LOCATION:Městská sportovní hala\, T. G. Masaryka 1145 Litomyšl - Litomyšl-M
 ěsto
SUMMARY:PA-JKY: VK Litomyšl-VK Choceň A
END:VEVENT
BEGIN:VEVENT
UID:63666332-3733-4731-a330-336463386233
DTSTAMP:20260422T203416Z
DESCRIPTION:12/35 VK Litomyšl - VK Choceň A 0:3 (-19\,-14\,-22)
DTSTART;TZID=Europe/Berlin:20220116T130000
DTEND;TZID=Europe/Berlin:20220116T150000
LOCATION:Městská sportovní hala\, T. G. Masaryka 1145 Litomyšl - Litomyšl-M
 ěsto
SUMMARY:PA-JKY: VK Litomyšl-VK Choceň A
END:VEVENT
BEGIN:VEVENT
UID:34376638-6261-4934-b666-623162313166
DTSTAMP:20260422T203416Z
DESCRIPTION:15/43 Energetik Chvaletice A - VK Choceň A 0:3 (-10\,-11\,-20)
DTSTART;TZID=Europe/Berlin:20220213T100000
DTEND;TZID=Europe/Berlin:20220213T120000
LOCATION:ZŠ Chvaletice\, Spojovací 431 Chvaletice
SUMMARY:PA-JKY: Energetik Chvaletice A-VK Choceň A
END:VEVENT
BEGIN:VEVENT
UID:61376333-3562-4834-b032-633835623738
DTSTAMP:20260422T203416Z
DESCRIPTION:16/46 Energetik Chvaletice A - VK Choceň A 0:3 (-8\,-19\,-12)
DTSTART;TZID=Europe/Berlin:20220213T130000
DTEND;TZID=Europe/Berlin:20220213T150000
LOCATION:ZŠ Chvaletice\, Spojovací 431 Chvaletice
SUMMARY:PA-JKY: Energetik Chvaletice A-VK Choceň A
END:VEVENT
END:VCALENDAR
