BEGIN:VCALENDAR
VERSION:2.0
PRODID:-//VK Šelmy Brno76083//NONSGML kigkonsult.se iCalcreator 2.41.80//
CALSCALE:GREGORIAN
UID:36353135-3235-4531-b161-323865613632
BEGIN:VEVENT
UID:36326331-6465-4736-b239-623230333639
DTSTAMP:20260423T170607Z
DESCRIPTION:4/21020 Šelmy - Kr. Pole 2:3 (24\,-20\,20\,-21\,-12)
DTSTART;TZID=Europe/Berlin:20211007T190000
DTEND;TZID=Europe/Berlin:20211007T210000
LOCATION:TJ Sokol Brno I\, Kounicova 686 Brno - Veveří
SUMMARY:EX-Z: Šelmy-Kr. Pole
END:VEVENT
BEGIN:VEVENT
UID:63366362-3733-4638-b638-356661356361
DTSTAMP:20260423T170607Z
DESCRIPTION:8/21038 Šelmy - Šternberk 3:2 (-16\,22\,21\,-23\,15)
DTSTART;TZID=Europe/Berlin:20211023T170000
DTEND;TZID=Europe/Berlin:20211023T190000
LOCATION:TJ Sokol Brno I\, Kounicova 686 Brno - Veveří
SUMMARY:EX-Z: Šelmy-Šternberk
END:VEVENT
BEGIN:VEVENT
UID:64383866-6265-4237-b361-333530626366
DTSTAMP:20260423T170607Z
DESCRIPTION:10/21047 Šelmy - Olymp 3:0 (15\,14\,17)
DTSTART;TZID=Europe/Berlin:20211030T183000
DTEND;TZID=Europe/Berlin:20211030T203000
LOCATION:TJ Sokol Brno I\, Kounicova 686 Brno - Veveří
SUMMARY:EX-Z: Šelmy-Olymp
END:VEVENT
BEGIN:VEVENT
UID:34363339-6463-4135-b265-343638303036
DTSTAMP:20260423T170607Z
DESCRIPTION:11/21055 Šelmy - Liberec 3:1 (27\,-10\,23\,30)
DTSTART;TZID=Europe/Berlin:20211106T170000
DTEND;TZID=Europe/Berlin:20211106T190000
LOCATION:STAREZ ARÉNA VODOVA (Velká hala)\, Vodova 336 Brno - Královo Pole
SUMMARY:EX-Z: Šelmy-Liberec
END:VEVENT
BEGIN:VEVENT
UID:37646639-6639-4931-a636-623030333766
DTSTAMP:20260423T170607Z
DESCRIPTION:12/21056 Šelmy - Přerov 3:0 (15\,17\,12)
DTSTART;TZID=Europe/Berlin:20211111T190000
DTEND;TZID=Europe/Berlin:20211111T210000
LOCATION:TJ Sokol Brno I\, Kounicova 686 Brno - Veveří
SUMMARY:EX-Z: Šelmy-Přerov
END:VEVENT
BEGIN:VEVENT
UID:35376165-6138-4462-a232-383133623734
DTSTAMP:20260423T170607Z
DESCRIPTION:14/21067 Šelmy - Prostějov 1:3 (-23\,-22\,20\,-20)\nmíče MIKASA
DTSTART;TZID=Europe/Berlin:20211120T170000
DTEND;TZID=Europe/Berlin:20211120T190000
LOCATION:TJ Sokol Brno I\, Kounicova 686 Brno - Veveří
SUMMARY:EX-Z: Šelmy-Prostějov
END:VEVENT
BEGIN:VEVENT
UID:39363731-6534-4366-b131-336430313736
DTSTAMP:20260423T170607Z
DESCRIPTION:15/21074 Šelmy - Frýdek-Místek 3:0 (19\,19\,19)
DTSTART;TZID=Europe/Berlin:20211127T170000
DTEND;TZID=Europe/Berlin:20211127T190000
LOCATION:TJ Sokol Brno I\, Kounicova 686 Brno - Veveří
SUMMARY:EX-Z: Šelmy-Frýdek-Místek
END:VEVENT
BEGIN:VEVENT
UID:66356162-3139-4031-b066-643536383239
DTSTAMP:20260423T170607Z
DESCRIPTION:16/21078 Šelmy - Olomouc 0:3 (-21\,-23\,-19)\nmíče MIKASA
DTSTART;TZID=Europe/Berlin:20211204T160000
DTEND;TZID=Europe/Berlin:20211204T180000
LOCATION:TJ Sokol Brno I\, Kounicova 686 Brno - Veveří
SUMMARY:EX-Z: Šelmy-Olomouc
END:VEVENT
BEGIN:VEVENT
UID:38383064-3061-4732-b035-626631666231
DTSTAMP:20260423T170607Z
DESCRIPTION:18/21089 Šelmy - Ostrava 3:1 (-23\,21\,18\,21)
DTSTART;TZID=Europe/Berlin:20211218T170000
DTEND;TZID=Europe/Berlin:20211218T190000
LOCATION:TJ Sokol Brno I\, Kounicova 686 Brno - Veveří
SUMMARY:EX-Z: Šelmy-Ostrava
END:VEVENT
BEGIN:VEVENT
UID:36353737-6530-4130-b662-386662663865
DTSTAMP:20260423T170607Z
DESCRIPTION:20/21096 Šelmy - Přerov 3:0 (10\,21\,18)
DTSTART;TZID=Europe/Berlin:20220204T170000
DTEND;TZID=Europe/Berlin:20220204T190000
LOCATION:Městská sportovní hala\, Petřivalského 2884 Přerov - Přerov I-Měst
 o
SUMMARY:EX-Z: Šelmy-Přerov
END:VEVENT
BEGIN:VEVENT
UID:38636536-6265-4830-b839-616136653539
DTSTAMP:20260423T170607Z
DESCRIPTION:22/21106 Šelmy - Olymp 3:1 (-19\,21\,17\,18)
DTSTART;TZID=Europe/Berlin:20220129T170000
DTEND;TZID=Europe/Berlin:20220129T190000
LOCATION:TJ Sokol Brno I\, Kounicova 686 Brno - Veveří
SUMMARY:EX-Z: Šelmy-Olymp
END:VEVENT
BEGIN:VEVENT
UID:32663730-3434-4135-b632-366436396361
DTSTAMP:20260423T170607Z
DESCRIPTION:24/21116 Šelmy - Šternberk 3:0 (14\,21\,9)
DTSTART;TZID=Europe/Berlin:20220219T170000
DTEND;TZID=Europe/Berlin:20220219T190000
LOCATION:TJ Sokol Brno I\, Kounicova 686 Brno - Veveří
SUMMARY:EX-Z: Šelmy-Šternberk
END:VEVENT
BEGIN:VEVENT
UID:61653131-3366-4533-a263-646535303731
DTSTAMP:20260423T170607Z
DESCRIPTION:26/21126 Šelmy - Frýdek-Místek 3:0 (11\,18\,12)
DTSTART;TZID=Europe/Berlin:20220305T183000
DTEND;TZID=Europe/Berlin:20220305T203000
LOCATION:TJ Sokol Brno I\, Kounicova 686 Brno - Veveří
SUMMARY:EX-Z: Šelmy-Frýdek-Místek
END:VEVENT
BEGIN:VEVENT
UID:39346633-3539-4564-a430-633462626234
DTSTAMP:20260423T170607Z
DESCRIPTION:1/21002 Olymp - Šelmy 3:2 (-23\,15\,-28\,27\,9)
DTSTART;TZID=Europe/Berlin:20210925T170000
DTEND;TZID=Europe/Berlin:20210925T190000
LOCATION:PVK Olymp Praha\, Přípotoční 300 Praha - Vršovice
SUMMARY:EX-Z: Olymp-Šelmy
END:VEVENT
BEGIN:VEVENT
UID:38646463-3834-4762-b336-383330393938
DTSTAMP:20260423T170607Z
DESCRIPTION:2/21010 Liberec - Šelmy 3:0 (17\,6\,22)
DTSTART;TZID=Europe/Berlin:20210930T180000
DTEND;TZID=Europe/Berlin:20210930T200000
LOCATION:Dukla Liberec\, Jeronýmova 558 Liberec - Liberec VII-Horní Růžodol
SUMMARY:EX-Z: Liberec-Šelmy
END:VEVENT
BEGIN:VEVENT
UID:62633734-3631-4931-b034-356136646234
DTSTAMP:20260423T170607Z
DESCRIPTION:3/21011 Přerov - Šelmy 0:3 (-19\,-17\,-13)
DTSTART;TZID=Europe/Berlin:20211002T170000
DTEND;TZID=Europe/Berlin:20211002T190000
LOCATION:Městská sportovní hala\, Petřivalského 2884 Přerov - Přerov I-Měst
 o
SUMMARY:EX-Z: Přerov-Šelmy
END:VEVENT
BEGIN:VEVENT
UID:65353031-6163-4637-b639-643834313862
DTSTAMP:20260423T170607Z
DESCRIPTION:5/21022 Prostějov - Šelmy 3:0 (19\,20\,25)
DTSTART;TZID=Europe/Berlin:20211009T170000
DTEND;TZID=Europe/Berlin:20211009T190000
LOCATION:Národní sportovní centrum\, Za velodromem 4187 Prostějov
SUMMARY:EX-Z: Prostějov-Šelmy
END:VEVENT
BEGIN:VEVENT
UID:65626339-3262-4132-b566-633764303932
DTSTAMP:20260423T170607Z
DESCRIPTION:6/21029 Frýdek-Místek - Šelmy 2:3 (-23\,21\,-23\,16\,-8)
DTSTART;TZID=Europe/Berlin:20211014T170000
DTEND;TZID=Europe/Berlin:20211014T190000
LOCATION:ZŠ Pionýrů 400 Frýdek-Místek\, Pionýrů 400 Frýdek-Místek - Místek
SUMMARY:EX-Z: Frýdek-Místek-Šelmy
END:VEVENT
BEGIN:VEVENT
UID:37343637-3161-4732-b130-626537353262
DTSTAMP:20260423T170607Z
DESCRIPTION:7/21033 Olomouc - Šelmy 3:1 (-21\,17\,18\,20)
DTSTART;TZID=Europe/Berlin:20211016T170000
DTEND;TZID=Europe/Berlin:20211016T190000
LOCATION:UP Olomouc\, U sportovní haly 38 Olomouc - Lazce
SUMMARY:EX-Z: Olomouc-Šelmy
END:VEVENT
BEGIN:VEVENT
UID:62356435-6566-4137-b666-386464326436
DTSTAMP:20260423T170607Z
DESCRIPTION:9/21044 Ostrava - Šelmy 0:3 (-24\,-16\,-22)
DTSTART;TZID=Europe/Berlin:20211216T170000
DTEND;TZID=Europe/Berlin:20211216T190000
LOCATION:Hala míčových sportů\, Varenská 3098 Ostrava - Moravská Ostrava
SUMMARY:EX-Z: Ostrava-Šelmy
END:VEVENT
BEGIN:VEVENT
UID:62373430-6435-4061-a561-653562666665
DTSTAMP:20260423T170607Z
DESCRIPTION:13/21065 Kr. Pole - Šelmy 3:0 (23\,13\,17)\nmíče MIKASA
DTSTART;TZID=Europe/Berlin:20211113T180000
DTEND;TZID=Europe/Berlin:20211113T200000
LOCATION:STAREZ ARÉNA VODOVA (Velká hala)\, Vodova 336 Brno - Královo Pole
SUMMARY:EX-Z: Kr. Pole-Šelmy
END:VEVENT
BEGIN:VEVENT
UID:36353962-3461-4265-b463-623432363636
DTSTAMP:20260423T170607Z
DESCRIPTION:17/21083 Šternberk - Šelmy 2:3 (20\,-15\,-13\,22\,-10)
DTSTART;TZID=Europe/Berlin:20211104T170000
DTEND;TZID=Europe/Berlin:20211104T190000
LOCATION:Ecce Homo Šternberk\, Dvorská 2515 Šternberk
SUMMARY:EX-Z: Šternberk-Šelmy
END:VEVENT
BEGIN:VEVENT
UID:32613861-3062-4635-a633-343132343465
DTSTAMP:20260423T170607Z
DESCRIPTION:19/21091 Liberec - Šelmy 3:1 (22\,-22\,16\,17)
DTSTART;TZID=Europe/Berlin:20220108T150000
DTEND;TZID=Europe/Berlin:20220108T170000
LOCATION:Dukla Liberec\, Jeronýmova 558 Liberec - Liberec VII-Horní Růžodol
SUMMARY:EX-Z: Liberec-Šelmy
END:VEVENT
BEGIN:VEVENT
UID:37653734-3330-4166-a632-326561393636
DTSTAMP:20260423T170607Z
DESCRIPTION:21/21101 Kr. Pole - Šelmy 3:2 (-22\,-19\,15\,21\,9)
DTSTART;TZID=Europe/Berlin:20220217T180000
DTEND;TZID=Europe/Berlin:20220217T200000
LOCATION:STAREZ ARÉNA VODOVA (Velká hala)\, Vodova 336 Brno - Královo Pole
SUMMARY:EX-Z: Kr. Pole-Šelmy
END:VEVENT
BEGIN:VEVENT
UID:38656232-3061-4137-b165-326664316161
DTSTAMP:20260423T170607Z
DESCRIPTION:23/21111 Ostrava - Šelmy 3:2 (19\,-14\,-17\,23\,13)
DTSTART;TZID=Europe/Berlin:20220212T170000
DTEND;TZID=Europe/Berlin:20220212T190000
LOCATION:Hala míčových sportů\, Varenská 3098 Ostrava - Moravská Ostrava
SUMMARY:EX-Z: Ostrava-Šelmy
END:VEVENT
BEGIN:VEVENT
UID:32663635-3634-4361-b436-386461333563
DTSTAMP:20260423T170607Z
DESCRIPTION:25/21121 Olomouc - Šelmy 3:1 (21\,-20\,20\,19)
DTSTART;TZID=Europe/Berlin:20220226T180000
DTEND;TZID=Europe/Berlin:20220226T200000
LOCATION:UP Olomouc\, U sportovní haly 38 Olomouc - Lazce
SUMMARY:EX-Z: Olomouc-Šelmy
END:VEVENT
BEGIN:VEVENT
UID:35363665-3834-4530-a565-646438383965
DTSTAMP:20260423T170607Z
DESCRIPTION:27/21131 Prostějov - Šelmy 1:3 (-19\,-18\,18\,-23)
DTSTART;TZID=Europe/Berlin:20220312T170000
DTEND;TZID=Europe/Berlin:20220312T190000
LOCATION:Národní sportovní centrum\, Za velodromem 4187 Prostějov
SUMMARY:EX-Z: Prostějov-Šelmy
END:VEVENT
BEGIN:VEVENT
UID:33313566-3131-4539-a433-323332616234
DTSTAMP:20260423T170607Z
DESCRIPTION:1/21142 Šelmy - Olomouc 1:3 (-26\,21\,-22\,-16)\nČtvrtfinále
DTSTART;TZID=Europe/Berlin:20220321T193000
DTEND;TZID=Europe/Berlin:20220321T213000
LOCATION:TJ Sokol Brno I\, Kounicova 686 Brno - Veveří
SUMMARY:EX-Z-I: Šelmy-Olomouc
END:VEVENT
BEGIN:VEVENT
UID:30303536-3932-4165-b132-623031326635
DTSTAMP:20260423T170607Z
DESCRIPTION:1/21138 Olomouc - Šelmy 3:0 (18\,18\,22)\nČtvrtfinále
DTSTART;TZID=Europe/Berlin:20220318T180000
DTEND;TZID=Europe/Berlin:20220318T200000
LOCATION:UP Olomouc\, U sportovní haly 38 Olomouc - Lazce
SUMMARY:EX-Z-I: Olomouc-Šelmy
END:VEVENT
BEGIN:VEVENT
UID:36383932-3564-4363-b731-616333316336
DTSTAMP:20260423T170607Z
DESCRIPTION:1/21146 Olomouc - Šelmy 3:0 (18\,13\,18)\nČtvrtfinále
DTSTART;TZID=Europe/Berlin:20220324T180000
DTEND;TZID=Europe/Berlin:20220324T200000
LOCATION:UP Olomouc\, U sportovní haly 38 Olomouc - Lazce
SUMMARY:EX-Z-I: Olomouc-Šelmy
END:VEVENT
BEGIN:VEVENT
UID:34663965-3561-4837-b338-653936303966
DTSTAMP:20260423T170607Z
DESCRIPTION:3/20009 Šelmy - Olymp 3:2 (25\,-20\,-21\,17\,12)
DTSTART;TZID=Europe/Berlin:20220106T190000
DTEND;TZID=Europe/Berlin:20220106T210000
LOCATION:TJ Sokol Brno I\, Kounicova 686 Brno - Veveří
SUMMARY:CP-Z: Šelmy-Olymp
END:VEVENT
BEGIN:VEVENT
UID:34646134-3036-4763-b734-323531393137
DTSTAMP:20260423T170607Z
DESCRIPTION:2/20002 H. Králové - Šelmy 0:3 (-19\,-13\,-23)
DTSTART;TZID=Europe/Berlin:20211020T190000
DTEND;TZID=Europe/Berlin:20211020T210000
LOCATION:TJ Slavia Hradec Králové\, Víta Nejedlého 1216 Hradec Králové
SUMMARY:CP-Z: H. Králové-Šelmy
END:VEVENT
BEGIN:VEVENT
UID:63316432-6336-4330-a338-616561663262
DTSTAMP:20260423T170607Z
DESCRIPTION:3/20013 Olymp - Šelmy 3:0 (19\,16\,24)
DTSTART;TZID=Europe/Berlin:20220112T170000
DTEND;TZID=Europe/Berlin:20220112T190000
LOCATION:PVK Olymp Praha\, Přípotoční 300 Praha - Vršovice
SUMMARY:CP-Z: Olymp-Šelmy
END:VEVENT
END:VCALENDAR
