BEGIN:VCALENDAR
VERSION:2.0
PRODID:-//TJ Žďár nad Sázavou76101//NONSGML kigkonsult.se iCalcreator 2.41.80//
CALSCALE:GREGORIAN
UID:62316536-3666-4530-b631-646336623339
BEGIN:VEVENT
UID:31356538-3862-4337-a166-326361376233
DTSTAMP:20260422T150344Z
DESCRIPTION:1/7 TJ Žďár nad Sázavou - Havlíčkův Brod 0:2 (-16\,-14)
DTSTART;TZID=Europe/Berlin:20211003T090000
DTEND;TZID=Europe/Berlin:20211003T110000
LOCATION:ZŠ Palachova\, Palachova 1757 Žďár nad Sázavou - Žďár nad Sázavou 
 6
SUMMARY:VY-ZKY-B: TJ Žďár nad Sázavou-Havlíčkův Brod
END:VEVENT
BEGIN:VEVENT
UID:62366131-3038-4335-b263-613937633763
DTSTAMP:20260422T150344Z
DESCRIPTION:1/9 TJ Žďár nad Sázavou - TJ Jiskra Humpolec\, z.s. 2:0 (10\,11
 )
DTSTART;TZID=Europe/Berlin:20211003T090000
DTEND;TZID=Europe/Berlin:20211003T110000
LOCATION:ZŠ Palachova\, Palachova 1757 Žďár nad Sázavou - Žďár nad Sázavou 
 6
SUMMARY:VY-ZKY-B: TJ Žďár nad Sázavou-TJ Jiskra Humpolec\, z.s.
END:VEVENT
BEGIN:VEVENT
UID:64343937-3234-4165-a132-326533613937
DTSTAMP:20260422T150344Z
DESCRIPTION:2/12 TJ Žďár nad Sázavou - Tělocvičná jednota Sokol Bedřichov '
 B' 1:2 (-22\,22\,-14)
DTSTART;TZID=Europe/Berlin:20211010T090000
DTEND;TZID=Europe/Berlin:20211010T110000
LOCATION:ZŠ Palachova\, Palachova 1757 Žďár nad Sázavou - Žďár nad Sázavou 
 6
SUMMARY:VY-ZKY-B: TJ Žďár nad Sázavou-Tělocvičná jednota Sokol Bedřichov 'B
 '
END:VEVENT
BEGIN:VEVENT
UID:34633435-6162-4138-b164-333861623761
DTSTAMP:20260422T150344Z
DESCRIPTION:3/19 TJ Žďár nad Sázavou - Jiskra H.Brod 2:0 (18\,12)\nPořadate
 l Žďár
DTSTART;TZID=Europe/Berlin:20211112T170000
DTEND;TZID=Europe/Berlin:20211112T190000
LOCATION:ZŠ Palachova\, Palachova 1757 Žďár nad Sázavou - Žďár nad Sázavou 
 6
SUMMARY:VY-ZKY-B: TJ Žďár nad Sázavou-Jiskra H.Brod
END:VEVENT
BEGIN:VEVENT
UID:31386461-3033-4430-a661-393039646265
DTSTAMP:20260422T150344Z
DESCRIPTION:4/34 TJ Žďár nad Sázavou - Tělocvičná jednota Sokol Bedřichov '
 B' 0:2 (-14\,-11)
DTSTART;TZID=Europe/Berlin:20211107T090000
DTEND;TZID=Europe/Berlin:20211107T110000
LOCATION:ZŠ Palachova\, Palachova 1757 Žďár nad Sázavou - Žďár nad Sázavou 
 6
SUMMARY:VY-ZKY-B: TJ Žďár nad Sázavou-Tělocvičná jednota Sokol Bedřichov 'B
 '
END:VEVENT
BEGIN:VEVENT
UID:35343338-6262-4439-a464-353139346434
DTSTAMP:20260422T150344Z
DESCRIPTION:4/36 TJ Žďár nad Sázavou - Jiskra H.Brod 0:2 (-21\,-24)
DTSTART;TZID=Europe/Berlin:20211107T090000
DTEND;TZID=Europe/Berlin:20211107T110000
LOCATION:ZŠ Palachova\, Palachova 1757 Žďár nad Sázavou - Žďár nad Sázavou 
 6
SUMMARY:VY-ZKY-B: TJ Žďár nad Sázavou-Jiskra H.Brod
END:VEVENT
BEGIN:VEVENT
UID:64363837-6464-4831-a466-343937393930
DTSTAMP:20260422T150344Z
DESCRIPTION:5/42 TJ Žďár nad Sázavou - Tělovýchovná jednota Spartak Pelhřim
 ov\, z.s. 'A' 2:0 (25\,18)
DTSTART;TZID=Europe/Berlin:20211114T090000
DTEND;TZID=Europe/Berlin:20211114T110000
LOCATION:ZŠ Palachova\, Palachova 1757 Žďár nad Sázavou - Žďár nad Sázavou 
 6
SUMMARY:VY-ZKY-B: TJ Žďár nad Sázavou-Tělovýchovná jednota Spartak Pelhřimo
 v\, z.s. 'A'
END:VEVENT
BEGIN:VEVENT
UID:38326630-3262-4537-b234-373935393831
DTSTAMP:20260422T150344Z
DESCRIPTION:1/5 Tělovýchovná jednota Sokol Štoky\, z.s. - TJ Žďár nad Sázav
 ou 0:2 (-16\,-16)
DTSTART;TZID=Europe/Berlin:20211003T090000
DTEND;TZID=Europe/Berlin:20211003T110000
LOCATION:Sportovní hala Základní škola a mateřská škola Štoky\,  Štoky220
SUMMARY:VY-ZKY-B: Tělovýchovná jednota Sokol Štoky\, z.s.-TJ Žďár nad Sázav
 ou
END:VEVENT
BEGIN:VEVENT
UID:62343063-3234-4665-b065-333232643663
DTSTAMP:20260422T150344Z
DESCRIPTION:2/11 Tělovýchovná jednota Sokol Štoky\, z.s. - TJ Žďár nad Sáza
 vou 0:2 (-20\,-16)
DTSTART;TZID=Europe/Berlin:20211010T090000
DTEND;TZID=Europe/Berlin:20211010T110000
LOCATION:Sportovní hala Základní škola a mateřská škola Štoky\,  Štoky220
SUMMARY:VY-ZKY-B: Tělovýchovná jednota Sokol Štoky\, z.s.-TJ Žďár nad Sázav
 ou
END:VEVENT
BEGIN:VEVENT
UID:39336333-6362-4939-b734-323232383439
DTSTAMP:20260422T150344Z
DESCRIPTION:3/21 TJ Jiskra Humpolec\, z.s. - TJ Žďár nad Sázavou 0:2 (-8\,-
 16)
DTSTART;TZID=Europe/Berlin:20211112T170000
DTEND;TZID=Europe/Berlin:20211112T190000
LOCATION:TJ Jiskra Humpolec\, Tyršovo náměstí 745 Humpolec
SUMMARY:VY-ZKY-B: TJ Jiskra Humpolec\, z.s.-TJ Žďár nad Sázavou
END:VEVENT
BEGIN:VEVENT
UID:33666564-3964-4931-a366-393730383839
DTSTAMP:20260422T150344Z
DESCRIPTION:4/32 Havlíčkův Brod - TJ Žďár nad Sázavou 2:0 (20\,13)
DTSTART;TZID=Europe/Berlin:20211107T090000
DTEND;TZID=Europe/Berlin:20211107T110000
LOCATION:ZŠ Nuselská H. Brod\, Nuselská 3240 Havlíčkův Brod
SUMMARY:VY-ZKY-B: Havlíčkův Brod-TJ Žďár nad Sázavou
END:VEVENT
BEGIN:VEVENT
UID:36346265-3339-4163-a139-353534356363
DTSTAMP:20260422T150344Z
DESCRIPTION:5/41 Tělovýchovná jednota Spartak Pelhřimov\, z.s. 'A' - TJ Žďá
 r nad Sázavou 0:2 (-20\,-22)\nPořadatel Pelhřimov
DTSTART;TZID=Europe/Berlin:20211114T090000
DTEND;TZID=Europe/Berlin:20211114T110000
LOCATION:Základní škola Pelhřimov\, Osvobození\, Osvobození 1881 Pelhřimov
SUMMARY:VY-ZKY-B: Tělovýchovná jednota Spartak Pelhřimov\, z.s. 'A'-TJ Žďár
  nad Sázavou
END:VEVENT
BEGIN:VEVENT
UID:63373065-3432-4932-b637-633634323339
DTSTAMP:20260422T150344Z
DESCRIPTION:1/5 TJ Žďár nad Sázavou - Volejbalový klub Třebíč 2:1 (-19\,20\
 ,14)
DTSTART;TZID=Europe/Berlin:20211128T090000
DTEND;TZID=Europe/Berlin:20211128T110000
LOCATION:ZŠ Palachova\, Palachova 1757 Žďár nad Sázavou - Žďár nad Sázavou 
 6
SUMMARY:VY-ZKY-C: TJ Žďár nad Sázavou-Volejbalový klub Třebíč
END:VEVENT
BEGIN:VEVENT
UID:62383330-3838-4239-a635-336637313662
DTSTAMP:20260422T150344Z
DESCRIPTION:2/11 TJ Žďár nad Sázavou - Volejbalový klub Třebíč 1:2 (23\,-13
 \,-13)
DTSTART;TZID=Europe/Berlin:20211205T090000
DTEND;TZID=Europe/Berlin:20211205T110000
LOCATION:ZŠ Palachova\, Palachova 1757 Žďár nad Sázavou - Žďár nad Sázavou 
 6
SUMMARY:VY-ZKY-C: TJ Žďár nad Sázavou-Volejbalový klub Třebíč
END:VEVENT
BEGIN:VEVENT
UID:63323864-3736-4262-a162-393634633633
DTSTAMP:20260422T150344Z
DESCRIPTION:3/25 TJ Žďár nad Sázavou - Bedřichov 0:2 (-17\,-11)
DTSTART;TZID=Europe/Berlin:20211212T090000
DTEND;TZID=Europe/Berlin:20211212T110000
LOCATION:ZŠ Palachova\, Palachova 1757 Žďár nad Sázavou - Žďár nad Sázavou 
 6
SUMMARY:VY-ZKY-C: TJ Žďár nad Sázavou-Bedřichov
END:VEVENT
BEGIN:VEVENT
UID:62313564-6631-4533-b235-376230376136
DTSTAMP:20260422T150344Z
DESCRIPTION:3/27 TJ Žďár nad Sázavou - Jiskra H.Brod 2:1 (15\,-14\,13)
DTSTART;TZID=Europe/Berlin:20211212T090000
DTEND;TZID=Europe/Berlin:20211212T110000
LOCATION:ZŠ Palachova\, Palachova 1757 Žďár nad Sázavou - Žďár nad Sázavou 
 6
SUMMARY:VY-ZKY-C: TJ Žďár nad Sázavou-Jiskra H.Brod
END:VEVENT
BEGIN:VEVENT
UID:36363231-6265-4232-a366-633266653137
DTSTAMP:20260422T150344Z
DESCRIPTION:4/30 TJ Žďár nad Sázavou - Havlíčkův Brod 0:2 (-17\,-19)
DTSTART;TZID=Europe/Berlin:20220116T090000
DTEND;TZID=Europe/Berlin:20220116T110000
LOCATION:ZŠ Palachova\, Palachova 1757 Žďár nad Sázavou - Žďár nad Sázavou 
 6
SUMMARY:VY-ZKY-C: TJ Žďár nad Sázavou-Havlíčkův Brod
END:VEVENT
BEGIN:VEVENT
UID:39653563-6534-4165-b832-326666646365
DTSTAMP:20260422T150344Z
DESCRIPTION:5/40 TJ Žďár nad Sázavou - Tělocvičná jednota Sokol Nové Veselí
  2:0 (21\,20)
DTSTART;TZID=Europe/Berlin:20220109T090000
DTEND;TZID=Europe/Berlin:20220109T110000
LOCATION:ZŠ Palachova\, Palachova 1757 Žďár nad Sázavou - Žďár nad Sázavou 
 6
SUMMARY:VY-ZKY-C: TJ Žďár nad Sázavou-Tělocvičná jednota Sokol Nové Veselí
END:VEVENT
BEGIN:VEVENT
UID:34633666-6464-4135-b761-343439306534
DTSTAMP:20260422T150344Z
DESCRIPTION:1/6 SLAVOJ POLNÁ z.s. - TJ Žďár nad Sázavou 0:2 (-10\,-21)
DTSTART;TZID=Europe/Berlin:20211128T090000
DTEND;TZID=Europe/Berlin:20211128T110000
LOCATION:Městská tělocvična\, Žejdlicova 1231 Polná
SUMMARY:VY-ZKY-C: SLAVOJ POLNÁ z.s.-TJ Žďár nad Sázavou
END:VEVENT
BEGIN:VEVENT
UID:31303161-6437-4332-a138-643263386136
DTSTAMP:20260422T150344Z
DESCRIPTION:1/8 Jiskra H.Brod - TJ Žďár nad Sázavou 0:2 (-10\,-23)
DTSTART;TZID=Europe/Berlin:20211128T090000
DTEND;TZID=Europe/Berlin:20211128T110000
LOCATION:Tělocvična OA a hotelové školy\, Bratříků 851 Havlíčkův Brod
SUMMARY:VY-ZKY-C: Jiskra H.Brod-TJ Žďár nad Sázavou
END:VEVENT
BEGIN:VEVENT
UID:62393735-6331-4461-a236-363137326138
DTSTAMP:20260422T150344Z
DESCRIPTION:2/10 Bedřichov - TJ Žďár nad Sázavou 2:0 (15\,19)\nPořadatel Be
 dřichov
DTSTART;TZID=Europe/Berlin:20211205T090000
DTEND;TZID=Europe/Berlin:20211205T110000
LOCATION:TJ Sokol Bedřichov\, Jihlava\, Sokolovská 4656 Jihlava
SUMMARY:VY-ZKY-C: Bedřichov-TJ Žďár nad Sázavou
END:VEVENT
BEGIN:VEVENT
UID:35623861-6435-4761-b032-333863313263
DTSTAMP:20260422T150344Z
DESCRIPTION:3/23 Havlíčkův Brod - TJ Žďár nad Sázavou 2:0 (21\,15)
DTSTART;TZID=Europe/Berlin:20211212T090000
DTEND;TZID=Europe/Berlin:20211212T110000
LOCATION:ZŠ Nuselská H. Brod\, Nuselská 3240 Havlíčkův Brod
SUMMARY:VY-ZKY-C: Havlíčkův Brod-TJ Žďár nad Sázavou
END:VEVENT
BEGIN:VEVENT
UID:35363766-3233-4934-a130-343866336634
DTSTAMP:20260422T150344Z
DESCRIPTION:4/29 SLAVOJ POLNÁ z.s. - TJ Žďár nad Sázavou 1:2 (-15\,26\,-5)
DTSTART;TZID=Europe/Berlin:20220116T090000
DTEND;TZID=Europe/Berlin:20220116T110000
LOCATION:Městská tělocvična\, Žejdlicova 1231 Polná
SUMMARY:VY-ZKY-C: SLAVOJ POLNÁ z.s.-TJ Žďár nad Sázavou
END:VEVENT
BEGIN:VEVENT
UID:33623638-6638-4261-a265-643161383835
DTSTAMP:20260422T150344Z
DESCRIPTION:5/39 Tělocvičná jednota Sokol Nové Veselí - TJ Žďár nad Sázavou
  0:2 (-21\,-13)\nPořadatel Žďár
DTSTART;TZID=Europe/Berlin:20220109T090000
DTEND;TZID=Europe/Berlin:20220109T110000
LOCATION:Víceúčelová sportovní hala Nové Veselí\, Žďárská 356 Nové Veselí
SUMMARY:VY-ZKY-C: Tělocvičná jednota Sokol Nové Veselí-TJ Žďár nad Sázavou
END:VEVENT
BEGIN:VEVENT
UID:65663439-3633-4136-b863-396231643131
DTSTAMP:20260422T150344Z
DESCRIPTION:1/2 TJ Žďár nad Sázavou - Bedřichov 0:2 (-22\,-20)
DTSTART;TZID=Europe/Berlin:20220306T090000
DTEND;TZID=Europe/Berlin:20220306T110000
LOCATION:ZŠ Palachova\, Palachova 1757 Žďár nad Sázavou - Žďár nad Sázavou 
 6
SUMMARY:VY-ZKY-E: TJ Žďár nad Sázavou-Bedřichov
END:VEVENT
BEGIN:VEVENT
UID:63313962-6335-4465-b966-613031386266
DTSTAMP:20260422T150344Z
DESCRIPTION:2/5 TJ Žďár nad Sázavou - Havlíčkův Brod 0:2 (-19\,-21)
DTSTART;TZID=Europe/Berlin:20220227T090000
DTEND;TZID=Europe/Berlin:20220227T110000
LOCATION:ZŠ Palachova\, Palachova 1757 Žďár nad Sázavou - Žďár nad Sázavou 
 6
SUMMARY:VY-ZKY-E: TJ Žďár nad Sázavou-Havlíčkův Brod
END:VEVENT
BEGIN:VEVENT
UID:61653936-6638-4031-b537-643439656164
DTSTAMP:20260422T150344Z
DESCRIPTION:1/1 Havlíčkův Brod - TJ Žďár nad Sázavou 2:0 (18\,16)\nPořadate
 l Sokol H.B. - Střední zdravotnická škola\, Masarykova 2033\, 580 02 Havlí
 čkův Brod
DTSTART;TZID=Europe/Berlin:20220306T090000
DTEND;TZID=Europe/Berlin:20220306T110000
LOCATION:ZŠ Nuselská H. Brod\, Nuselská 3240 Havlíčkův Brod
SUMMARY:VY-ZKY-E: Havlíčkův Brod-TJ Žďár nad Sázavou
END:VEVENT
BEGIN:VEVENT
UID:32346466-3236-4162-b533-366434386637
DTSTAMP:20260422T150344Z
DESCRIPTION:2/4 Bedřichov - TJ Žďár nad Sázavou 2:1 (-21\,17\,19)\nPořadate
 l Bedřichov
DTSTART;TZID=Europe/Berlin:20220227T090000
DTEND;TZID=Europe/Berlin:20220227T110000
LOCATION:TJ Sokol Bedřichov\, Jihlava\, Sokolovská 4656 Jihlava
SUMMARY:VY-ZKY-E: Bedřichov-TJ Žďár nad Sázavou
END:VEVENT
END:VCALENDAR
