BEGIN:VCALENDAR
VERSION:2.0
PRODID:-//SLAVOJ POLNÁ z.s.76109//NONSGML kigkonsult.se iCalcreator 2.41.80//
CALSCALE:GREGORIAN
UID:35636463-6236-4932-b263-383233623833
BEGIN:VEVENT
UID:35373430-6230-4431-b130-346537383364
DTSTAMP:20260422T052802Z
DESCRIPTION:1/6 SLAVOJ POLNÁ z.s. - Tělocvičná jednota Sokol Nové Veselí 0:
 2 (-14\,-14)
DTSTART;TZID=Europe/Berlin:20211003T090000
DTEND;TZID=Europe/Berlin:20211003T110000
LOCATION:Městská tělocvična\, Žejdlicova 1231 Polná
SUMMARY:VY-ZKY-A: SLAVOJ POLNÁ z.s.-Tělocvičná jednota Sokol Nové Veselí
END:VEVENT
BEGIN:VEVENT
UID:66646465-3839-4835-b639-376238363634
DTSTAMP:20260422T052802Z
DESCRIPTION:2/16 SLAVOJ POLNÁ z.s. - Školní sportovní klub Demlova Jihlava\
 , z.s. 2:0 (17\,20)
DTSTART;TZID=Europe/Berlin:20211010T090000
DTEND;TZID=Europe/Berlin:20211010T110000
LOCATION:Městská tělocvična\, Žejdlicova 1231 Polná
SUMMARY:VY-ZKY-A: SLAVOJ POLNÁ z.s.-Školní sportovní klub Demlova Jihlava\,
  z.s.
END:VEVENT
BEGIN:VEVENT
UID:66356665-3263-4638-a231-616238316336
DTSTAMP:20260422T052802Z
DESCRIPTION:2/18 SLAVOJ POLNÁ z.s. - Tělovýchovná jednota Spartak Pelhřimov
 \, z.s. 'B' 2:0 (18\,15)
DTSTART;TZID=Europe/Berlin:20211010T090000
DTEND;TZID=Europe/Berlin:20211010T110000
LOCATION:Městská tělocvična\, Žejdlicova 1231 Polná
SUMMARY:VY-ZKY-A: SLAVOJ POLNÁ z.s.-Tělovýchovná jednota Spartak Pelhřimov\
 , z.s. 'B'
END:VEVENT
BEGIN:VEVENT
UID:39326331-3665-4137-b530-636365356265
DTSTAMP:20260422T052802Z
DESCRIPTION:3/21 SLAVOJ POLNÁ z.s. - Základní škola Přibyslav 2:0 (18\,23)
DTSTART;TZID=Europe/Berlin:20211024T090000
DTEND;TZID=Europe/Berlin:20211024T110000
LOCATION:Městská tělocvična\, Žejdlicova 1231 Polná
SUMMARY:VY-ZKY-A: SLAVOJ POLNÁ z.s.-Základní škola Přibyslav
END:VEVENT
BEGIN:VEVENT
UID:38626633-3031-4231-b337-323736616561
DTSTAMP:20260422T052802Z
DESCRIPTION:4/29 SLAVOJ POLNÁ z.s. - Tělocvičná jednota Sokol Nové Veselí 1
 :2 (-15\,14\,-12)
DTSTART;TZID=Europe/Berlin:20211107T090000
DTEND;TZID=Europe/Berlin:20211107T110000
LOCATION:Městská tělocvična\, Žejdlicova 1231 Polná
SUMMARY:VY-ZKY-A: SLAVOJ POLNÁ z.s.-Tělocvičná jednota Sokol Nové Veselí
END:VEVENT
BEGIN:VEVENT
UID:65656434-3665-4138-b935-313530656162
DTSTAMP:20260422T052802Z
DESCRIPTION:5/38 SLAVOJ POLNÁ z.s. - Bedřichov 0:2 (-15\,-15)
DTSTART;TZID=Europe/Berlin:20211114T090000
DTEND;TZID=Europe/Berlin:20211114T110000
LOCATION:Městská tělocvična\, Žejdlicova 1231 Polná
SUMMARY:VY-ZKY-A: SLAVOJ POLNÁ z.s.-Bedřichov
END:VEVENT
BEGIN:VEVENT
UID:31363033-3639-4363-a630-303233386134
DTSTAMP:20260422T052802Z
DESCRIPTION:1/4 Školní sportovní klub Demlova Jihlava\, z.s. - SLAVOJ POLNÁ
  z.s. 0:2 (-18\,-19)\nPořadatel Přibyslav
DTSTART;TZID=Europe/Berlin:20211003T090000
DTEND;TZID=Europe/Berlin:20211003T110000
LOCATION:ZŠ Otokara Březiny\, Demlova 4765 Jihlava
SUMMARY:VY-ZKY-A: Školní sportovní klub Demlova Jihlava\, z.s.-SLAVOJ POLNÁ
  z.s.
END:VEVENT
BEGIN:VEVENT
UID:32663663-3433-4835-a635-353264376665
DTSTAMP:20260422T052802Z
DESCRIPTION:1/9 Základní škola Přibyslav - SLAVOJ POLNÁ z.s. 0:2 (-20\,-14)
DTSTART;TZID=Europe/Berlin:20211003T090000
DTEND;TZID=Europe/Berlin:20211003T110000
LOCATION:Sportovní hala Přibyslav\, Česká 34 Přibyslav
SUMMARY:VY-ZKY-A: Základní škola Přibyslav-SLAVOJ POLNÁ z.s.
END:VEVENT
BEGIN:VEVENT
UID:31623432-6339-4162-b866-316537353639
DTSTAMP:20260422T052802Z
DESCRIPTION:2/14 Volejbalový klub Třebíč - SLAVOJ POLNÁ z.s. 1:2 (-14\,8\,-
 13)
DTSTART;TZID=Europe/Berlin:20211010T090000
DTEND;TZID=Europe/Berlin:20211010T110000
LOCATION:hala ZŠ TGM\, Komenského nám. 61 Třebíč - Horka-Domky
SUMMARY:VY-ZKY-A: Volejbalový klub Třebíč-SLAVOJ POLNÁ z.s.
END:VEVENT
BEGIN:VEVENT
UID:64363162-3664-4531-b033-353238653764
DTSTAMP:20260422T052802Z
DESCRIPTION:3/20 Volejbalový klub Třebíč - SLAVOJ POLNÁ z.s. 2:1 (13\,-22\,
 12)
DTSTART;TZID=Europe/Berlin:20211024T090000
DTEND;TZID=Europe/Berlin:20211024T110000
LOCATION:hala ZŠ TGM\, Komenského nám. 61 Třebíč - Horka-Domky
SUMMARY:VY-ZKY-A: Volejbalový klub Třebíč-SLAVOJ POLNÁ z.s.
END:VEVENT
BEGIN:VEVENT
UID:65616235-6162-4533-b234-303563393838
DTSTAMP:20260422T052802Z
DESCRIPTION:4/28 Tělovýchovná jednota Spartak Pelhřimov\, z.s. 'B' - SLAVOJ
  POLNÁ z.s. 0:2 (-14\,-13)\nPořadatel Nové Veselí
DTSTART;TZID=Europe/Berlin:20211107T100000
DTEND;TZID=Europe/Berlin:20211107T120000
LOCATION:Základní škola Pelhřimov\, Osvobození\, Osvobození 1881 Pelhřimov
SUMMARY:VY-ZKY-A: Tělovýchovná jednota Spartak Pelhřimov\, z.s. 'B'-SLAVOJ 
 POLNÁ z.s.
END:VEVENT
BEGIN:VEVENT
UID:33656230-6537-4335-b934-366633633937
DTSTAMP:20260422T052802Z
DESCRIPTION:5/37 Bedřichov - SLAVOJ POLNÁ z.s. 2:1 (-16\,11\,9)\nPořadatel 
 Bedřichov
DTSTART;TZID=Europe/Berlin:20211114T090000
DTEND;TZID=Europe/Berlin:20211114T110000
LOCATION:TJ Sokol Bedřichov\, Jihlava\, Sokolovská 4656 Jihlava
SUMMARY:VY-ZKY-A: Bedřichov-SLAVOJ POLNÁ z.s.
END:VEVENT
BEGIN:VEVENT
UID:63386639-6433-4966-a131-386534383164
DTSTAMP:20260422T052802Z
DESCRIPTION:1/6 SLAVOJ POLNÁ z.s. - TJ Žďár nad Sázavou 0:2 (-10\,-21)
DTSTART;TZID=Europe/Berlin:20211128T090000
DTEND;TZID=Europe/Berlin:20211128T110000
LOCATION:Městská tělocvična\, Žejdlicova 1231 Polná
SUMMARY:VY-ZKY-C: SLAVOJ POLNÁ z.s.-TJ Žďár nad Sázavou
END:VEVENT
BEGIN:VEVENT
UID:36616162-3563-4337-a332-323935386632
DTSTAMP:20260422T052802Z
DESCRIPTION:2/16 SLAVOJ POLNÁ z.s. - Jiskra H.Brod 1:2 (18\,-19\,-13)
DTSTART;TZID=Europe/Berlin:20211205T090000
DTEND;TZID=Europe/Berlin:20211205T110000
LOCATION:Městská tělocvična\, Žejdlicova 1231 Polná
SUMMARY:VY-ZKY-C: SLAVOJ POLNÁ z.s.-Jiskra H.Brod
END:VEVENT
BEGIN:VEVENT
UID:38663234-3031-4137-b830-393935653336
DTSTAMP:20260422T052802Z
DESCRIPTION:2/18 SLAVOJ POLNÁ z.s. - Havlíčkův Brod 0:2 (-13\,-22)
DTSTART;TZID=Europe/Berlin:20211205T090000
DTEND;TZID=Europe/Berlin:20211205T110000
LOCATION:Městská tělocvična\, Žejdlicova 1231 Polná
SUMMARY:VY-ZKY-C: SLAVOJ POLNÁ z.s.-Havlíčkův Brod
END:VEVENT
BEGIN:VEVENT
UID:36336363-3961-4263-b831-303735626438
DTSTAMP:20260422T052802Z
DESCRIPTION:3/21 SLAVOJ POLNÁ z.s. - Volejbalový klub Třebíč 2:1 (-15\,24\,
 11)
DTSTART;TZID=Europe/Berlin:20211212T090000
DTEND;TZID=Europe/Berlin:20211212T110000
LOCATION:Městská tělocvična\, Žejdlicova 1231 Polná
SUMMARY:VY-ZKY-C: SLAVOJ POLNÁ z.s.-Volejbalový klub Třebíč
END:VEVENT
BEGIN:VEVENT
UID:34666265-6161-4637-a165-633234303939
DTSTAMP:20260422T052802Z
DESCRIPTION:4/29 SLAVOJ POLNÁ z.s. - TJ Žďár nad Sázavou 1:2 (-15\,26\,-5)
DTSTART;TZID=Europe/Berlin:20220116T090000
DTEND;TZID=Europe/Berlin:20220116T110000
LOCATION:Městská tělocvična\, Žejdlicova 1231 Polná
SUMMARY:VY-ZKY-C: SLAVOJ POLNÁ z.s.-TJ Žďár nad Sázavou
END:VEVENT
BEGIN:VEVENT
UID:35656561-6666-4338-a266-313634653937
DTSTAMP:20260422T052802Z
DESCRIPTION:5/38 SLAVOJ POLNÁ z.s. - Bedřichov 0:2 (-14\,-14)
DTSTART;TZID=Europe/Berlin:20220109T090000
DTEND;TZID=Europe/Berlin:20220109T110000
LOCATION:Městská tělocvična\, Žejdlicova 1231 Polná
SUMMARY:VY-ZKY-C: SLAVOJ POLNÁ z.s.-Bedřichov
END:VEVENT
BEGIN:VEVENT
UID:61376564-3938-4436-b032-653063613563
DTSTAMP:20260422T052802Z
DESCRIPTION:1/4 Jiskra H.Brod - SLAVOJ POLNÁ z.s. 2:0 (18\,22)\nPořadatel J
 iskra H.B.
DTSTART;TZID=Europe/Berlin:20211128T090000
DTEND;TZID=Europe/Berlin:20211128T110000
LOCATION:Tělocvična OA a hotelové školy\, Bratříků 851 Havlíčkův Brod
SUMMARY:VY-ZKY-C: Jiskra H.Brod-SLAVOJ POLNÁ z.s.
END:VEVENT
BEGIN:VEVENT
UID:66613935-3233-4437-a266-663637643666
DTSTAMP:20260422T052802Z
DESCRIPTION:1/9 Volejbalový klub Třebíč - SLAVOJ POLNÁ z.s. 1:2 (-19\,24\,-
 7)
DTSTART;TZID=Europe/Berlin:20211128T090000
DTEND;TZID=Europe/Berlin:20211128T110000
LOCATION:hala ZŠ TGM\, Komenského nám. 61 Třebíč - Horka-Domky
SUMMARY:VY-ZKY-C: Volejbalový klub Třebíč-SLAVOJ POLNÁ z.s.
END:VEVENT
BEGIN:VEVENT
UID:31373132-3263-4739-b933-383833313037
DTSTAMP:20260422T052802Z
DESCRIPTION:2/14 Tělocvičná jednota Sokol Nové Veselí - SLAVOJ POLNÁ z.s. 1
 :2 (-23\,17\,-14)
DTSTART;TZID=Europe/Berlin:20211205T090000
DTEND;TZID=Europe/Berlin:20211205T110000
LOCATION:Víceúčelová sportovní hala Nové Veselí\, Žďárská 356 Nové Veselí
SUMMARY:VY-ZKY-C: Tělocvičná jednota Sokol Nové Veselí-SLAVOJ POLNÁ z.s.
END:VEVENT
BEGIN:VEVENT
UID:63623563-3431-4538-a233-316336303962
DTSTAMP:20260422T052802Z
DESCRIPTION:3/20 Tělocvičná jednota Sokol Nové Veselí - SLAVOJ POLNÁ z.s. 0
 :2 (-19\,-15)
DTSTART;TZID=Europe/Berlin:20211212T090000
DTEND;TZID=Europe/Berlin:20211212T110000
LOCATION:Víceúčelová sportovní hala Nové Veselí\, Žďárská 356 Nové Veselí
SUMMARY:VY-ZKY-C: Tělocvičná jednota Sokol Nové Veselí-SLAVOJ POLNÁ z.s.
END:VEVENT
BEGIN:VEVENT
UID:64313866-6437-4932-b632-643464333036
DTSTAMP:20260422T052802Z
DESCRIPTION:4/28 Havlíčkův Brod - SLAVOJ POLNÁ z.s. 2:0 (21\,25)\nPořadatel
  Polná
DTSTART;TZID=Europe/Berlin:20220116T090000
DTEND;TZID=Europe/Berlin:20220116T110000
LOCATION:ZŠ Nuselská H. Brod\, Nuselská 3240 Havlíčkův Brod
SUMMARY:VY-ZKY-C: Havlíčkův Brod-SLAVOJ POLNÁ z.s.
END:VEVENT
BEGIN:VEVENT
UID:62636534-3762-4763-b537-636137396633
DTSTAMP:20260422T052802Z
DESCRIPTION:5/37 Bedřichov - SLAVOJ POLNÁ z.s. 2:0 (8\,8)\nPořadatel Bedřic
 hov
DTSTART;TZID=Europe/Berlin:20220109T090000
DTEND;TZID=Europe/Berlin:20220109T110000
LOCATION:TJ Sokol Bedřichov\, Jihlava\, Sokolovská 4656 Jihlava
SUMMARY:VY-ZKY-C: Bedřichov-SLAVOJ POLNÁ z.s.
END:VEVENT
BEGIN:VEVENT
UID:31396237-3930-4835-b864-396464376638
DTSTAMP:20260422T052802Z
DESCRIPTION:1/2 SLAVOJ POLNÁ z.s. - Tělocvičná jednota Sokol Nové Veselí 1:
 3 (-15\,18\,-21\,-20)
DTSTART;TZID=Europe/Berlin:20220313T090000
DTEND;TZID=Europe/Berlin:20220313T110000
LOCATION:Městská tělocvična\, Žejdlicova 1231 Polná
SUMMARY:VY-ZKY-G: SLAVOJ POLNÁ z.s.-Tělocvičná jednota Sokol Nové Veselí
END:VEVENT
BEGIN:VEVENT
UID:38376636-6437-4661-b065-373832303936
DTSTAMP:20260422T052802Z
DESCRIPTION:2/3 SLAVOJ POLNÁ z.s. - Tělocvičná jednota Sokol Nové Veselí 3:
 0 (21\,11\,22)\nPořadatel Nové Veselí
DTSTART;TZID=Europe/Berlin:20220306T090000
DTEND;TZID=Europe/Berlin:20220306T110000
LOCATION:Městská tělocvična\, Žejdlicova 1231 Polná
SUMMARY:VY-ZKY-G: SLAVOJ POLNÁ z.s.-Tělocvičná jednota Sokol Nové Veselí
END:VEVENT
BEGIN:VEVENT
UID:37643563-3766-4131-a161-373465613333
DTSTAMP:20260422T052802Z
DESCRIPTION:1/1 Tělocvičná jednota Sokol Nové Veselí - SLAVOJ POLNÁ z.s. 0:
 3 (-22\,-21\,-15)\nPořadatel Polná
DTSTART;TZID=Europe/Berlin:20220313T090000
DTEND;TZID=Europe/Berlin:20220313T110000
LOCATION:Víceúčelová sportovní hala Nové Veselí\, Žďárská 356 Nové Veselí
SUMMARY:VY-ZKY-G: Tělocvičná jednota Sokol Nové Veselí-SLAVOJ POLNÁ z.s.
END:VEVENT
BEGIN:VEVENT
UID:30316237-3330-4362-a230-333234346332
DTSTAMP:20260422T052802Z
DESCRIPTION:2/4 Tělocvičná jednota Sokol Nové Veselí - SLAVOJ POLNÁ z.s. 3:
 0 (23\,19\,17)
DTSTART;TZID=Europe/Berlin:20220306T090000
DTEND;TZID=Europe/Berlin:20220306T110000
LOCATION:Víceúčelová sportovní hala Nové Veselí\, Žďárská 356 Nové Veselí
SUMMARY:VY-ZKY-G: Tělocvičná jednota Sokol Nové Veselí-SLAVOJ POLNÁ z.s.
END:VEVENT
END:VCALENDAR
