BEGIN:VCALENDAR
VERSION:2.0
PRODID:-//Volejbal Červený Kostelec76120//NONSGML kigkonsult.se iCalcreator 2.41.80//
CALSCALE:GREGORIAN
UID:36323137-6465-4561-a235-333030363663
BEGIN:VEVENT
UID:33313534-3639-4033-b430-643163313637
DTSTAMP:20260423T130522Z
DESCRIPTION:3/22009 Č. Kostelec - Hronov 1:3 (-14\,24\,-19\,-15)
DTSTART;TZID=Europe/Berlin:20210924T180000
DTEND;TZID=Europe/Berlin:20210924T200000
LOCATION:Sportovní hala\, Palackého 1234 Červený Kostelec
SUMMARY:1-Z-A: Č. Kostelec-Hronov
END:VEVENT
BEGIN:VEVENT
UID:39353031-3036-4939-b561-393165363134
DTSTAMP:20260423T130522Z
DESCRIPTION:4/22013 Č. Kostelec - Hronov 0:3 (-22\,-14\,-25)
DTSTART;TZID=Europe/Berlin:20210925T100000
DTEND;TZID=Europe/Berlin:20210925T120000
LOCATION:Sportovní hala\, Palackého 1234 Červený Kostelec
SUMMARY:1-Z-A: Č. Kostelec-Hronov
END:VEVENT
BEGIN:VEVENT
UID:61643931-3137-4732-a634-393966646438
DTSTAMP:20260423T130522Z
DESCRIPTION:9/22034 Č. Kostelec - Dobřichovice 0:3 (-16\,-16\,-10)
DTSTART;TZID=Europe/Berlin:20211022T190000
DTEND;TZID=Europe/Berlin:20211022T210000
LOCATION:Sportovní hala\, Palackého 1234 Červený Kostelec
SUMMARY:1-Z-A: Č. Kostelec-Dobřichovice
END:VEVENT
BEGIN:VEVENT
UID:33323564-6365-4630-b131-363733323238
DTSTAMP:20260423T130522Z
DESCRIPTION:10/22037 Č. Kostelec - Dobřichovice 1:3 (-22\,22\,-16\,-16)
DTSTART;TZID=Europe/Berlin:20211023T120000
DTEND;TZID=Europe/Berlin:20211023T140000
LOCATION:Sportovní hala\, Palackého 1234 Červený Kostelec
SUMMARY:1-Z-A: Č. Kostelec-Dobřichovice
END:VEVENT
BEGIN:VEVENT
UID:37666339-3865-4465-a637-396237616161
DTSTAMP:20260423T130522Z
DESCRIPTION:13/22045 Č. Kostelec - Žižkov 1:3 (-23\,-22\,27\,-19)
DTSTART;TZID=Europe/Berlin:20211105T190000
DTEND;TZID=Europe/Berlin:20211105T210000
LOCATION:Sportovní hala\, Palackého 1234 Červený Kostelec
SUMMARY:1-Z-A: Č. Kostelec-Žižkov
END:VEVENT
BEGIN:VEVENT
UID:35643931-3937-4263-b934-393966393035
DTSTAMP:20260423T130522Z
DESCRIPTION:14/22048 Č. Kostelec - Žižkov 1:3 (-19\,-19\,18\,-20)
DTSTART;TZID=Europe/Berlin:20211106T100000
DTEND;TZID=Europe/Berlin:20211106T120000
LOCATION:Sportovní hala\, Palackého 1234 Červený Kostelec
SUMMARY:1-Z-A: Č. Kostelec-Žižkov
END:VEVENT
BEGIN:VEVENT
UID:31323437-3632-4263-b466-653264653261
DTSTAMP:20260423T130522Z
DESCRIPTION:15/22051 Č. Kostelec - Bižuterie 0:3 (-13\,-10\,-8)
DTSTART;TZID=Europe/Berlin:20211119T180000
DTEND;TZID=Europe/Berlin:20211119T200000
LOCATION:Sportovní hala\, Palackého 1234 Červený Kostelec
SUMMARY:1-Z-A: Č. Kostelec-Bižuterie
END:VEVENT
BEGIN:VEVENT
UID:37333866-6633-4631-b464-363637613830
DTSTAMP:20260423T130522Z
DESCRIPTION:16/22054 Č. Kostelec - Bižuterie 0:3 (-20\,-18\,-16)
DTSTART;TZID=Europe/Berlin:20211120T100000
DTEND;TZID=Europe/Berlin:20211120T120000
LOCATION:Sportovní hala\, Palackého 1234 Červený Kostelec
SUMMARY:1-Z-A: Č. Kostelec-Bižuterie
END:VEVENT
BEGIN:VEVENT
UID:66356161-6430-4334-b839-366236336533
DTSTAMP:20260423T130522Z
DESCRIPTION:19/22064 Č. Kostelec - Plzeň 0:3 (-17\,-18\,-12)
DTSTART;TZID=Europe/Berlin:20211203T180000
DTEND;TZID=Europe/Berlin:20211203T200000
LOCATION:Sportovní hala\, Palackého 1234 Červený Kostelec
SUMMARY:1-Z-A: Č. Kostelec-Plzeň
END:VEVENT
BEGIN:VEVENT
UID:31613866-3436-4435-a438-626138303963
DTSTAMP:20260423T130522Z
DESCRIPTION:20/22067 Č. Kostelec - Plzeň 0:3 (-21\,-17\,-14)
DTSTART;TZID=Europe/Berlin:20211204T100000
DTEND;TZID=Europe/Berlin:20211204T120000
LOCATION:Sportovní hala\, Palackého 1234 Červený Kostelec
SUMMARY:1-Z-A: Č. Kostelec-Plzeň
END:VEVENT
BEGIN:VEVENT
UID:66333036-6232-4135-a136-373636343166
DTSTAMP:20260423T130522Z
DESCRIPTION:25/22080 Č. Kostelec - Nusle 3:2 (18\,25\,-24\,-21\,7)
DTSTART;TZID=Europe/Berlin:20220121T183000
DTEND;TZID=Europe/Berlin:20220121T203000
LOCATION:Sportovní hala\, Palackého 1234 Červený Kostelec
SUMMARY:1-Z-A: Č. Kostelec-Nusle
END:VEVENT
BEGIN:VEVENT
UID:62373066-3261-4634-b862-653361366663
DTSTAMP:20260423T130522Z
DESCRIPTION:26/22083 Č. Kostelec - Nusle 3:0 (14\,22\,22)
DTSTART;TZID=Europe/Berlin:20220122T120000
DTEND;TZID=Europe/Berlin:20220122T140000
LOCATION:Sportovní hala\, Palackého 1234 Červený Kostelec
SUMMARY:1-Z-A: Č. Kostelec-Nusle
END:VEVENT
BEGIN:VEVENT
UID:34346663-6562-4136-b365-626165336162
DTSTAMP:20260423T130522Z
DESCRIPTION:1/22002 Bižuterie - Č. Kostelec 3:0 (17\,19\,16)
DTSTART;TZID=Europe/Berlin:20210917T180000
DTEND;TZID=Europe/Berlin:20210917T200000
LOCATION:Městská sportovní hala\, U Přehrady 4747 Jablonec nad Nisou
SUMMARY:1-Z-A: Bižuterie-Č. Kostelec
END:VEVENT
BEGIN:VEVENT
UID:35303536-3135-4164-a166-626538393162
DTSTAMP:20260423T130522Z
DESCRIPTION:2/22006 Bižuterie - Č. Kostelec 3:0 (13\,22\,12)
DTSTART;TZID=Europe/Berlin:20210918T100000
DTEND;TZID=Europe/Berlin:20210918T120000
LOCATION:Městská sportovní hala\, U Přehrady 4747 Jablonec nad Nisou
SUMMARY:1-Z-A: Bižuterie-Č. Kostelec
END:VEVENT
BEGIN:VEVENT
UID:39346665-6237-4864-a133-643436646134
DTSTAMP:20260423T130522Z
DESCRIPTION:5/22019 Plzeň - Č. Kostelec 3:0 (14\,18\,19)
DTSTART;TZID=Europe/Berlin:20211001T180000
DTEND;TZID=Europe/Berlin:20211001T200000
LOCATION:Městská sportovní hala  -  hala 2\, Úslavská 2357 Plzeň - Východní
  Předměstí
SUMMARY:1-Z-A: Plzeň-Č. Kostelec
END:VEVENT
BEGIN:VEVENT
UID:32616237-6466-4634-b636-303236373063
DTSTAMP:20260423T130522Z
DESCRIPTION:6/22023 Plzeň - Č. Kostelec 3:0 (16\,19\,23)
DTSTART;TZID=Europe/Berlin:20211002T110000
DTEND;TZID=Europe/Berlin:20211002T130000
LOCATION:Městská sportovní hala  -  hala 2\, Úslavská 2357 Plzeň - Východní
  Předměstí
SUMMARY:1-Z-A: Plzeň-Č. Kostelec
END:VEVENT
BEGIN:VEVENT
UID:38653232-3063-4834-b065-363363316233
DTSTAMP:20260423T130522Z
DESCRIPTION:11/22038 Nusle - Č. Kostelec 3:0 (20\,13\,20)
DTSTART;TZID=Europe/Berlin:20211029T180000
DTEND;TZID=Europe/Berlin:20211029T200000
LOCATION:TJ Sokol Nusle\, Na květnici 700 Praha - Nusle
SUMMARY:1-Z-A: Nusle-Č. Kostelec
END:VEVENT
BEGIN:VEVENT
UID:38313436-3830-4363-a532-393930663538
DTSTAMP:20260423T130522Z
DESCRIPTION:12/22041 Nusle - Č. Kostelec 2:3 (-23\,-19\,13\,25\,-14)
DTSTART;TZID=Europe/Berlin:20211030T100000
DTEND;TZID=Europe/Berlin:20211030T120000
LOCATION:TJ Sokol Nusle\, Na květnici 700 Praha - Nusle
SUMMARY:1-Z-A: Nusle-Č. Kostelec
END:VEVENT
BEGIN:VEVENT
UID:62316535-6332-4665-b738-656664376339
DTSTAMP:20260423T130522Z
DESCRIPTION:17/22056 Hronov - Č. Kostelec 3:0 (17\,25\,9)
DTSTART;TZID=Europe/Berlin:20211126T190000
DTEND;TZID=Europe/Berlin:20211126T210000
LOCATION:ZŠ Hronov\, Palackého 162 Hronov
SUMMARY:1-Z-A: Hronov-Č. Kostelec
END:VEVENT
BEGIN:VEVENT
UID:63353436-3163-4939-a463-633730373963
DTSTAMP:20260423T130522Z
DESCRIPTION:18/22059 Hronov - Č. Kostelec 3:0 (13\,23\,17)
DTSTART;TZID=Europe/Berlin:20211127T120000
DTEND;TZID=Europe/Berlin:20211127T140000
LOCATION:ZŠ Hronov\, Palackého 162 Hronov
SUMMARY:1-Z-A: Hronov-Č. Kostelec
END:VEVENT
BEGIN:VEVENT
UID:61666532-6166-4631-a235-333737613832
DTSTAMP:20260423T130522Z
DESCRIPTION:23/22076 Dobřichovice - Č. Kostelec 3:0 (15\,23\,15)
DTSTART;TZID=Europe/Berlin:20220114T190000
DTEND;TZID=Europe/Berlin:20220114T210000
LOCATION:TJ Sokol Dobřichovice\, Pražská 375 Dobřichovice
SUMMARY:1-Z-A: Dobřichovice-Č. Kostelec
END:VEVENT
BEGIN:VEVENT
UID:61336337-3065-4162-b233-623762636536
DTSTAMP:20260423T130522Z
DESCRIPTION:24/22079 Dobřichovice - Č. Kostelec 3:0 (8\,21\,17)
DTSTART;TZID=Europe/Berlin:20220115T110000
DTEND;TZID=Europe/Berlin:20220115T130000
LOCATION:TJ Sokol Dobřichovice\, Pražská 375 Dobřichovice
SUMMARY:1-Z-A: Dobřichovice-Č. Kostelec
END:VEVENT
BEGIN:VEVENT
UID:36643663-3832-4031-a461-366634373635
DTSTAMP:20260423T130522Z
DESCRIPTION:27/22087 Žižkov - Č. Kostelec 3:0 (23\,22\,15)
DTSTART;TZID=Europe/Berlin:20220128T183000
DTEND;TZID=Europe/Berlin:20220128T203000
LOCATION:TJ Sokol Žižkov I.\, Hartigova 929 Praha - Žižkov
SUMMARY:1-Z-A: Žižkov-Č. Kostelec
END:VEVENT
BEGIN:VEVENT
UID:37656334-3934-4865-b662-313432393866
DTSTAMP:20260423T130522Z
DESCRIPTION:28/22090 Žižkov - Č. Kostelec 3:0 (20\,29\,22)
DTSTART;TZID=Europe/Berlin:20220129T100000
DTEND;TZID=Europe/Berlin:20220129T120000
LOCATION:TJ Sokol Žižkov I.\, Hartigova 929 Praha - Žižkov
SUMMARY:1-Z-A: Žižkov-Č. Kostelec
END:VEVENT
BEGIN:VEVENT
UID:61396431-3233-4435-a463-343862373138
DTSTAMP:20260423T130522Z
DESCRIPTION:1/22223 Č. Kostelec - H. Brod 0:3 (-25\,-19\,-23)
DTSTART;TZID=Europe/Berlin:20220211T183000
DTEND;TZID=Europe/Berlin:20220211T203000
LOCATION:Sportovní hala\, Palackého 1234 Červený Kostelec
SUMMARY:1-Z-II: Č. Kostelec-H. Brod
END:VEVENT
BEGIN:VEVENT
UID:33356163-3431-4465-a533-653464376138
DTSTAMP:20260423T130522Z
DESCRIPTION:2/22225 Č. Kostelec - H. Brod 3:0 (15\,18\,16)
DTSTART;TZID=Europe/Berlin:20220212T120000
DTEND;TZID=Europe/Berlin:20220212T140000
LOCATION:Sportovní hala\, Palackého 1234 Červený Kostelec
SUMMARY:1-Z-II: Č. Kostelec-H. Brod
END:VEVENT
BEGIN:VEVENT
UID:62363763-6330-4335-b963-373237646238
DTSTAMP:20260423T130522Z
DESCRIPTION:9/22239 Č. Kostelec - Škola 3:1 (-22\,11\,12\,14)
DTSTART;TZID=Europe/Berlin:20220318T183000
DTEND;TZID=Europe/Berlin:20220318T203000
LOCATION:Sportovní hala\, Palackého 1234 Červený Kostelec
SUMMARY:1-Z-II: Č. Kostelec-Škola
END:VEVENT
BEGIN:VEVENT
UID:36653465-3933-4133-b731-316365363765
DTSTAMP:20260423T130522Z
DESCRIPTION:10/22241 Č. Kostelec - Škola 3:0 (15\,17\,12)
DTSTART;TZID=Europe/Berlin:20220319T100000
DTEND;TZID=Europe/Berlin:20220319T120000
LOCATION:Sportovní hala\, Palackého 1234 Červený Kostelec
SUMMARY:1-Z-II: Č. Kostelec-Škola
END:VEVENT
BEGIN:VEVENT
UID:38393665-6261-4332-a330-316565323565
DTSTAMP:20260423T130522Z
DESCRIPTION:3/22227 Škola - Č. Kostelec 1:3 (-21\,-16\,21\,-20)
DTSTART;TZID=Europe/Berlin:20220218T190000
DTEND;TZID=Europe/Berlin:20220218T210000
LOCATION:Sportovní hala Hrdějovice\,  Hrdějovice597
SUMMARY:1-Z-II: Škola-Č. Kostelec
END:VEVENT
BEGIN:VEVENT
UID:63363736-3565-4531-a265-346530396637
DTSTAMP:20260423T130522Z
DESCRIPTION:4/22229 Škola - Č. Kostelec 2:3 (21\,23\,-21\,-17\,-8)
DTSTART;TZID=Europe/Berlin:20220219T100000
DTEND;TZID=Europe/Berlin:20220219T120000
LOCATION:Sportovní hala Hrdějovice\,  Hrdějovice597
SUMMARY:1-Z-II: Škola-Č. Kostelec
END:VEVENT
BEGIN:VEVENT
UID:39636562-3265-4163-b636-373937326566
DTSTAMP:20260423T130522Z
DESCRIPTION:7/22235 H. Brod - Č. Kostelec 1:3 (20\,-20\,-14\,-12)
DTSTART;TZID=Europe/Berlin:20220311T190000
DTEND;TZID=Europe/Berlin:20220311T210000
LOCATION:Sportovní hala TJ Jiskra\, Ledečská 3028 Havlíčkův Brod
SUMMARY:1-Z-II: H. Brod-Č. Kostelec
END:VEVENT
BEGIN:VEVENT
UID:32383365-6237-4830-b536-313135396565
DTSTAMP:20260423T130522Z
DESCRIPTION:8/22237 H. Brod - Č. Kostelec 0:3 (-14\,-17\,-22)
DTSTART;TZID=Europe/Berlin:20220312T110000
DTEND;TZID=Europe/Berlin:20220312T130000
LOCATION:Sportovní hala TJ Jiskra\, Ledečská 3028 Havlíčkův Brod
SUMMARY:1-Z-II: H. Brod-Č. Kostelec
END:VEVENT
END:VCALENDAR
