BEGIN:VCALENDAR
VERSION:2.0
PRODID:-//TJ Tatran Střešovice76125//NONSGML kigkonsult.se iCalcreator 2.41.80//
CALSCALE:GREGORIAN
UID:32616535-6437-4832-a339-376638663633
BEGIN:VEVENT
UID:37643438-6166-4332-b534-363439316630
DTSTAMP:20260423T130516Z
DESCRIPTION:1/22092 Střešovice - Č. Budějovice 0:3 (-22\,-22\,-15)
DTSTART;TZID=Europe/Berlin:20210924T180000
DTEND;TZID=Europe/Berlin:20210924T200000
LOCATION:TJ Tatran Střešovice\, Sibeliova 368 Praha - Střešovice
SUMMARY:1-Z-B: Střešovice-Č. Budějovice
END:VEVENT
BEGIN:VEVENT
UID:36313761-6633-4339-a438-303963393138
DTSTAMP:20260423T130517Z
DESCRIPTION:2/22096 Střešovice - Č. Budějovice 3:0 (17\,14\,18)
DTSTART;TZID=Europe/Berlin:20210925T100000
DTEND;TZID=Europe/Berlin:20210925T120000
LOCATION:TJ Tatran Střešovice\, Sibeliova 368 Praha - Střešovice
SUMMARY:1-Z-B: Střešovice-Č. Budějovice
END:VEVENT
BEGIN:VEVENT
UID:36386662-6566-4837-b937-373864623533
DTSTAMP:20260423T130517Z
DESCRIPTION:3/22102 Střešovice - Škola 3:0 (8\,8\,22)
DTSTART;TZID=Europe/Berlin:20211001T180000
DTEND;TZID=Europe/Berlin:20211001T200000
LOCATION:TJ Tatran Střešovice\, Sibeliova 368 Praha - Střešovice
SUMMARY:1-Z-B: Střešovice-Škola
END:VEVENT
BEGIN:VEVENT
UID:37366231-3531-4437-a333-333963396631
DTSTAMP:20260423T130517Z
DESCRIPTION:4/22106 Střešovice - Škola 3:0 (19\,14\,11)
DTSTART;TZID=Europe/Berlin:20211002T100000
DTEND;TZID=Europe/Berlin:20211002T120000
LOCATION:TJ Tatran Střešovice\, Sibeliova 368 Praha - Střešovice
SUMMARY:1-Z-B: Střešovice-Škola
END:VEVENT
BEGIN:VEVENT
UID:63386166-6637-4462-b439-643334333537
DTSTAMP:20260423T130517Z
DESCRIPTION:5/22109 Střešovice - Kr. Pole B 0:3 (-11\,-9\,-20)
DTSTART;TZID=Europe/Berlin:20211015T180000
DTEND;TZID=Europe/Berlin:20211015T200000
LOCATION:TJ Tatran Střešovice\, Sibeliova 368 Praha - Střešovice
SUMMARY:1-Z-B: Střešovice-Kr. Pole B
END:VEVENT
BEGIN:VEVENT
UID:32663064-3339-4365-a233-306331323161
DTSTAMP:20260423T130517Z
DESCRIPTION:6/22113 Střešovice - Kr. Pole B 3:0 (16\,19\,16)
DTSTART;TZID=Europe/Berlin:20211016T100000
DTEND;TZID=Europe/Berlin:20211016T120000
LOCATION:TJ Tatran Střešovice\, Sibeliova 368 Praha - Střešovice
SUMMARY:1-Z-B: Střešovice-Kr. Pole B
END:VEVENT
BEGIN:VEVENT
UID:32653039-3137-4130-b561-336233346237
DTSTAMP:20260423T130517Z
DESCRIPTION:7/22117 Střešovice - H. Králové 3:2 (22\,28\,-23\,-17\,12)
DTSTART;TZID=Europe/Berlin:20211029T180000
DTEND;TZID=Europe/Berlin:20211029T200000
LOCATION:TJ Tatran Střešovice\, Sibeliova 368 Praha - Střešovice
SUMMARY:1-Z-B: Střešovice-H. Králové
END:VEVENT
BEGIN:VEVENT
UID:35656538-3339-4833-b032-366530383130
DTSTAMP:20260423T130517Z
DESCRIPTION:8/22120 Střešovice - H. Králové 0:3 (-20\,-21\,-23)
DTSTART;TZID=Europe/Berlin:20211030T100000
DTEND;TZID=Europe/Berlin:20211030T120000
LOCATION:TJ Tatran Střešovice\, Sibeliova 368 Praha - Střešovice
SUMMARY:1-Z-B: Střešovice-H. Králové
END:VEVENT
BEGIN:VEVENT
UID:63303331-3339-4138-a266-353966636639
DTSTAMP:20260423T130517Z
DESCRIPTION:19/22154 Střešovice - H. Brod 3:0 (0\,0\,0)\ncovid-19
DTSTART;TZID=Europe/Berlin:20220101T000000
DTEND;TZID=Europe/Berlin:20220101T020000
LOCATION:TJ Tatran Střešovice\, Sibeliova 368 Praha - Střešovice
SUMMARY:1-Z-B: Střešovice-H. Brod
END:VEVENT
BEGIN:VEVENT
UID:61343466-3834-4134-a632-343365313561
DTSTAMP:20260423T130517Z
DESCRIPTION:20/22157 Střešovice - H. Brod 3:0 (0\,0\,0)\ncovid-19
DTSTART;TZID=Europe/Berlin:20220101T000000
DTEND;TZID=Europe/Berlin:20220101T020000
LOCATION:TJ Tatran Střešovice\, Sibeliova 368 Praha - Střešovice
SUMMARY:1-Z-B: Střešovice-H. Brod
END:VEVENT
BEGIN:VEVENT
UID:30663932-6637-4762-a461-373131386565
DTSTAMP:20260423T130517Z
DESCRIPTION:6/22115 SCM-ČVS-JKY - Střešovice 3:1 (17\,22\,-23\,21)
DTSTART;TZID=Europe/Berlin:20211128T170000
DTEND;TZID=Europe/Berlin:20211128T190000
LOCATION:Sportcentrum Brandýs\, Kostelecká 1776 Brandýs nad Labem-Stará Bol
 eslav - Brandýs nad Labem
SUMMARY:1-Z-B: SCM-ČVS-JKY-Střešovice
END:VEVENT
BEGIN:VEVENT
UID:30323162-3866-4632-b162-336561303739
DTSTAMP:20260423T130517Z
DESCRIPTION:9/22124 H. Brod - Střešovice 0:3 (-12\,-18\,-20)
DTSTART;TZID=Europe/Berlin:20211105T190000
DTEND;TZID=Europe/Berlin:20211105T210000
LOCATION:Sportovní hala TJ Jiskra\, Ledečská 3028 Havlíčkův Brod
SUMMARY:1-Z-B: H. Brod-Střešovice
END:VEVENT
BEGIN:VEVENT
UID:62363839-3538-4835-a633-323939626230
DTSTAMP:20260423T130517Z
DESCRIPTION:10/22127 H. Brod - Střešovice 0:3 (-13\,-13\,-17)
DTSTART;TZID=Europe/Berlin:20211106T110000
DTEND;TZID=Europe/Berlin:20211106T130000
LOCATION:Sportovní hala TJ Jiskra\, Ledečská 3028 Havlíčkův Brod
SUMMARY:1-Z-B: H. Brod-Střešovice
END:VEVENT
BEGIN:VEVENT
UID:64333433-3033-4130-a232-646432363838
DTSTAMP:20260423T130517Z
DESCRIPTION:11/22128 Č. Budějovice - Střešovice 1:3 (-19\,23\,-21\,-23)
DTSTART;TZID=Europe/Berlin:20211119T190000
DTEND;TZID=Europe/Berlin:20211119T210000
LOCATION:Sportovní hala\, Stromovka 1216 České Budějovice - České Budějovic
 e 2
SUMMARY:1-Z-B: Č. Budějovice-Střešovice
END:VEVENT
BEGIN:VEVENT
UID:66396133-3961-4531-b039-353230363434
DTSTAMP:20260423T130517Z
DESCRIPTION:12/22131 Č. Budějovice - Střešovice 3:1 (-25\,18\,24\,19)
DTSTART;TZID=Europe/Berlin:20211120T100000
DTEND;TZID=Europe/Berlin:20211120T120000
LOCATION:Sportovní hala\, Stromovka 1216 České Budějovice - České Budějovic
 e 2
SUMMARY:1-Z-B: Č. Budějovice-Střešovice
END:VEVENT
BEGIN:VEVENT
UID:65323238-3961-4936-b238-636334663339
DTSTAMP:20260423T130517Z
DESCRIPTION:13/22136 Škola - Střešovice 0:3 (-15\,-11\,-18)
DTSTART;TZID=Europe/Berlin:20211126T190000
DTEND;TZID=Europe/Berlin:20211126T210000
LOCATION:Sportovní hala Hrdějovice\,  Hrdějovice597
SUMMARY:1-Z-B: Škola-Střešovice
END:VEVENT
BEGIN:VEVENT
UID:33613930-3438-4865-b463-643433393130
DTSTAMP:20260423T130517Z
DESCRIPTION:14/22139 Škola - Střešovice 0:3 (-11\,-14\,-18)
DTSTART;TZID=Europe/Berlin:20211127T100000
DTEND;TZID=Europe/Berlin:20211127T120000
LOCATION:Sportovní hala Hrdějovice\,  Hrdějovice597
SUMMARY:1-Z-B: Škola-Střešovice
END:VEVENT
BEGIN:VEVENT
UID:64383465-3939-4364-b635-313461353938
DTSTAMP:20260423T130517Z
DESCRIPTION:15/22141 Kr. Pole B - Střešovice 2:3 (23\,-22\,21\,-15\,-12)
DTSTART;TZID=Europe/Berlin:20211210T190000
DTEND;TZID=Europe/Berlin:20211210T210000
LOCATION:Sportovní gymnázium Ludvíka Daňka\, Botanická 63 Brno - Ponava
SUMMARY:1-Z-B: Kr. Pole B-Střešovice
END:VEVENT
BEGIN:VEVENT
UID:66303064-3364-4138-b837-383132353761
DTSTAMP:20260423T130517Z
DESCRIPTION:16/22144 Kr. Pole B - Střešovice 0:3 (-15\,-14\,-17)
DTSTART;TZID=Europe/Berlin:20211211T100000
DTEND;TZID=Europe/Berlin:20211211T120000
LOCATION:STAREZ ARÉNA VODOVA (Malá hala)\, Vodova 336 Brno - Královo Pole
SUMMARY:1-Z-B: Kr. Pole B-Střešovice
END:VEVENT
BEGIN:VEVENT
UID:37636236-3335-4566-a264-316637656265
DTSTAMP:20260423T130517Z
DESCRIPTION:17/22147 H. Králové - Střešovice 3:0 (20\,14\,11)
DTSTART;TZID=Europe/Berlin:20220121T190000
DTEND;TZID=Europe/Berlin:20220121T210000
LOCATION:TJ Slavia Hradec Králové\, Víta Nejedlého 1216 Hradec Králové
SUMMARY:1-Z-B: H. Králové-Střešovice
END:VEVENT
BEGIN:VEVENT
UID:63316161-3063-4533-a461-333339383630
DTSTAMP:20260423T130517Z
DESCRIPTION:18/22150 H. Králové - Střešovice 3:1 (16\,18\,-19\,15)
DTSTART;TZID=Europe/Berlin:20220122T100000
DTEND;TZID=Europe/Berlin:20220122T120000
LOCATION:TJ Slavia Hradec Králové\, Víta Nejedlého 1216 Hradec Králové
SUMMARY:1-Z-B: H. Králové-Střešovice
END:VEVENT
BEGIN:VEVENT
UID:37316238-3963-4432-b931-396362633236
DTSTAMP:20260423T130517Z
DESCRIPTION:3/22169 Střešovice - Žižkov 3:0 (24\,19\,27)
DTSTART;TZID=Europe/Berlin:20220218T180000
DTEND;TZID=Europe/Berlin:20220218T200000
LOCATION:TJ Tatran Střešovice\, Sibeliova 368 Praha - Střešovice
SUMMARY:1-Z-I: Střešovice-Žižkov
END:VEVENT
BEGIN:VEVENT
UID:34643563-6434-4034-a533-623535353463
DTSTAMP:20260423T130517Z
DESCRIPTION:4/22173 Střešovice - Žižkov 3:0 (19\,22\,23)
DTSTART;TZID=Europe/Berlin:20220219T110000
DTEND;TZID=Europe/Berlin:20220219T130000
LOCATION:TJ Tatran Střešovice\, Sibeliova 368 Praha - Střešovice
SUMMARY:1-Z-I: Střešovice-Žižkov
END:VEVENT
BEGIN:VEVENT
UID:31646634-6364-4638-b736-313536333438
DTSTAMP:20260423T130517Z
DESCRIPTION:7/22183 Střešovice - Bižuterie 0:3 (-11\,-20\,-16)
DTSTART;TZID=Europe/Berlin:20220311T180000
DTEND;TZID=Europe/Berlin:20220311T200000
LOCATION:TJ Tatran Střešovice\, Sibeliova 368 Praha - Střešovice
SUMMARY:1-Z-I: Střešovice-Bižuterie
END:VEVENT
BEGIN:VEVENT
UID:64663365-3163-4734-b430-376662646631
DTSTAMP:20260423T130517Z
DESCRIPTION:8/22187 Střešovice - Bižuterie 0:3 (-20\,-14\,-13)
DTSTART;TZID=Europe/Berlin:20220312T100000
DTEND;TZID=Europe/Berlin:20220312T120000
LOCATION:TJ Tatran Střešovice\, Sibeliova 368 Praha - Střešovice
SUMMARY:1-Z-I: Střešovice-Bižuterie
END:VEVENT
BEGIN:VEVENT
UID:61383965-6130-4932-b638-386438306539
DTSTAMP:20260423T130517Z
DESCRIPTION:9/22192 Střešovice - Plzeň 2:3 (22\,22\,-19\,-16\,-12)
DTSTART;TZID=Europe/Berlin:20220318T180000
DTEND;TZID=Europe/Berlin:20220318T200000
LOCATION:TJ Tatran Střešovice\, Sibeliova 368 Praha - Střešovice
SUMMARY:1-Z-I: Střešovice-Plzeň
END:VEVENT
BEGIN:VEVENT
UID:61613635-6264-4166-b665-313861353235
DTSTAMP:20260423T130517Z
DESCRIPTION:10/22196 Střešovice - Plzeň 3:1 (23\,20\,-20\,18)
DTSTART;TZID=Europe/Berlin:20220319T100000
DTEND;TZID=Europe/Berlin:20220319T120000
LOCATION:TJ Tatran Střešovice\, Sibeliova 368 Praha - Střešovice
SUMMARY:1-Z-I: Střešovice-Plzeň
END:VEVENT
BEGIN:VEVENT
UID:66383238-6262-4235-b835-326364653665
DTSTAMP:20260423T130517Z
DESCRIPTION:13/22206 Střešovice - Dobřichovice 0:3 (-13\,-14\,-16)
DTSTART;TZID=Europe/Berlin:20220408T180000
DTEND;TZID=Europe/Berlin:20220408T200000
LOCATION:TJ Tatran Střešovice\, Sibeliova 368 Praha - Střešovice
SUMMARY:1-Z-I: Střešovice-Dobřichovice
END:VEVENT
BEGIN:VEVENT
UID:37366265-6633-4537-b434-653933373766
DTSTAMP:20260423T130517Z
DESCRIPTION:14/22210 Střešovice - Dobřichovice 0:3 (-17\,-23\,-12)
DTSTART;TZID=Europe/Berlin:20220409T100000
DTEND;TZID=Europe/Berlin:20220409T120000
LOCATION:TJ Tatran Střešovice\, Sibeliova 368 Praha - Střešovice
SUMMARY:1-Z-I: Střešovice-Dobřichovice
END:VEVENT
BEGIN:VEVENT
UID:64376166-6533-4765-b738-623337363833
DTSTAMP:20260423T130517Z
DESCRIPTION:1/22160 Plzeň - Střešovice 3:0 (21\,26\,17)
DTSTART;TZID=Europe/Berlin:20220211T180000
DTEND;TZID=Europe/Berlin:20220211T200000
LOCATION:Městská sportovní hala  -  hala 2\, Úslavská 2357 Plzeň - Východní
  Předměstí
SUMMARY:1-Z-I: Plzeň-Střešovice
END:VEVENT
BEGIN:VEVENT
UID:37366632-6132-4335-a465-633336306134
DTSTAMP:20260423T130517Z
DESCRIPTION:2/22164 Plzeň - Střešovice 2:3 (-23\,24\,21\,-23\,-12)
DTSTART;TZID=Europe/Berlin:20220212T090000
DTEND;TZID=Europe/Berlin:20220212T110000
LOCATION:Městská sportovní hala  -  hala 2\, Úslavská 2357 Plzeň - Východní
  Předměstí
SUMMARY:1-Z-I: Plzeň-Střešovice
END:VEVENT
BEGIN:VEVENT
UID:33396236-6234-4235-b831-336537613566
DTSTAMP:20260423T130517Z
DESCRIPTION:5/22174 Dobřichovice - Střešovice 3:0 (20\,21\,20)
DTSTART;TZID=Europe/Berlin:20220225T200000
DTEND;TZID=Europe/Berlin:20220225T220000
LOCATION:TJ Sokol Dobřichovice\, Pražská 375 Dobřichovice
SUMMARY:1-Z-I: Dobřichovice-Střešovice
END:VEVENT
BEGIN:VEVENT
UID:36393531-3238-4434-b261-356133613230
DTSTAMP:20260423T130517Z
DESCRIPTION:6/22178 Dobřichovice - Střešovice 3:1 (-25\,10\,21\,19)
DTSTART;TZID=Europe/Berlin:20220226T110000
DTEND;TZID=Europe/Berlin:20220226T130000
LOCATION:TJ Sokol Dobřichovice\, Pražská 375 Dobřichovice
SUMMARY:1-Z-I: Dobřichovice-Střešovice
END:VEVENT
BEGIN:VEVENT
UID:30383263-3732-4930-b730-376566343636
DTSTAMP:20260423T130517Z
DESCRIPTION:11/22201 Žižkov - Střešovice 3:0 (23\,20\,13)
DTSTART;TZID=Europe/Berlin:20220325T183000
DTEND;TZID=Europe/Berlin:20220325T203000
LOCATION:TJ Sokol Žižkov I.\, Hartigova 929 Praha - Žižkov
SUMMARY:1-Z-I: Žižkov-Střešovice
END:VEVENT
BEGIN:VEVENT
UID:36663936-6161-4431-a666-303930376366
DTSTAMP:20260423T130517Z
DESCRIPTION:12/22205 Žižkov - Střešovice 3:1 (21\,18\,-16\,21)
DTSTART;TZID=Europe/Berlin:20220326T110000
DTEND;TZID=Europe/Berlin:20220326T130000
LOCATION:TJ Sokol Žižkov I.\, Hartigova 929 Praha - Žižkov
SUMMARY:1-Z-I: Žižkov-Střešovice
END:VEVENT
BEGIN:VEVENT
UID:33633137-3936-4531-b538-313335663564
DTSTAMP:20260423T130517Z
DESCRIPTION:15/22215 Bižuterie - Střešovice 3:0 (15\,25\,21)
DTSTART;TZID=Europe/Berlin:20220422T180000
DTEND;TZID=Europe/Berlin:20220422T200000
LOCATION:Městská sportovní hala\, U Přehrady 4747 Jablonec nad Nisou
SUMMARY:1-Z-I: Bižuterie-Střešovice
END:VEVENT
BEGIN:VEVENT
UID:39353366-3738-4633-b834-653735366134
DTSTAMP:20260423T130517Z
DESCRIPTION:16/22219 Bižuterie - Střešovice 1:3 (-20\,18\,-20\,-20)
DTSTART;TZID=Europe/Berlin:20220423T100000
DTEND;TZID=Europe/Berlin:20220423T120000
LOCATION:Městská sportovní hala\, U Přehrady 4747 Jablonec nad Nisou
SUMMARY:1-Z-I: Bižuterie-Střešovice
END:VEVENT
END:VCALENDAR
