BEGIN:VCALENDAR
VERSION:2.0
PRODID:-//Škola volejbalu76133//NONSGML kigkonsult.se iCalcreator 2.41.80//
CALSCALE:GREGORIAN
UID:36346330-3831-4936-b566-663631373561
BEGIN:VEVENT
UID:38653337-6438-4166-b037-383038666539
DTSTAMP:20260423T111505Z
DESCRIPTION:1/22093 Škola - H. Brod 0:3 (-18\,-18\,-16)
DTSTART;TZID=Europe/Berlin:20210925T193000
DTEND;TZID=Europe/Berlin:20210925T213000
LOCATION:TĚLOVÝCHOVNÁ JEDNOTA LOKOMOTIVA z. s.\, Třebízského 1044 České Bud
 ějovice - České Budějovice 5
SUMMARY:1-Z-B: Škola-H. Brod
END:VEVENT
BEGIN:VEVENT
UID:33316530-3035-4538-b639-663164633366
DTSTAMP:20260423T111505Z
DESCRIPTION:2/22097 Škola - H. Brod 1:3 (19\,-21\,-16\,-24)
DTSTART;TZID=Europe/Berlin:20210926T100000
DTEND;TZID=Europe/Berlin:20210926T120000
LOCATION:TĚLOVÝCHOVNÁ JEDNOTA LOKOMOTIVA z. s.\, Třebízského 1044 České Bud
 ějovice - České Budějovice 5
SUMMARY:1-Z-B: Škola-H. Brod
END:VEVENT
BEGIN:VEVENT
UID:30653762-3364-4138-a138-626435373339
DTSTAMP:20260423T111505Z
DESCRIPTION:5/22108 Škola - Č. Budějovice 0:3 (-11\,-13\,-15)
DTSTART;TZID=Europe/Berlin:20211016T180000
DTEND;TZID=Europe/Berlin:20211016T200000
LOCATION:TĚLOVÝCHOVNÁ JEDNOTA LOKOMOTIVA z. s.\, Třebízského 1044 České Bud
 ějovice - České Budějovice 5
SUMMARY:1-Z-B: Škola-Č. Budějovice
END:VEVENT
BEGIN:VEVENT
UID:64396665-3237-4663-b832-646138393330
DTSTAMP:20260423T111505Z
DESCRIPTION:6/22112 Škola - Č. Budějovice 0:3 (-15\,-18\,-13)
DTSTART;TZID=Europe/Berlin:20211017T100000
DTEND;TZID=Europe/Berlin:20211017T120000
LOCATION:TĚLOVÝCHOVNÁ JEDNOTA LOKOMOTIVA z. s.\, Třebízského 1044 České Bud
 ějovice - České Budějovice 5
SUMMARY:1-Z-B: Škola-Č. Budějovice
END:VEVENT
BEGIN:VEVENT
UID:61623262-6230-4662-b464-633239383665
DTSTAMP:20260423T111505Z
DESCRIPTION:13/22136 Škola - Střešovice 0:3 (-15\,-11\,-18)
DTSTART;TZID=Europe/Berlin:20211126T190000
DTEND;TZID=Europe/Berlin:20211126T210000
LOCATION:Sportovní hala Hrdějovice\,  Hrdějovice597
SUMMARY:1-Z-B: Škola-Střešovice
END:VEVENT
BEGIN:VEVENT
UID:66613064-6263-4861-b464-646135343363
DTSTAMP:20260423T111505Z
DESCRIPTION:14/22139 Škola - Střešovice 0:3 (-11\,-14\,-18)
DTSTART;TZID=Europe/Berlin:20211127T100000
DTEND;TZID=Europe/Berlin:20211127T120000
LOCATION:Sportovní hala Hrdějovice\,  Hrdějovice597
SUMMARY:1-Z-B: Škola-Střešovice
END:VEVENT
BEGIN:VEVENT
UID:34636536-3038-4635-a232-316435353131
DTSTAMP:20260423T111505Z
DESCRIPTION:17/22148 Škola - Kr. Pole B 3:2 (-11\,29\,-22\,28\,10)
DTSTART;TZID=Europe/Berlin:20220121T190000
DTEND;TZID=Europe/Berlin:20220121T210000
LOCATION:Sportovní hala Hrdějovice\,  Hrdějovice597
SUMMARY:1-Z-B: Škola-Kr. Pole B
END:VEVENT
BEGIN:VEVENT
UID:63633462-3031-4561-a535-666531666265
DTSTAMP:20260423T111505Z
DESCRIPTION:18/22151 Škola - Kr. Pole B 3:2 (19\,-23\,13\,-6\,12)
DTSTART;TZID=Europe/Berlin:20220122T100000
DTEND;TZID=Europe/Berlin:20220122T120000
LOCATION:Sportovní hala Hrdějovice\,  Hrdějovice597
SUMMARY:1-Z-B: Škola-Kr. Pole B
END:VEVENT
BEGIN:VEVENT
UID:32326639-6265-4539-a634-353433626538
DTSTAMP:20260423T111505Z
DESCRIPTION:19/22153 Škola - H. Králové 3:0 (0\,0\,0)\ncovid-19
DTSTART;TZID=Europe/Berlin:20220101T000000
DTEND;TZID=Europe/Berlin:20220101T020000
LOCATION:Sportovní hala Hrdějovice\,  Hrdějovice597
SUMMARY:1-Z-B: Škola-H. Králové
END:VEVENT
BEGIN:VEVENT
UID:34623362-6665-4665-a361-643263356536
DTSTAMP:20260423T111505Z
DESCRIPTION:20/22156 Škola - H. Králové 3:0 (0\,0\,0)\ncovid-19
DTSTART;TZID=Europe/Berlin:20220101T000000
DTEND;TZID=Europe/Berlin:20220101T020000
LOCATION:Sportovní hala Hrdějovice\,  Hrdějovice597
SUMMARY:1-Z-B: Škola-H. Králové
END:VEVENT
BEGIN:VEVENT
UID:33316230-3361-4635-b164-323331613065
DTSTAMP:20260423T111505Z
DESCRIPTION:3/22102 Střešovice - Škola 3:0 (8\,8\,22)
DTSTART;TZID=Europe/Berlin:20211001T180000
DTEND;TZID=Europe/Berlin:20211001T200000
LOCATION:TJ Tatran Střešovice\, Sibeliova 368 Praha - Střešovice
SUMMARY:1-Z-B: Střešovice-Škola
END:VEVENT
BEGIN:VEVENT
UID:37666533-3466-4466-b032-656636366635
DTSTAMP:20260423T111505Z
DESCRIPTION:4/22106 Střešovice - Škola 3:0 (19\,14\,11)
DTSTART;TZID=Europe/Berlin:20211002T100000
DTEND;TZID=Europe/Berlin:20211002T120000
LOCATION:TJ Tatran Střešovice\, Sibeliova 368 Praha - Střešovice
SUMMARY:1-Z-B: Střešovice-Škola
END:VEVENT
BEGIN:VEVENT
UID:36386139-3535-4537-b864-663138636165
DTSTAMP:20260423T111505Z
DESCRIPTION:4/22107 SCM-ČVS-JKY - Škola 3:0 (13\,11\,15)
DTSTART;TZID=Europe/Berlin:20211028T160000
DTEND;TZID=Europe/Berlin:20211028T180000
LOCATION:Sportcentrum Brandýs\, Kostelecká 1776 Brandýs nad Labem-Stará Bol
 eslav - Brandýs nad Labem
SUMMARY:1-Z-B: SCM-ČVS-JKY-Škola
END:VEVENT
BEGIN:VEVENT
UID:35306664-3134-4239-b336-646665653630
DTSTAMP:20260423T111505Z
DESCRIPTION:7/22118 Kr. Pole B - Škola 3:0 (9\,11\,8)
DTSTART;TZID=Europe/Berlin:20211029T190000
DTEND;TZID=Europe/Berlin:20211029T210000
LOCATION:Sportovní gymnázium Ludvíka Daňka\, Botanická 63 Brno - Ponava
SUMMARY:1-Z-B: Kr. Pole B-Škola
END:VEVENT
BEGIN:VEVENT
UID:65623234-3430-4834-b333-383036383862
DTSTAMP:20260423T111505Z
DESCRIPTION:8/22121 Kr. Pole B - Škola 3:0 (6\,6\,18)
DTSTART;TZID=Europe/Berlin:20211030T100000
DTEND;TZID=Europe/Berlin:20211030T120000
LOCATION:STAREZ ARÉNA VODOVA (Malá hala)\, Vodova 336 Brno - Královo Pole
SUMMARY:1-Z-B: Kr. Pole B-Škola
END:VEVENT
BEGIN:VEVENT
UID:64386162-6533-4333-b630-643063356534
DTSTAMP:20260423T111505Z
DESCRIPTION:9/22123 H. Králové - Škola 3:X
DTSTART;TZID=Europe/Berlin:20210917T190000
DTEND;TZID=Europe/Berlin:20210917T210000
LOCATION:TJ Slavia Hradec Králové\, Víta Nejedlého 1216 Hradec Králové
SUMMARY:1-Z-B: H. Králové-Škola
END:VEVENT
BEGIN:VEVENT
UID:34643737-3037-4433-a630-626236303333
DTSTAMP:20260423T111505Z
DESCRIPTION:10/22126 H. Králové - Škola 3:X
DTSTART;TZID=Europe/Berlin:20210918T100000
DTEND;TZID=Europe/Berlin:20210918T120000
LOCATION:TJ Slavia Hradec Králové\, Víta Nejedlého 1216 Hradec Králové
SUMMARY:1-Z-B: H. Králové-Škola
END:VEVENT
BEGIN:VEVENT
UID:61333830-3262-4634-a166-353739386632
DTSTAMP:20260423T111505Z
DESCRIPTION:11/22129 H. Brod - Škola 3:2 (18\,-20\,-19\,23\,7)
DTSTART;TZID=Europe/Berlin:20211119T190000
DTEND;TZID=Europe/Berlin:20211119T210000
LOCATION:Sportovní hala TJ Jiskra\, Ledečská 3028 Havlíčkův Brod
SUMMARY:1-Z-B: H. Brod-Škola
END:VEVENT
BEGIN:VEVENT
UID:31363365-6333-4263-a434-666238316234
DTSTAMP:20260423T111505Z
DESCRIPTION:12/22132 H. Brod - Škola 3:0 (17\,11\,24)
DTSTART;TZID=Europe/Berlin:20211120T100000
DTEND;TZID=Europe/Berlin:20211120T120000
LOCATION:Sportovní hala TJ Jiskra\, Ledečská 3028 Havlíčkův Brod
SUMMARY:1-Z-B: H. Brod-Škola
END:VEVENT
BEGIN:VEVENT
UID:62353831-3933-4431-b732-393935356662
DTSTAMP:20260423T111505Z
DESCRIPTION:15/22140 Č. Budějovice - Škola 3:0 (18\,13\,17)
DTSTART;TZID=Europe/Berlin:20211210T190000
DTEND;TZID=Europe/Berlin:20211210T210000
LOCATION:Sportovní hala\, Stromovka 1216 České Budějovice - České Budějovic
 e 2
SUMMARY:1-Z-B: Č. Budějovice-Škola
END:VEVENT
BEGIN:VEVENT
UID:66363530-6133-4533-b235-366165346665
DTSTAMP:20260423T111505Z
DESCRIPTION:16/22143 Č. Budějovice - Škola 3:0 (14\,18\,18)
DTSTART;TZID=Europe/Berlin:20211211T120000
DTEND;TZID=Europe/Berlin:20211211T140000
LOCATION:Sportovní hala\, Stromovka 1216 České Budějovice - České Budějovic
 e 2
SUMMARY:1-Z-B: Č. Budějovice-Škola
END:VEVENT
BEGIN:VEVENT
UID:34383564-6462-4537-b635-383236373464
DTSTAMP:20260423T111505Z
DESCRIPTION:3/22227 Škola - Č. Kostelec 1:3 (-21\,-16\,21\,-20)
DTSTART;TZID=Europe/Berlin:20220218T190000
DTEND;TZID=Europe/Berlin:20220218T210000
LOCATION:Sportovní hala Hrdějovice\,  Hrdějovice597
SUMMARY:1-Z-II: Škola-Č. Kostelec
END:VEVENT
BEGIN:VEVENT
UID:33623461-3238-4562-a366-633466313631
DTSTAMP:20260423T111505Z
DESCRIPTION:4/22229 Škola - Č. Kostelec 2:3 (21\,23\,-21\,-17\,-8)
DTSTART;TZID=Europe/Berlin:20220219T100000
DTEND;TZID=Europe/Berlin:20220219T120000
LOCATION:Sportovní hala Hrdějovice\,  Hrdějovice597
SUMMARY:1-Z-II: Škola-Č. Kostelec
END:VEVENT
BEGIN:VEVENT
UID:35396262-6163-4862-b935-613630653062
DTSTAMP:20260423T111505Z
DESCRIPTION:7/22234 Škola - Nusle 0:3 (-10\,-19\,-14)
DTSTART;TZID=Europe/Berlin:20220311T190000
DTEND;TZID=Europe/Berlin:20220311T210000
LOCATION:Sportovní hala Hrdějovice\,  Hrdějovice597
SUMMARY:1-Z-II: Škola-Nusle
END:VEVENT
BEGIN:VEVENT
UID:63666437-3430-4433-b164-383362333639
DTSTAMP:20260423T111505Z
DESCRIPTION:8/22236 Škola - Nusle 0:3 (-20\,-17\,-20)
DTSTART;TZID=Europe/Berlin:20220312T100000
DTEND;TZID=Europe/Berlin:20220312T120000
LOCATION:Sportovní hala Hrdějovice\,  Hrdějovice597
SUMMARY:1-Z-II: Škola-Nusle
END:VEVENT
BEGIN:VEVENT
UID:37386133-3038-4637-a639-653731666431
DTSTAMP:20260423T111505Z
DESCRIPTION:11/22243 Škola - Hronov 1:3 (27\,-10\,-17\,-13)
DTSTART;TZID=Europe/Berlin:20220325T190000
DTEND;TZID=Europe/Berlin:20220325T210000
LOCATION:Sportovní hala Hrdějovice\,  Hrdějovice597
SUMMARY:1-Z-II: Škola-Hronov
END:VEVENT
BEGIN:VEVENT
UID:30313366-3338-4333-b434-303461613261
DTSTAMP:20260423T111505Z
DESCRIPTION:12/22245 Škola - Hronov 0:3 (-22\,-13\,-18)
DTSTART;TZID=Europe/Berlin:20220326T100000
DTEND;TZID=Europe/Berlin:20220326T120000
LOCATION:Sportovní hala Hrdějovice\,  Hrdějovice597
SUMMARY:1-Z-II: Škola-Hronov
END:VEVENT
BEGIN:VEVENT
UID:65353133-3434-4661-b563-613139306332
DTSTAMP:20260423T111505Z
DESCRIPTION:1/22222 Nusle - Škola 3:1 (-22\,22\,11\,7)
DTSTART;TZID=Europe/Berlin:20220211T180000
DTEND;TZID=Europe/Berlin:20220211T200000
LOCATION:TJ Sokol Nusle\, Na květnici 700 Praha - Nusle
SUMMARY:1-Z-II: Nusle-Škola
END:VEVENT
BEGIN:VEVENT
UID:32626138-6437-4435-b933-343930656237
DTSTAMP:20260423T111505Z
DESCRIPTION:2/22224 Nusle - Škola 3:0 (14\,13\,15)
DTSTART;TZID=Europe/Berlin:20220212T100000
DTEND;TZID=Europe/Berlin:20220212T120000
LOCATION:TJ Sokol Nusle\, Na květnici 700 Praha - Nusle
SUMMARY:1-Z-II: Nusle-Škola
END:VEVENT
BEGIN:VEVENT
UID:63316361-3939-4836-a265-376166336436
DTSTAMP:20260423T111505Z
DESCRIPTION:5/22231 Hronov - Škola 3:0 (18\,26\,20)
DTSTART;TZID=Europe/Berlin:20220225T190000
DTEND;TZID=Europe/Berlin:20220225T210000
LOCATION:ZŠ Hronov\, Palackého 162 Hronov
SUMMARY:1-Z-II: Hronov-Škola
END:VEVENT
BEGIN:VEVENT
UID:65323863-6365-4266-b537-393535613831
DTSTAMP:20260423T111505Z
DESCRIPTION:6/22233 Hronov - Škola 3:0 (21\,19\,24)
DTSTART;TZID=Europe/Berlin:20220226T120000
DTEND;TZID=Europe/Berlin:20220226T140000
LOCATION:ZŠ Hronov\, Palackého 162 Hronov
SUMMARY:1-Z-II: Hronov-Škola
END:VEVENT
BEGIN:VEVENT
UID:66306139-3665-4431-b537-383031363762
DTSTAMP:20260423T111505Z
DESCRIPTION:9/22239 Č. Kostelec - Škola 3:1 (-22\,11\,12\,14)
DTSTART;TZID=Europe/Berlin:20220318T183000
DTEND;TZID=Europe/Berlin:20220318T203000
LOCATION:Sportovní hala\, Palackého 1234 Červený Kostelec
SUMMARY:1-Z-II: Č. Kostelec-Škola
END:VEVENT
BEGIN:VEVENT
UID:37346363-3061-4434-a238-616564643930
DTSTAMP:20260423T111505Z
DESCRIPTION:10/22241 Č. Kostelec - Škola 3:0 (15\,17\,12)
DTSTART;TZID=Europe/Berlin:20220319T100000
DTEND;TZID=Europe/Berlin:20220319T120000
LOCATION:Sportovní hala\, Palackého 1234 Červený Kostelec
SUMMARY:1-Z-II: Č. Kostelec-Škola
END:VEVENT
END:VCALENDAR
