BEGIN:VCALENDAR
VERSION:2.0
PRODID:-//VK Hronov76158//NONSGML kigkonsult.se iCalcreator 2.41.80//
CALSCALE:GREGORIAN
UID:66633261-6466-4538-b264-386662623864
BEGIN:VEVENT
UID:35623565-3535-4136-b765-323166383639
DTSTAMP:20260425T212447Z
DESCRIPTION:1/2 Hronov - Prosek 2:3 (22\,-21\,-21\,25\,-22)
DTSTART;TZID=Europe/Berlin:20211002T100000
DTEND;TZID=Europe/Berlin:20211002T120000
LOCATION:ZŠ Hronov\, Palackého 162 Hronov
SUMMARY:2-M-B: Hronov-Prosek
END:VEVENT
BEGIN:VEVENT
UID:33623836-6430-4430-a331-343033653666
DTSTAMP:20260425T212447Z
DESCRIPTION:2/6 Hronov - Prosek 3:0 (19\,16\,19)
DTSTART;TZID=Europe/Berlin:20211002T140000
DTEND;TZID=Europe/Berlin:20211002T160000
LOCATION:ZŠ Hronov\, Palackého 162 Hronov
SUMMARY:2-M-B: Hronov-Prosek
END:VEVENT
BEGIN:VEVENT
UID:61653565-3337-4564-b365-386634303536
DTSTAMP:20260425T212447Z
DESCRIPTION:5/17 Hronov - Malá Skála 1:3 (-14\,25\,-17\,-20)
DTSTART;TZID=Europe/Berlin:20211023T100000
DTEND;TZID=Europe/Berlin:20211023T120000
LOCATION:ZŠ Hronov\, Palackého 162 Hronov
SUMMARY:2-M-B: Hronov-Malá Skála
END:VEVENT
BEGIN:VEVENT
UID:61653136-6461-4639-b435-653338616361
DTSTAMP:20260425T212447Z
DESCRIPTION:6/21 Hronov - Malá Skála 3:2 (21\,-19\,-16\,17\,12)
DTSTART;TZID=Europe/Berlin:20211023T140000
DTEND;TZID=Europe/Berlin:20211023T160000
LOCATION:ZŠ Hronov\, Palackého 162 Hronov
SUMMARY:2-M-B: Hronov-Malá Skála
END:VEVENT
BEGIN:VEVENT
UID:36306336-3962-4433-b434-373866373865
DTSTAMP:20260425T212447Z
DESCRIPTION:7/28 Hronov - Mn. Hradiště 3:1 (22\,10\,-16\,14)
DTSTART;TZID=Europe/Berlin:20211106T110000
DTEND;TZID=Europe/Berlin:20211106T130000
LOCATION:ZŠ Hronov\, Palackého 162 Hronov
SUMMARY:2-M-B: Hronov-Mn. Hradiště
END:VEVENT
BEGIN:VEVENT
UID:32633536-3037-4933-a463-373032643836
DTSTAMP:20260425T212447Z
DESCRIPTION:8/32 Hronov - Mn. Hradiště 3:0 (17\,27\,22)
DTSTART;TZID=Europe/Berlin:20211106T150000
DTEND;TZID=Europe/Berlin:20211106T170000
LOCATION:ZŠ Hronov\, Palackého 162 Hronov
SUMMARY:2-M-B: Hronov-Mn. Hradiště
END:VEVENT
BEGIN:VEVENT
UID:30613961-3063-4765-b039-323564613765
DTSTAMP:20260425T212447Z
DESCRIPTION:11/43 Hronov - Kolín 3:1 (-17\,25\,18\,20)
DTSTART;TZID=Europe/Berlin:20211127T100000
DTEND;TZID=Europe/Berlin:20211127T120000
LOCATION:ZŠ Hronov\, Palackého 162 Hronov
SUMMARY:2-M-B: Hronov-Kolín
END:VEVENT
BEGIN:VEVENT
UID:63626333-3866-4261-a235-653966343161
DTSTAMP:20260425T212447Z
DESCRIPTION:12/47 Hronov - Kolín 3:0 (22\,11\,14)
DTSTART;TZID=Europe/Berlin:20211127T140000
DTEND;TZID=Europe/Berlin:20211127T160000
LOCATION:ZŠ Hronov\, Palackého 162 Hronov
SUMMARY:2-M-B: Hronov-Kolín
END:VEVENT
BEGIN:VEVENT
UID:31646233-3231-4565-a132-636534383531
DTSTAMP:20260425T212447Z
DESCRIPTION:17/68 Hronov - Praga 3:2 (23\,11\,-22\,-24\,8)
DTSTART;TZID=Europe/Berlin:20220122T100000
DTEND;TZID=Europe/Berlin:20220122T120000
LOCATION:ZŠ Hronov\, Palackého 162 Hronov
SUMMARY:2-M-B: Hronov-Praga
END:VEVENT
BEGIN:VEVENT
UID:61333565-3236-4232-b333-613039333031
DTSTAMP:20260425T212447Z
DESCRIPTION:18/72 Hronov - Praga 1:3 (-17\,-21\,16\,-18)
DTSTART;TZID=Europe/Berlin:20220122T140000
DTEND;TZID=Europe/Berlin:20220122T160000
LOCATION:ZŠ Hronov\, Palackého 162 Hronov
SUMMARY:2-M-B: Hronov-Praga
END:VEVENT
BEGIN:VEVENT
UID:34386566-6232-4163-b862-386565343365
DTSTAMP:20260425T212447Z
DESCRIPTION:23/90 Hronov - Dvůr Králové 3:0 (22\,22\,28)
DTSTART;TZID=Europe/Berlin:20220226T100000
DTEND;TZID=Europe/Berlin:20220226T120000
LOCATION:ZŠ Hronov\, Palackého 162 Hronov
SUMMARY:2-M-B: Hronov-Dvůr Králové
END:VEVENT
BEGIN:VEVENT
UID:34643134-3332-4466-a138-353963613766
DTSTAMP:20260425T212447Z
DESCRIPTION:24/94 Hronov - Dvůr Králové 1:3 (-13\,-22\,23\,-22)
DTSTART;TZID=Europe/Berlin:20220226T140000
DTEND;TZID=Europe/Berlin:20220226T160000
LOCATION:ZŠ Hronov\, Palackého 162 Hronov
SUMMARY:2-M-B: Hronov-Dvůr Králové
END:VEVENT
BEGIN:VEVENT
UID:31616165-3935-4531-a363-366137626139
DTSTAMP:20260425T212447Z
DESCRIPTION:27/107 Hronov - Benešov 3:1 (-23\,22\,21\,22)
DTSTART;TZID=Europe/Berlin:20220319T100000
DTEND;TZID=Europe/Berlin:20220319T120000
LOCATION:ZŠ Hronov\, Palackého 162 Hronov
SUMMARY:2-M-B: Hronov-Benešov
END:VEVENT
BEGIN:VEVENT
UID:36343631-6363-4131-a333-613136623535
DTSTAMP:20260425T212447Z
DESCRIPTION:28/111 Hronov - Benešov 3:0 (21\,19\,22)
DTSTART;TZID=Europe/Berlin:20220319T140000
DTEND;TZID=Europe/Berlin:20220319T160000
LOCATION:ZŠ Hronov\, Palackého 162 Hronov
SUMMARY:2-M-B: Hronov-Benešov
END:VEVENT
BEGIN:VEVENT
UID:64633766-3064-4862-b161-353566663539
DTSTAMP:20260425T212447Z
DESCRIPTION:3/12 Praga - Hronov 3:2 (19\,-24\,18\,-20\,13)
DTSTART;TZID=Europe/Berlin:20211009T100000
DTEND;TZID=Europe/Berlin:20211009T120000
LOCATION:Sportovní hala DDM Praha 12 - Monet\, Herrmannova 2016 Praha - Mod
 řany
SUMMARY:2-M-B: Praga-Hronov
END:VEVENT
BEGIN:VEVENT
UID:61373962-6536-4732-b333-663433316637
DTSTAMP:20260425T212447Z
DESCRIPTION:4/16 Praga - Hronov 3:0 (17\,20\,12)
DTSTART;TZID=Europe/Berlin:20211009T140000
DTEND;TZID=Europe/Berlin:20211009T160000
LOCATION:Sportovní hala DDM Praha 12 - Monet\, Herrmannova 2016 Praha - Mod
 řany
SUMMARY:2-M-B: Praga-Hronov
END:VEVENT
BEGIN:VEVENT
UID:65353130-3933-4561-b964-393638616334
DTSTAMP:20260425T212447Z
DESCRIPTION:9/34 Dvůr Králové - Hronov 2:3 (-23\,-18\,23\,24\,-12)
DTSTART;TZID=Europe/Berlin:20211120T100000
DTEND;TZID=Europe/Berlin:20211120T120000
LOCATION:Hala ZŠ Strž\, Elišky Krásnohorské 2919 Dvůr Králové nad Labem
SUMMARY:2-M-B: Dvůr Králové-Hronov
END:VEVENT
BEGIN:VEVENT
UID:63346537-6462-4939-b932-633231376238
DTSTAMP:20260425T212447Z
DESCRIPTION:10/38 Dvůr Králové - Hronov 3:1 (-19\,19\,31\,29)
DTSTART;TZID=Europe/Berlin:20211120T140000
DTEND;TZID=Europe/Berlin:20211120T160000
LOCATION:Hala ZŠ Strž\, Elišky Krásnohorské 2919 Dvůr Králové nad Labem
SUMMARY:2-M-B: Dvůr Králové-Hronov
END:VEVENT
BEGIN:VEVENT
UID:31653433-6465-4662-b630-343830646338
DTSTAMP:20260425T212447Z
DESCRIPTION:13/51 Benešov - Hronov 1:3 (-11\,-17\,22\,-19)
DTSTART;TZID=Europe/Berlin:20211204T100000
DTEND;TZID=Europe/Berlin:20211204T120000
LOCATION:ZŠ Jiráskova\, Jiráskova 888 Benešov
SUMMARY:2-M-B: Benešov-Hronov
END:VEVENT
BEGIN:VEVENT
UID:65323437-3732-4562-b131-373964643866
DTSTAMP:20260425T212447Z
DESCRIPTION:14/55 Benešov - Hronov 0:3 (-15\,-20\,-12)
DTSTART;TZID=Europe/Berlin:20211204T140000
DTEND;TZID=Europe/Berlin:20211204T160000
LOCATION:ZŠ Jiráskova\, Jiráskova 888 Benešov
SUMMARY:2-M-B: Benešov-Hronov
END:VEVENT
BEGIN:VEVENT
UID:64626339-3961-4266-b163-383139303563
DTSTAMP:20260425T212447Z
DESCRIPTION:15/58 Prosek - Hronov 3:0 (14\,16\,20)
DTSTART;TZID=Europe/Berlin:20220115T100000
DTEND;TZID=Europe/Berlin:20220115T120000
LOCATION:SH SK Prosek\, Lovosická 559 Praha - Letňany
SUMMARY:2-M-B: Prosek-Hronov
END:VEVENT
BEGIN:VEVENT
UID:36613030-3738-4333-b831-633334653831
DTSTAMP:20260425T212447Z
DESCRIPTION:16/62 Prosek - Hronov 1:3 (-20\,21\,-22\,-20)
DTSTART;TZID=Europe/Berlin:20220115T140000
DTEND;TZID=Europe/Berlin:20220115T160000
LOCATION:SH SK Prosek\, Lovosická 559 Praha - Letňany
SUMMARY:2-M-B: Prosek-Hronov
END:VEVENT
BEGIN:VEVENT
UID:66373461-3863-4331-b363-383562343937
DTSTAMP:20260425T212447Z
DESCRIPTION:19/73 Malá Skála - Hronov 3:0 (23\,24\,24)
DTSTART;TZID=Europe/Berlin:20220205T100000
DTEND;TZID=Europe/Berlin:20220205T120000
LOCATION:tělocvična ZŠ\,  Malá Skála - Vranové 1.díl60
SUMMARY:2-M-B: Malá Skála-Hronov
END:VEVENT
BEGIN:VEVENT
UID:30393335-3530-4137-a364-613033663834
DTSTAMP:20260425T212447Z
DESCRIPTION:20/77 Malá Skála - Hronov 3:1 (17\,19\,-14\,19)
DTSTART;TZID=Europe/Berlin:20220205T140000
DTEND;TZID=Europe/Berlin:20220205T160000
LOCATION:tělocvična ZŠ\,  Malá Skála - Vranové 1.díl60
SUMMARY:2-M-B: Malá Skála-Hronov
END:VEVENT
BEGIN:VEVENT
UID:36616530-6565-4161-b563-346230633332
DTSTAMP:20260425T212447Z
DESCRIPTION:21/84 Mn. Hradiště - Hronov 0:3 (-16\,-22\,-19)
DTSTART;TZID=Europe/Berlin:20220219T110000
DTEND;TZID=Europe/Berlin:20220219T130000
LOCATION:Sportovní hala BIOS\, Sokolovská 254 Mnichovo Hradiště
SUMMARY:2-M-B: Mn. Hradiště-Hronov
END:VEVENT
BEGIN:VEVENT
UID:35616335-3332-4261-a635-613138333264
DTSTAMP:20260425T212447Z
DESCRIPTION:22/88 Mn. Hradiště - Hronov 3:0 (18\,20\,21)
DTSTART;TZID=Europe/Berlin:20220219T143000
DTEND;TZID=Europe/Berlin:20220219T163000
LOCATION:Sportovní hala BIOS\, Sokolovská 254 Mnichovo Hradiště
SUMMARY:2-M-B: Mn. Hradiště-Hronov
END:VEVENT
BEGIN:VEVENT
UID:33323631-6337-4166-b963-346666383334
DTSTAMP:20260425T212447Z
DESCRIPTION:25/99 Kolín - Hronov 3:0 (23\,16\,21)
DTSTART;TZID=Europe/Berlin:20220312T123000
DTEND;TZID=Europe/Berlin:20220312T143000
LOCATION:hala STAV\, SOŠ Kolín\, Brankovická 1417 Kolín - Kolín V
SUMMARY:2-M-B: Kolín-Hronov
END:VEVENT
BEGIN:VEVENT
UID:31363634-3232-4565-b961-623130303162
DTSTAMP:20260425T212447Z
DESCRIPTION:26/103 Kolín - Hronov 2:3 (-21\,-16\,23\,21\,-14)
DTSTART;TZID=Europe/Berlin:20220312T163000
DTEND;TZID=Europe/Berlin:20220312T183000
LOCATION:hala STAV\, SOŠ Kolín\, Brankovická 1417 Kolín - Kolín V
SUMMARY:2-M-B: Kolín-Hronov
END:VEVENT
END:VCALENDAR
