BEGIN:VCALENDAR
VERSION:2.0
PRODID:-//TJ Netolice 189276162//NONSGML kigkonsult.se iCalcreator 2.41.80//
CALSCALE:GREGORIAN
UID:32363261-6437-4961-a166-616438326565
BEGIN:VEVENT
UID:39393965-6563-4030-a262-323863633332
DTSTAMP:20260425T212450Z
DESCRIPTION:3/11 Netolice - Kladno B 1:3 (23\,-17\,-23\,-20)
DTSTART;TZID=Europe/Berlin:20211009T100000
DTEND;TZID=Europe/Berlin:20211009T120000
LOCATION:Sportovní hala TJ Netolice\, Tyršova 226 Netolice
SUMMARY:2-M-A: Netolice-Kladno B
END:VEVENT
BEGIN:VEVENT
UID:35643966-3761-4465-b938-346436313663
DTSTAMP:20260425T212450Z
DESCRIPTION:4/15 Netolice - Kladno B 1:3 (-14\,21\,-17\,-26)
DTSTART;TZID=Europe/Berlin:20211009T140000
DTEND;TZID=Europe/Berlin:20211009T160000
LOCATION:Sportovní hala TJ Netolice\, Tyršova 226 Netolice
SUMMARY:2-M-A: Netolice-Kladno B
END:VEVENT
BEGIN:VEVENT
UID:34613137-3235-4032-a265-636237646233
DTSTAMP:20260425T212450Z
DESCRIPTION:7/26 Netolice - Domažlice 0:3 (-16\,-21\,-18)
DTSTART;TZID=Europe/Berlin:20211106T100000
DTEND;TZID=Europe/Berlin:20211106T120000
LOCATION:Sportovní hala TJ Netolice\, Tyršova 226 Netolice
SUMMARY:2-M-A: Netolice-Domažlice
END:VEVENT
BEGIN:VEVENT
UID:61343634-3165-4333-a138-393764643761
DTSTAMP:20260425T212450Z
DESCRIPTION:8/30 Netolice - Domažlice 1:3 (20\,-12\,-20\,-19)
DTSTART;TZID=Europe/Berlin:20211106T140000
DTEND;TZID=Europe/Berlin:20211106T160000
LOCATION:Sportovní hala TJ Netolice\, Tyršova 226 Netolice
SUMMARY:2-M-A: Netolice-Domažlice
END:VEVENT
BEGIN:VEVENT
UID:37346361-3439-4034-a236-666335313463
DTSTAMP:20260425T212450Z
DESCRIPTION:13/52 Netolice - Sokolov 3:0 (16\,23\,17)
DTSTART;TZID=Europe/Berlin:20211204T100000
DTEND;TZID=Europe/Berlin:20211204T120000
LOCATION:Sportovní hala TJ Netolice\, Tyršova 226 Netolice
SUMMARY:2-M-A: Netolice-Sokolov
END:VEVENT
BEGIN:VEVENT
UID:62386438-3366-4135-b039-633039313362
DTSTAMP:20260425T212450Z
DESCRIPTION:14/56 Netolice - Sokolov 3:2 (-25\,14\,21\,-22\,14)
DTSTART;TZID=Europe/Berlin:20211204T140000
DTEND;TZID=Europe/Berlin:20211204T160000
LOCATION:Sportovní hala TJ Netolice\, Tyršova 226 Netolice
SUMMARY:2-M-A: Netolice-Sokolov
END:VEVENT
BEGIN:VEVENT
UID:38666436-3066-4863-b035-383633383038
DTSTAMP:20260425T212450Z
DESCRIPTION:19/75 Netolice - Modřany 3:2 (-27\,-19\,15\,21\,15)
DTSTART;TZID=Europe/Berlin:20220205T100000
DTEND;TZID=Europe/Berlin:20220205T120000
LOCATION:Sportovní hala TJ Netolice\, Tyršova 226 Netolice
SUMMARY:2-M-A: Netolice-Modřany
END:VEVENT
BEGIN:VEVENT
UID:61616438-3237-4466-b064-373234356332
DTSTAMP:20260425T212450Z
DESCRIPTION:20/79 Netolice - Modřany 3:0 (21\,18\,9)
DTSTART;TZID=Europe/Berlin:20220205T140000
DTEND;TZID=Europe/Berlin:20220205T160000
LOCATION:Sportovní hala TJ Netolice\, Tyršova 226 Netolice
SUMMARY:2-M-A: Netolice-Modřany
END:VEVENT
BEGIN:VEVENT
UID:33633734-3161-4531-b834-323666326231
DTSTAMP:20260425T212450Z
DESCRIPTION:23/92 Netolice - Karlovarsko B 3:1 (15\,18\,-17\,21)
DTSTART;TZID=Europe/Berlin:20220226T100000
DTEND;TZID=Europe/Berlin:20220226T120000
LOCATION:Sportovní hala TJ Netolice\, Tyršova 226 Netolice
SUMMARY:2-M-A: Netolice-Karlovarsko B
END:VEVENT
BEGIN:VEVENT
UID:39663031-3035-4238-b034-346531353961
DTSTAMP:20260425T212450Z
DESCRIPTION:24/96 Netolice - Karlovarsko B 3:2 (24\,-18\,-26\,14\,3)
DTSTART;TZID=Europe/Berlin:20220226T140000
DTEND;TZID=Europe/Berlin:20220226T160000
LOCATION:Sportovní hala TJ Netolice\, Tyršova 226 Netolice
SUMMARY:2-M-A: Netolice-Karlovarsko B
END:VEVENT
BEGIN:VEVENT
UID:35666336-6337-4662-b030-353132616332
DTSTAMP:20260425T212450Z
DESCRIPTION:25/97 Netolice - Příbram B 3:2 (30\,-16\,20\,-22\,12)
DTSTART;TZID=Europe/Berlin:20220305T100000
DTEND;TZID=Europe/Berlin:20220305T120000
LOCATION:Sportovní hala TJ Netolice\, Tyršova 226 Netolice
SUMMARY:2-M-A: Netolice-Příbram B
END:VEVENT
BEGIN:VEVENT
UID:31353434-6533-4066-b839-653838653134
DTSTAMP:20260425T212450Z
DESCRIPTION:26/101 Netolice - Příbram B 0:3 (-24\,-16\,-17)
DTSTART;TZID=Europe/Berlin:20220305T140000
DTEND;TZID=Europe/Berlin:20220305T160000
LOCATION:Sportovní hala TJ Netolice\, Tyršova 226 Netolice
SUMMARY:2-M-A: Netolice-Příbram B
END:VEVENT
BEGIN:VEVENT
UID:31396531-3563-4032-b737-333238623230
DTSTAMP:20260425T212450Z
DESCRIPTION:5/19 Modřany - Netolice 3:1 (21\,-18\,21\,18)
DTSTART;TZID=Europe/Berlin:20211023T100000
DTEND;TZID=Europe/Berlin:20211023T120000
LOCATION:TJ Sokol Modřany\, K Vltavě 410 Praha - Modřany
SUMMARY:2-M-A: Modřany-Netolice
END:VEVENT
BEGIN:VEVENT
UID:39343464-6335-4536-a661-386639643733
DTSTAMP:20260425T212450Z
DESCRIPTION:6/23 Modřany - Netolice 3:1 (22\,-20\,20\,16)
DTSTART;TZID=Europe/Berlin:20211023T140000
DTEND;TZID=Europe/Berlin:20211023T160000
LOCATION:TJ Sokol Modřany\, K Vltavě 410 Praha - Modřany
SUMMARY:2-M-A: Modřany-Netolice
END:VEVENT
BEGIN:VEVENT
UID:63623639-3632-4337-a136-386534623031
DTSTAMP:20260425T212450Z
DESCRIPTION:9/36 Karlovarsko B - Netolice 3:2 (23\,21\,-30\,-20\,7)
DTSTART;TZID=Europe/Berlin:20211120T110000
DTEND;TZID=Europe/Berlin:20211120T130000
LOCATION:Hala Střední pedagogické školy\, Lidická 455 Karlovy Vary - Drahov
 ice
SUMMARY:2-M-A: Karlovarsko B-Netolice
END:VEVENT
BEGIN:VEVENT
UID:39646361-3333-4337-a134-646431653062
DTSTAMP:20260425T212450Z
DESCRIPTION:10/40 Karlovarsko B - Netolice 3:0 (19\,22\,20)
DTSTART;TZID=Europe/Berlin:20211120T150000
DTEND;TZID=Europe/Berlin:20211120T170000
LOCATION:Hala Střední pedagogické školy\, Lidická 455 Karlovy Vary - Drahov
 ice
SUMMARY:2-M-A: Karlovarsko B-Netolice
END:VEVENT
BEGIN:VEVENT
UID:66633332-3237-4064-a236-353066616633
DTSTAMP:20260425T212450Z
DESCRIPTION:11/41 Příbram B - Netolice 3:0 (17\,15\,24)
DTSTART;TZID=Europe/Berlin:20211127T090000
DTEND;TZID=Europe/Berlin:20211127T110000
LOCATION:Tělocvična ZŠ Balbínova\, Balbínova 328 Příbram - Příbram II
SUMMARY:2-M-A: Příbram B-Netolice
END:VEVENT
BEGIN:VEVENT
UID:34383961-3930-4331-b531-646466666630
DTSTAMP:20260425T212450Z
DESCRIPTION:12/45 Příbram B - Netolice 3:0 (15\,14\,20)
DTSTART;TZID=Europe/Berlin:20211127T130000
DTEND;TZID=Europe/Berlin:20211127T150000
LOCATION:Tělocvična ZŠ Balbínova\, Balbínova 328 Příbram - Příbram II
SUMMARY:2-M-A: Příbram B-Netolice
END:VEVENT
BEGIN:VEVENT
UID:31356632-3635-4135-b936-396233306530
DTSTAMP:20260425T212450Z
DESCRIPTION:17/67 Kladno B - Netolice 3:0 (18\,19\,16)
DTSTART;TZID=Europe/Berlin:20220122T110000
DTEND;TZID=Europe/Berlin:20220122T130000
LOCATION:Kladenská sportovní hala\, Sportovců 817 Kladno - Rozdělov
SUMMARY:2-M-A: Kladno B-Netolice
END:VEVENT
BEGIN:VEVENT
UID:39633265-3734-4138-a535-626539386663
DTSTAMP:20260425T212450Z
DESCRIPTION:18/71 Kladno B - Netolice 3:0 (23\,14\,13)
DTSTART;TZID=Europe/Berlin:20220122T150000
DTEND;TZID=Europe/Berlin:20220122T170000
LOCATION:Kladenská sportovní hala\, Sportovců 817 Kladno - Rozdělov
SUMMARY:2-M-A: Kladno B-Netolice
END:VEVENT
BEGIN:VEVENT
UID:37653061-6465-4437-a639-306364663334
DTSTAMP:20260425T212450Z
DESCRIPTION:21/82 Domažlice - Netolice 3:0 (18\,17\,21)
DTSTART;TZID=Europe/Berlin:20220219T100000
DTEND;TZID=Europe/Berlin:20220219T120000
LOCATION:Sportovní hala ZŠ Komenského Domažlice\, Komenského 17 Domažlice -
  Týnské Předměstí
SUMMARY:2-M-A: Domažlice-Netolice
END:VEVENT
BEGIN:VEVENT
UID:37623861-6539-4665-a363-353734636164
DTSTAMP:20260425T212450Z
DESCRIPTION:22/86 Domažlice - Netolice 3:1 (16\,-18\,15\,22)
DTSTART;TZID=Europe/Berlin:20220219T140000
DTEND;TZID=Europe/Berlin:20220219T160000
LOCATION:Sportovní hala ZŠ Komenského Domažlice\, Komenského 17 Domažlice -
  Týnské Předměstí
SUMMARY:2-M-A: Domažlice-Netolice
END:VEVENT
BEGIN:VEVENT
UID:61303163-3033-4462-b432-656235383663
DTSTAMP:20260425T212450Z
DESCRIPTION:27/108 Sokolov - Netolice 3:0 (9\,17\,31)
DTSTART;TZID=Europe/Berlin:20220319T100000
DTEND;TZID=Europe/Berlin:20220319T120000
LOCATION:Jiskra\, Maxima Gorkého 280 Sokolov
SUMMARY:2-M-A: Sokolov-Netolice
END:VEVENT
BEGIN:VEVENT
UID:62383761-3033-4162-a230-636265306263
DTSTAMP:20260425T212450Z
DESCRIPTION:28/112 Sokolov - Netolice 3:0 (24\,21\,19)
DTSTART;TZID=Europe/Berlin:20220319T140000
DTEND;TZID=Europe/Berlin:20220319T160000
LOCATION:Jiskra\, Maxima Gorkého 280 Sokolov
SUMMARY:2-M-A: Sokolov-Netolice
END:VEVENT
BEGIN:VEVENT
UID:36663830-3231-4737-b532-636239616537
DTSTAMP:20260425T212450Z
DESCRIPTION:1/1 Netolice - Klatovy 3:1 (17\,-23\,14\,17)
DTSTART;TZID=Europe/Berlin:20220423T100000
DTEND;TZID=Europe/Berlin:20220423T120000
LOCATION:Sportovní hala TJ Netolice\, Tyršova 226 Netolice
SUMMARY:2-M-KA: Netolice-Klatovy
END:VEVENT
BEGIN:VEVENT
UID:39343639-3434-4133-b132-396132313033
DTSTAMP:20260425T212450Z
DESCRIPTION:2/4 Netolice - Hostivař 3:1 (17\,-23\,20\,21)
DTSTART;TZID=Europe/Berlin:20220423T180000
DTEND;TZID=Europe/Berlin:20220423T200000
LOCATION:Sportovní hala TJ Netolice\, Tyršova 226 Netolice
SUMMARY:2-M-KA: Netolice-Hostivař
END:VEVENT
BEGIN:VEVENT
UID:30383962-3137-4135-b739-636233616364
DTSTAMP:20260425T212450Z
DESCRIPTION:3/6 Tuchlovice - Netolice 1:3 (-26\,-19\,25\,-19)
DTSTART;TZID=Europe/Berlin:20220424T120000
DTEND;TZID=Europe/Berlin:20220424T140000
LOCATION:Sportovní hala TJ Netolice\, Tyršova 226 Netolice
SUMMARY:2-M-KA: Tuchlovice-Netolice
END:VEVENT
END:VCALENDAR
