BEGIN:VCALENDAR
VERSION:2.0
PRODID:-//Sokol Brno - jih76163//NONSGML kigkonsult.se iCalcreator 2.41.80//
CALSCALE:GREGORIAN
UID:62326264-6234-4133-b736-356361333030
BEGIN:VEVENT
UID:36643239-3662-4339-b235-633363343836
DTSTAMP:20260426T013704Z
DESCRIPTION:3/9 Brno-jih - Drásov 3:0 (19\,19\,17)
DTSTART;TZID=Europe/Berlin:20211009T110000
DTEND;TZID=Europe/Berlin:20211009T130000
LOCATION:ZŠ Tuháčkova\, Tuháčkova 23 Brno - Komárov
SUMMARY:2-M-C: Brno-jih-Drásov
END:VEVENT
BEGIN:VEVENT
UID:39376563-6135-4662-b930-386236386162
DTSTAMP:20260426T013704Z
DESCRIPTION:4/13 Brno-jih - Drásov 3:1 (19\,-24\,18\,16)
DTSTART;TZID=Europe/Berlin:20211009T150000
DTEND;TZID=Europe/Berlin:20211009T170000
LOCATION:ZŠ Tuháčkova\, Tuháčkova 23 Brno - Komárov
SUMMARY:2-M-C: Brno-jih-Drásov
END:VEVENT
BEGIN:VEVENT
UID:63323937-3564-4635-b837-653662633131
DTSTAMP:20260426T013704Z
DESCRIPTION:7/25 Brno-jih - Kometa 3:0 (20\,22\,22)
DTSTART;TZID=Europe/Berlin:20211106T100000
DTEND;TZID=Europe/Berlin:20211106T120000
LOCATION:ZŠ Tuháčkova\, Tuháčkova 23 Brno - Komárov
SUMMARY:2-M-C: Brno-jih-Kometa
END:VEVENT
BEGIN:VEVENT
UID:39396565-3330-4364-a134-633837363532
DTSTAMP:20260426T013704Z
DESCRIPTION:8/29 Brno-jih - Kometa 3:1 (16\,22\,-23\,22)
DTSTART;TZID=Europe/Berlin:20211106T140000
DTEND;TZID=Europe/Berlin:20211106T160000
LOCATION:ZŠ Tuháčkova\, Tuháčkova 23 Brno - Komárov
SUMMARY:2-M-C: Brno-jih-Kometa
END:VEVENT
BEGIN:VEVENT
UID:35313164-3538-4362-b464-636431613061
DTSTAMP:20260426T013704Z
DESCRIPTION:11/41 Brno-jih - Choceň 3:0 (19\,20\,17)
DTSTART;TZID=Europe/Berlin:20211127T110000
DTEND;TZID=Europe/Berlin:20211127T130000
LOCATION:ZŠ Tuháčkova\, Tuháčkova 23 Brno - Komárov
SUMMARY:2-M-C: Brno-jih-Choceň
END:VEVENT
BEGIN:VEVENT
UID:30363336-3936-4536-b937-333230353965
DTSTAMP:20260426T013704Z
DESCRIPTION:12/45 Brno-jih - Choceň 3:0 (19\,14\,20)
DTSTART;TZID=Europe/Berlin:20211127T150000
DTEND;TZID=Europe/Berlin:20211127T170000
LOCATION:ZŠ Tuháčkova\, Tuháčkova 23 Brno - Komárov
SUMMARY:2-M-C: Brno-jih-Choceň
END:VEVENT
BEGIN:VEVENT
UID:61626437-3766-4736-b237-616436653434
DTSTAMP:20260426T013704Z
DESCRIPTION:15/57 Brno-jih - H. Brod 3:0 (17\,23\,22)
DTSTART;TZID=Europe/Berlin:20220115T110000
DTEND;TZID=Europe/Berlin:20220115T130000
LOCATION:ZŠ Tuháčkova\, Tuháčkova 23 Brno - Komárov
SUMMARY:2-M-C: Brno-jih-H. Brod
END:VEVENT
BEGIN:VEVENT
UID:38666537-3033-4463-a437-623962353030
DTSTAMP:20260426T013704Z
DESCRIPTION:16/61 Brno-jih - H. Brod 1:3 (22\,-23\,-19\,-23)
DTSTART;TZID=Europe/Berlin:20220115T150000
DTEND;TZID=Europe/Berlin:20220115T170000
LOCATION:ZŠ Tuháčkova\, Tuháčkova 23 Brno - Komárov
SUMMARY:2-M-C: Brno-jih-H. Brod
END:VEVENT
BEGIN:VEVENT
UID:61333635-6430-4834-b238-303832313830
DTSTAMP:20260426T013704Z
DESCRIPTION:19/73 Brno-jih - Letovice 3:0 (20\,16\,20)
DTSTART;TZID=Europe/Berlin:20220205T110000
DTEND;TZID=Europe/Berlin:20220205T130000
LOCATION:ZŠ Tuháčkova\, Tuháčkova 23 Brno - Komárov
SUMMARY:2-M-C: Brno-jih-Letovice
END:VEVENT
BEGIN:VEVENT
UID:61383665-3166-4630-a633-396665353539
DTSTAMP:20260426T013704Z
DESCRIPTION:20/77 Brno-jih - Letovice 2:3 (-27\,-19\,25\,15\,-13)
DTSTART;TZID=Europe/Berlin:20220205T150000
DTEND;TZID=Europe/Berlin:20220205T170000
LOCATION:ZŠ Tuháčkova\, Tuháčkova 23 Brno - Komárov
SUMMARY:2-M-C: Brno-jih-Letovice
END:VEVENT
BEGIN:VEVENT
UID:36653331-6536-4339-b438-373235306533
DTSTAMP:20260426T013704Z
DESCRIPTION:23/89 Brno-jih - Hradec Králové B 3:1 (18\,-23\,21\,25)
DTSTART;TZID=Europe/Berlin:20220226T110000
DTEND;TZID=Europe/Berlin:20220226T130000
LOCATION:ZŠ Tuháčkova\, Tuháčkova 23 Brno - Komárov
SUMMARY:2-M-C: Brno-jih-Hradec Králové B
END:VEVENT
BEGIN:VEVENT
UID:33336532-3136-4331-b833-383165303766
DTSTAMP:20260426T013704Z
DESCRIPTION:24/93 Brno-jih - Hradec Králové B 2:3 (-32\,18\,-22\,31\,-7)
DTSTART;TZID=Europe/Berlin:20220226T150000
DTEND;TZID=Europe/Berlin:20220226T170000
LOCATION:ZŠ Tuháčkova\, Tuháčkova 23 Brno - Komárov
SUMMARY:2-M-C: Brno-jih-Hradec Králové B
END:VEVENT
BEGIN:VEVENT
UID:66656661-6563-4731-b134-346165393233
DTSTAMP:20260426T013704Z
DESCRIPTION:27/105 Brno-jih - Pardubice 3:2 (23\,-21\,23\,-29\,12)
DTSTART;TZID=Europe/Berlin:20220319T110000
DTEND;TZID=Europe/Berlin:20220319T130000
LOCATION:ZŠ Tuháčkova\, Tuháčkova 23 Brno - Komárov
SUMMARY:2-M-C: Brno-jih-Pardubice
END:VEVENT
BEGIN:VEVENT
UID:39646336-6166-4364-a331-353130323638
DTSTAMP:20260426T013704Z
DESCRIPTION:28/109 Brno-jih - Pardubice 3:0 (13\,12\,22)
DTSTART;TZID=Europe/Berlin:20220319T150000
DTEND;TZID=Europe/Berlin:20220319T170000
LOCATION:ZŠ Tuháčkova\, Tuháčkova 23 Brno - Komárov
SUMMARY:2-M-C: Brno-jih-Pardubice
END:VEVENT
BEGIN:VEVENT
UID:66383835-6266-4634-b236-396563626664
DTSTAMP:20260426T013704Z
DESCRIPTION:1/1 H. Brod - Brno-jih 1:3 (-21\,-20\,16\,-14)
DTSTART;TZID=Europe/Berlin:20211002T110000
DTEND;TZID=Europe/Berlin:20211002T130000
LOCATION:Tělocvična SPŠ Stavební\, Jihlavská 628 Havlíčkův Brod
SUMMARY:2-M-C: H. Brod-Brno-jih
END:VEVENT
BEGIN:VEVENT
UID:63666438-3335-4765-b432-393562663263
DTSTAMP:20260426T013704Z
DESCRIPTION:2/5 H. Brod - Brno-jih 1:3 (-19\,-21\,18\,-22)
DTSTART;TZID=Europe/Berlin:20211002T150000
DTEND;TZID=Europe/Berlin:20211002T170000
LOCATION:Tělocvična SPŠ Stavební\, Jihlavská 628 Havlíčkův Brod
SUMMARY:2-M-C: H. Brod-Brno-jih
END:VEVENT
BEGIN:VEVENT
UID:39373735-3736-4061-b863-613537386164
DTSTAMP:20260426T013704Z
DESCRIPTION:5/17 Letovice - Brno-jih 3:1 (-20\,17\,22\,11)
DTSTART;TZID=Europe/Berlin:20211023T100000
DTEND;TZID=Europe/Berlin:20211023T120000
LOCATION:Sportovní hala Letovice\, V zahradách 831 Letovice
SUMMARY:2-M-C: Letovice-Brno-jih
END:VEVENT
BEGIN:VEVENT
UID:64333135-6434-4935-b337-393862373739
DTSTAMP:20260426T013704Z
DESCRIPTION:6/21 Letovice - Brno-jih 1:3 (-19\,-19\,20\,-20)
DTSTART;TZID=Europe/Berlin:20211023T140000
DTEND;TZID=Europe/Berlin:20211023T160000
LOCATION:Sportovní hala Letovice\, V zahradách 831 Letovice
SUMMARY:2-M-C: Letovice-Brno-jih
END:VEVENT
BEGIN:VEVENT
UID:62333365-6165-4637-b436-313236353765
DTSTAMP:20260426T013704Z
DESCRIPTION:9/33 Hradec Králové B - Brno-jih 0:3 (-22\,-17\,-22)
DTSTART;TZID=Europe/Berlin:20211120T100000
DTEND;TZID=Europe/Berlin:20211120T120000
LOCATION:TJ Slavia Hradec Králové\, Víta Nejedlého 1216 Hradec Králové
SUMMARY:2-M-C: Hradec Králové B-Brno-jih
END:VEVENT
BEGIN:VEVENT
UID:64313363-6137-4538-b264-343763303432
DTSTAMP:20260426T013704Z
DESCRIPTION:10/37 Hradec Králové B - Brno-jih 3:2 (22\,-14\,24\,-20\,7)
DTSTART;TZID=Europe/Berlin:20211120T140000
DTEND;TZID=Europe/Berlin:20211120T160000
LOCATION:TJ Slavia Hradec Králové\, Víta Nejedlého 1216 Hradec Králové
SUMMARY:2-M-C: Hradec Králové B-Brno-jih
END:VEVENT
BEGIN:VEVENT
UID:30343734-3031-4661-b562-353337363438
DTSTAMP:20260426T013704Z
DESCRIPTION:13/49 Pardubice - Brno-jih 0:3 (-21\,-20\,-12)
DTSTART;TZID=Europe/Berlin:20211204T100000
DTEND;TZID=Europe/Berlin:20211204T120000
LOCATION:Sokolovna\, Jiráskova 29 Pardubice - Zelené Předměstí
SUMMARY:2-M-C: Pardubice-Brno-jih
END:VEVENT
BEGIN:VEVENT
UID:37393965-6438-4432-a439-366135356165
DTSTAMP:20260426T013704Z
DESCRIPTION:14/53 Pardubice - Brno-jih 0:3 (-23\,-17\,-17)
DTSTART;TZID=Europe/Berlin:20211204T140000
DTEND;TZID=Europe/Berlin:20211204T160000
LOCATION:Sokolovna\, Jiráskova 29 Pardubice - Zelené Předměstí
SUMMARY:2-M-C: Pardubice-Brno-jih
END:VEVENT
BEGIN:VEVENT
UID:38373365-3164-4636-b565-313265373230
DTSTAMP:20260426T013704Z
DESCRIPTION:17/65 Drásov - Brno-jih 0:3 (-20\,-23\,-21)
DTSTART;TZID=Europe/Berlin:20220122T090000
DTEND;TZID=Europe/Berlin:20220122T110000
LOCATION:Hala u ZŠ TGM Drásov\, Školní 167 Drásov
SUMMARY:2-M-C: Drásov-Brno-jih
END:VEVENT
BEGIN:VEVENT
UID:65643565-3337-4533-a531-376361633161
DTSTAMP:20260426T013704Z
DESCRIPTION:18/69 Drásov - Brno-jih 2:3 (26\,-19\,22\,-22\,-7)
DTSTART;TZID=Europe/Berlin:20220122T130000
DTEND;TZID=Europe/Berlin:20220122T150000
LOCATION:Hala u ZŠ TGM Drásov\, Školní 167 Drásov
SUMMARY:2-M-C: Drásov-Brno-jih
END:VEVENT
BEGIN:VEVENT
UID:66363161-6164-4038-a164-636634613933
DTSTAMP:20260426T013704Z
DESCRIPTION:21/81 Kometa - Brno-jih 0:3 (-20\,-23\,-18)
DTSTART;TZID=Europe/Berlin:20220219T100000
DTEND;TZID=Europe/Berlin:20220219T120000
LOCATION:SKP Kometa Brno\, Bauerova 321 Brno - Pisárky
SUMMARY:2-M-C: Kometa-Brno-jih
END:VEVENT
BEGIN:VEVENT
UID:37633334-3833-4335-a135-393863313039
DTSTAMP:20260426T013704Z
DESCRIPTION:22/85 Kometa - Brno-jih 2:3 (25\,-24\,-17\,19\,-11)
DTSTART;TZID=Europe/Berlin:20220219T140000
DTEND;TZID=Europe/Berlin:20220219T160000
LOCATION:SKP Kometa Brno\, Bauerova 321 Brno - Pisárky
SUMMARY:2-M-C: Kometa-Brno-jih
END:VEVENT
BEGIN:VEVENT
UID:63323439-3662-4139-b465-666533303063
DTSTAMP:20260426T013704Z
DESCRIPTION:25/97 Choceň - Brno-jih 1:3 (-23\,14\,-19\,-16)
DTSTART;TZID=Europe/Berlin:20220305T100000
DTEND;TZID=Europe/Berlin:20220305T120000
LOCATION:Volejbalová hala \, U Koupaliště 1734 Choceň
SUMMARY:2-M-C: Choceň-Brno-jih
END:VEVENT
BEGIN:VEVENT
UID:38306439-6664-4432-a538-656362663465
DTSTAMP:20260426T013704Z
DESCRIPTION:26/101 Choceň - Brno-jih 3:0 (16\,22\,17)
DTSTART;TZID=Europe/Berlin:20220305T140000
DTEND;TZID=Europe/Berlin:20220305T160000
LOCATION:Volejbalová hala \, U Koupaliště 1734 Choceň
SUMMARY:2-M-C: Choceň-Brno-jih
END:VEVENT
BEGIN:VEVENT
UID:66316232-6333-4731-a435-386463656362
DTSTAMP:20260426T013704Z
DESCRIPTION:1/2 Brno-jih - H. Králové 1:3 (24\,-15\,-22\,-20)
DTSTART;TZID=Europe/Berlin:20210918T133000
DTEND;TZID=Europe/Berlin:20210918T153000
LOCATION:Městská sportovní hala\, Hanusíkova 1476 Kojetín - Kojetín I-Město
SUMMARY:CP-M-F: Brno-jih-H. Králové
END:VEVENT
BEGIN:VEVENT
UID:35336263-3761-4666-a262-666432393763
DTSTAMP:20260426T013704Z
DESCRIPTION:1/1 Kojetín - Brno-jih 3:2 (20\,-21\,-21\,21\,13)
DTSTART;TZID=Europe/Berlin:20210918T100000
DTEND;TZID=Europe/Berlin:20210918T120000
LOCATION:Městská sportovní hala\, Hanusíkova 1476 Kojetín - Kojetín I-Město
SUMMARY:CP-M-F: Kojetín-Brno-jih
END:VEVENT
BEGIN:VEVENT
UID:30623064-3265-4338-a666-373065636562
DTSTAMP:20260426T013704Z
DESCRIPTION:1/1 Brno-jih - Blue Ostrava 0:3 (-18\,-16\,-21)
DTSTART;TZID=Europe/Berlin:20220423T100000
DTEND;TZID=Europe/Berlin:20220423T120000
LOCATION:ZŠ Tuháčkova\, Tuháčkova 23 Brno - Komárov
SUMMARY:1-M-K: Brno-jih-Blue Ostrava
END:VEVENT
BEGIN:VEVENT
UID:37633035-3435-4166-b734-656433343832
DTSTAMP:20260426T013704Z
DESCRIPTION:1/3 Brno-jih - Praga 2:3 (-18\,22\,-19\,21\,-13)
DTSTART;TZID=Europe/Berlin:20220423T160000
DTEND;TZID=Europe/Berlin:20220423T180000
LOCATION:ZŠ Tuháčkova\, Tuháčkova 23 Brno - Komárov
SUMMARY:1-M-K: Brno-jih-Praga
END:VEVENT
END:VCALENDAR
