BEGIN:VCALENDAR
VERSION:2.0
PRODID:-//Volejbal Domažlice76169//NONSGML kigkonsult.se iCalcreator 2.41.80//
CALSCALE:GREGORIAN
UID:63336632-3662-4537-a365-313137636564
BEGIN:VEVENT
UID:66393061-3532-4864-b362-613266343035
DTSTAMP:20260425T212449Z
DESCRIPTION:5/20 Domažlice - Karlovarsko B 3:0 (20\,19\,16)
DTSTART;TZID=Europe/Berlin:20211023T100000
DTEND;TZID=Europe/Berlin:20211023T120000
LOCATION:Sportovní hala ZŠ Komenského Domažlice\, Komenského 17 Domažlice -
  Týnské Předměstí
SUMMARY:2-M-A: Domažlice-Karlovarsko B
END:VEVENT
BEGIN:VEVENT
UID:37663633-3234-4266-b361-333838653532
DTSTAMP:20260425T212449Z
DESCRIPTION:6/24 Domažlice - Karlovarsko B 3:1 (13\,18\,-21\,22)
DTSTART;TZID=Europe/Berlin:20211023T140000
DTEND;TZID=Europe/Berlin:20211023T160000
LOCATION:Sportovní hala ZŠ Komenského Domažlice\, Komenského 17 Domažlice -
  Týnské Předměstí
SUMMARY:2-M-A: Domažlice-Karlovarsko B
END:VEVENT
BEGIN:VEVENT
UID:34383766-3265-4633-b265-653662623339
DTSTAMP:20260425T212449Z
DESCRIPTION:9/35 Domažlice - Sokolov 3:0 (15\,20\,17)
DTSTART;TZID=Europe/Berlin:20211120T100000
DTEND;TZID=Europe/Berlin:20211120T120000
LOCATION:Sportovní hala ZŠ Komenského Domažlice\, Komenského 17 Domažlice -
  Týnské Předměstí
SUMMARY:2-M-A: Domažlice-Sokolov
END:VEVENT
BEGIN:VEVENT
UID:32653164-3935-4235-b564-366536383864
DTSTAMP:20260425T212449Z
DESCRIPTION:10/39 Domažlice - Sokolov 3:0 (25\,19\,19)
DTSTART;TZID=Europe/Berlin:20211120T140000
DTEND;TZID=Europe/Berlin:20211120T160000
LOCATION:Sportovní hala ZŠ Komenského Domažlice\, Komenského 17 Domažlice -
  Týnské Předměstí
SUMMARY:2-M-A: Domažlice-Sokolov
END:VEVENT
BEGIN:VEVENT
UID:37353133-6134-4939-b136-656362613032
DTSTAMP:20260425T212449Z
DESCRIPTION:13/50 Domažlice - Kladno B 3:0 (23\,21\,17)
DTSTART;TZID=Europe/Berlin:20211204T110000
DTEND;TZID=Europe/Berlin:20211204T130000
LOCATION:Sportovní hala ZŠ Komenského Domažlice\, Komenského 17 Domažlice -
  Týnské Předměstí
SUMMARY:2-M-A: Domažlice-Kladno B
END:VEVENT
BEGIN:VEVENT
UID:39343139-6138-4433-b836-393530623838
DTSTAMP:20260425T212449Z
DESCRIPTION:14/54 Domažlice - Kladno B 3:0 (19\,21\,20)
DTSTART;TZID=Europe/Berlin:20211204T150000
DTEND;TZID=Europe/Berlin:20211204T170000
LOCATION:Sportovní hala ZŠ Komenského Domažlice\, Komenského 17 Domažlice -
  Týnské Předměstí
SUMMARY:2-M-A: Domažlice-Kladno B
END:VEVENT
BEGIN:VEVENT
UID:32646663-3037-4435-a363-626436306566
DTSTAMP:20260425T212449Z
DESCRIPTION:15/60 Domažlice - Modřany 3:0 (23\,20\,10)
DTSTART;TZID=Europe/Berlin:20220313T090000
DTEND;TZID=Europe/Berlin:20220313T110000
LOCATION:Sportovní hala ZŠ Komenského Domažlice\, Komenského 17 Domažlice -
  Týnské Předměstí
SUMMARY:2-M-A: Domažlice-Modřany
END:VEVENT
BEGIN:VEVENT
UID:31653336-3639-4162-a638-393865303037
DTSTAMP:20260425T212449Z
DESCRIPTION:16/64 Domažlice - Modřany 3:0 (24\,18\,23)
DTSTART;TZID=Europe/Berlin:20220313T130000
DTEND;TZID=Europe/Berlin:20220313T150000
LOCATION:Sportovní hala ZŠ Komenského Domažlice\, Komenského 17 Domažlice -
  Týnské Předměstí
SUMMARY:2-M-A: Domažlice-Modřany
END:VEVENT
BEGIN:VEVENT
UID:66326364-3261-4630-b538-663235663562
DTSTAMP:20260425T212449Z
DESCRIPTION:17/65 Domažlice - Příbram B 1:3 (-23\,21\,-23\,-19)
DTSTART;TZID=Europe/Berlin:20220122T110000
DTEND;TZID=Europe/Berlin:20220122T130000
LOCATION:Sportovní hala ZŠ Komenského Domažlice\, Komenského 17 Domažlice -
  Týnské Předměstí
SUMMARY:2-M-A: Domažlice-Příbram B
END:VEVENT
BEGIN:VEVENT
UID:63333331-3435-4131-b731-373032666530
DTSTAMP:20260425T212449Z
DESCRIPTION:18/69 Domažlice - Příbram B 3:1 (24\,-15\,17\,17)
DTSTART;TZID=Europe/Berlin:20220122T150000
DTEND;TZID=Europe/Berlin:20220122T170000
LOCATION:Sportovní hala ZŠ Komenského Domažlice\, Komenského 17 Domažlice -
  Týnské Předměstí
SUMMARY:2-M-A: Domažlice-Příbram B
END:VEVENT
BEGIN:VEVENT
UID:36663738-3932-4337-b065-363731346265
DTSTAMP:20260425T212449Z
DESCRIPTION:21/82 Domažlice - Netolice 3:0 (18\,17\,21)
DTSTART;TZID=Europe/Berlin:20220219T100000
DTEND;TZID=Europe/Berlin:20220219T120000
LOCATION:Sportovní hala ZŠ Komenského Domažlice\, Komenského 17 Domažlice -
  Týnské Předměstí
SUMMARY:2-M-A: Domažlice-Netolice
END:VEVENT
BEGIN:VEVENT
UID:39646439-6564-4134-a261-336664313030
DTSTAMP:20260425T212449Z
DESCRIPTION:22/86 Domažlice - Netolice 3:1 (16\,-18\,15\,22)
DTSTART;TZID=Europe/Berlin:20220219T140000
DTEND;TZID=Europe/Berlin:20220219T160000
LOCATION:Sportovní hala ZŠ Komenského Domažlice\, Komenského 17 Domažlice -
  Týnské Předměstí
SUMMARY:2-M-A: Domažlice-Netolice
END:VEVENT
BEGIN:VEVENT
UID:65323935-3439-4639-b865-303634383462
DTSTAMP:20260425T212449Z
DESCRIPTION:1/4 Modřany - Domažlice 0:3 (-17\,-17\,-23)
DTSTART;TZID=Europe/Berlin:20211002T100000
DTEND;TZID=Europe/Berlin:20211002T120000
LOCATION:TJ Sokol Modřany\, K Vltavě 410 Praha - Modřany
SUMMARY:2-M-A: Modřany-Domažlice
END:VEVENT
BEGIN:VEVENT
UID:31633238-3931-4130-b532-626261323534
DTSTAMP:20260425T212449Z
DESCRIPTION:2/8 Modřany - Domažlice 1:3 (23\,-18\,-22\,-18)
DTSTART;TZID=Europe/Berlin:20211002T140000
DTEND;TZID=Europe/Berlin:20211002T160000
LOCATION:TJ Sokol Modřany\, K Vltavě 410 Praha - Modřany
SUMMARY:2-M-A: Modřany-Domažlice
END:VEVENT
BEGIN:VEVENT
UID:38656362-3636-4332-b832-323865656362
DTSTAMP:20260425T212449Z
DESCRIPTION:3/9 Příbram B - Domažlice 3:1 (-25\,20\,13\,19)
DTSTART;TZID=Europe/Berlin:20211009T100000
DTEND;TZID=Europe/Berlin:20211009T120000
LOCATION:Tělocvična ZŠ Balbínova\, Balbínova 328 Příbram - Příbram II
SUMMARY:2-M-A: Příbram B-Domažlice
END:VEVENT
BEGIN:VEVENT
UID:31626364-3831-4230-b363-653634393538
DTSTAMP:20260425T212449Z
DESCRIPTION:4/13 Příbram B - Domažlice 3:0 (17\,21\,12)
DTSTART;TZID=Europe/Berlin:20211009T140000
DTEND;TZID=Europe/Berlin:20211009T160000
LOCATION:Tělocvična ZŠ Balbínova\, Balbínova 328 Příbram - Příbram II
SUMMARY:2-M-A: Příbram B-Domažlice
END:VEVENT
BEGIN:VEVENT
UID:31346261-6331-4661-a437-393961663764
DTSTAMP:20260425T212449Z
DESCRIPTION:7/26 Netolice - Domažlice 0:3 (-16\,-21\,-18)
DTSTART;TZID=Europe/Berlin:20211106T100000
DTEND;TZID=Europe/Berlin:20211106T120000
LOCATION:Sportovní hala TJ Netolice\, Tyršova 226 Netolice
SUMMARY:2-M-A: Netolice-Domažlice
END:VEVENT
BEGIN:VEVENT
UID:36663734-3766-4463-b961-623465623433
DTSTAMP:20260425T212449Z
DESCRIPTION:8/30 Netolice - Domažlice 1:3 (20\,-12\,-20\,-19)
DTSTART;TZID=Europe/Berlin:20211106T140000
DTEND;TZID=Europe/Berlin:20211106T160000
LOCATION:Sportovní hala TJ Netolice\, Tyršova 226 Netolice
SUMMARY:2-M-A: Netolice-Domažlice
END:VEVENT
BEGIN:VEVENT
UID:62333439-3963-4036-b633-306438323333
DTSTAMP:20260425T212449Z
DESCRIPTION:19/76 Karlovarsko B - Domažlice 3:2 (20\,-22\,19\,-20\,9)
DTSTART;TZID=Europe/Berlin:20220205T100000
DTEND;TZID=Europe/Berlin:20220205T120000
LOCATION:Hala Střední pedagogické školy\, Lidická 455 Karlovy Vary - Drahov
 ice
SUMMARY:2-M-A: Karlovarsko B-Domažlice
END:VEVENT
BEGIN:VEVENT
UID:66353862-3637-4730-b738-633932663263
DTSTAMP:20260425T212449Z
DESCRIPTION:20/80 Karlovarsko B - Domažlice 2:3 (18\,-13\,-22\,16\,-9)
DTSTART;TZID=Europe/Berlin:20220205T140000
DTEND;TZID=Europe/Berlin:20220205T160000
LOCATION:Hala Střední pedagogické školy\, Lidická 455 Karlovy Vary - Drahov
 ice
SUMMARY:2-M-A: Karlovarsko B-Domažlice
END:VEVENT
BEGIN:VEVENT
UID:65316361-6263-4437-b638-353863393534
DTSTAMP:20260425T212449Z
DESCRIPTION:23/91 Sokolov - Domažlice 1:3 (-23\,-21\,21\,-20)
DTSTART;TZID=Europe/Berlin:20220226T110000
DTEND;TZID=Europe/Berlin:20220226T130000
LOCATION:Jiskra\, Maxima Gorkého 280 Sokolov
SUMMARY:2-M-A: Sokolov-Domažlice
END:VEVENT
BEGIN:VEVENT
UID:38343230-3434-4863-b966-343736623364
DTSTAMP:20260425T212449Z
DESCRIPTION:24/95 Sokolov - Domažlice 0:3 (-23\,-17\,-21)
DTSTART;TZID=Europe/Berlin:20220226T150000
DTEND;TZID=Europe/Berlin:20220226T170000
LOCATION:Jiskra\, Maxima Gorkého 280 Sokolov
SUMMARY:2-M-A: Sokolov-Domažlice
END:VEVENT
BEGIN:VEVENT
UID:62343230-6432-4265-b934-326635613461
DTSTAMP:20260425T212449Z
DESCRIPTION:27/106 Kladno B - Domažlice 3:1 (20\,-20\,23\,19)
DTSTART;TZID=Europe/Berlin:20220319T100000
DTEND;TZID=Europe/Berlin:20220319T120000
LOCATION:Kladenská sportovní hala\, Sportovců 817 Kladno - Rozdělov
SUMMARY:2-M-A: Kladno B-Domažlice
END:VEVENT
BEGIN:VEVENT
UID:31336362-3865-4666-b439-333031626237
DTSTAMP:20260425T212449Z
DESCRIPTION:28/110 Kladno B - Domažlice 0:3 (-17\,-22\,-16)
DTSTART;TZID=Europe/Berlin:20220319T140000
DTEND;TZID=Europe/Berlin:20220319T160000
LOCATION:Kladenská sportovní hala\, Sportovců 817 Kladno - Rozdělov
SUMMARY:2-M-A: Kladno B-Domažlice
END:VEVENT
BEGIN:VEVENT
UID:36663066-6334-4633-a536-376634383831
DTSTAMP:20260425T212449Z
DESCRIPTION:1/1 Domažlice - Plzeň 0:3 (-34\,-21\,-10)
DTSTART;TZID=Europe/Berlin:20210918T100000
DTEND;TZID=Europe/Berlin:20210918T120000
LOCATION:Sportovní hala ZŠ Komenského Domažlice\, Komenského 17 Domažlice -
  Týnské Předměstí
SUMMARY:CP-M-A: Domažlice-Plzeň
END:VEVENT
BEGIN:VEVENT
UID:34346265-3936-4638-b666-313861623338
DTSTAMP:20260425T212449Z
DESCRIPTION:1/3 Domažlice - Č. Budějovice B 1:3 (13\,-30\,-17\,-16)
DTSTART;TZID=Europe/Berlin:20210918T170000
DTEND;TZID=Europe/Berlin:20210918T190000
LOCATION:Sportovní hala ZŠ Komenského Domažlice\, Komenského 17 Domažlice -
  Týnské Předměstí
SUMMARY:CP-M-A: Domažlice-Č. Budějovice B
END:VEVENT
END:VCALENDAR
