BEGIN:VCALENDAR
VERSION:2.0
PRODID:-//USK Pardubice76178//NONSGML kigkonsult.se iCalcreator 2.41.80//
CALSCALE:GREGORIAN
UID:31656638-6337-4665-b333-323164366436
BEGIN:VEVENT
UID:33353631-3365-4534-b464-363135663765
DTSTAMP:20260425T132953Z
DESCRIPTION:1/4 Pardubice - Střešovice B 1:3 (18\,-16\,-11\,-20)
DTSTART;TZID=Europe/Berlin:20211003T100000
DTEND;TZID=Europe/Berlin:20211003T120000
LOCATION:Sportovní areál Univerzity Pardubice\, Studentská 95 Pardubice - P
 olabiny
SUMMARY:2-Z-B: Pardubice-Střešovice B
END:VEVENT
BEGIN:VEVENT
UID:63343563-6139-4862-b833-633339316332
DTSTAMP:20260425T132953Z
DESCRIPTION:2/8 Pardubice - Střešovice B 0:3 (-19\,-13\,-25)
DTSTART;TZID=Europe/Berlin:20211003T140000
DTEND;TZID=Europe/Berlin:20211003T160000
LOCATION:Sportovní areál Univerzity Pardubice\, Studentská 95 Pardubice - P
 olabiny
SUMMARY:2-Z-B: Pardubice-Střešovice B
END:VEVENT
BEGIN:VEVENT
UID:61316564-3765-4135-b530-326164356635
DTSTAMP:20260425T132953Z
DESCRIPTION:5/19 Pardubice - Děčín 0:3 (-21\,-22\,-19)
DTSTART;TZID=Europe/Berlin:20211023T100000
DTEND;TZID=Europe/Berlin:20211023T120000
LOCATION:Sportovní areál Univerzity Pardubice\, Studentská 95 Pardubice - P
 olabiny
SUMMARY:2-Z-B: Pardubice-Děčín
END:VEVENT
BEGIN:VEVENT
UID:64386332-6562-4461-b938-633034623165
DTSTAMP:20260425T132953Z
DESCRIPTION:6/23 Pardubice - Děčín 2:3 (-20\,-9\,16\,16\,-8)
DTSTART;TZID=Europe/Berlin:20211023T140000
DTEND;TZID=Europe/Berlin:20211023T160000
LOCATION:Sportovní areál Univerzity Pardubice\, Studentská 95 Pardubice - P
 olabiny
SUMMARY:2-Z-B: Pardubice-Děčín
END:VEVENT
BEGIN:VEVENT
UID:32613863-3263-4130-b264-376664356139
DTSTAMP:20260425T132953Z
DESCRIPTION:9/34 Pardubice - Chabařovice 1:3 (-16\,20\,-11\,-13)
DTSTART;TZID=Europe/Berlin:20211120T100000
DTEND;TZID=Europe/Berlin:20211120T120000
LOCATION:Sportovní areál Univerzity Pardubice\, Studentská 95 Pardubice - P
 olabiny
SUMMARY:2-Z-B: Pardubice-Chabařovice
END:VEVENT
BEGIN:VEVENT
UID:33343238-3838-4939-a566-326633353335
DTSTAMP:20260425T132953Z
DESCRIPTION:10/38 Pardubice - Chabařovice 0:3 (-19\,-20\,-21)
DTSTART;TZID=Europe/Berlin:20211120T140000
DTEND;TZID=Europe/Berlin:20211120T160000
LOCATION:Sportovní areál Univerzity Pardubice\, Studentská 95 Pardubice - P
 olabiny
SUMMARY:2-Z-B: Pardubice-Chabařovice
END:VEVENT
BEGIN:VEVENT
UID:34376531-3133-4361-b539-386138333266
DTSTAMP:20260425T132953Z
DESCRIPTION:11/44 Pardubice - Mn. Hradiště 0:3 (-18\,-19\,-16)
DTSTART;TZID=Europe/Berlin:20220129T090000
DTEND;TZID=Europe/Berlin:20220129T110000
LOCATION:Sportovní areál Univerzity Pardubice\, Studentská 95 Pardubice - P
 olabiny
SUMMARY:2-Z-B: Pardubice-Mn. Hradiště
END:VEVENT
BEGIN:VEVENT
UID:31356162-6361-4135-a535-636262363665
DTSTAMP:20260425T132953Z
DESCRIPTION:12/48 Pardubice - Mn. Hradiště 0:3 (-21\,-9\,-19)
DTSTART;TZID=Europe/Berlin:20220129T130000
DTEND;TZID=Europe/Berlin:20220129T150000
LOCATION:Sportovní areál Univerzity Pardubice\, Studentská 95 Pardubice - P
 olabiny
SUMMARY:2-Z-B: Pardubice-Mn. Hradiště
END:VEVENT
BEGIN:VEVENT
UID:30313931-3565-4139-b833-666638343738
DTSTAMP:20260425T132953Z
DESCRIPTION:13/49 Pardubice - Suchdol 0:3 (-18\,-17\,-19)
DTSTART;TZID=Europe/Berlin:20220312T100000
DTEND;TZID=Europe/Berlin:20220312T120000
LOCATION:Sportovní areál Univerzity Pardubice\, Studentská 95 Pardubice - P
 olabiny
SUMMARY:2-Z-B: Pardubice-Suchdol
END:VEVENT
BEGIN:VEVENT
UID:32663139-6534-4537-b662-346561653262
DTSTAMP:20260425T132953Z
DESCRIPTION:14/53 Pardubice - Suchdol 0:3 (-23\,-22\,-10)
DTSTART;TZID=Europe/Berlin:20220312T140000
DTEND;TZID=Europe/Berlin:20220312T160000
LOCATION:Sportovní areál Univerzity Pardubice\, Studentská 95 Pardubice - P
 olabiny
SUMMARY:2-Z-B: Pardubice-Suchdol
END:VEVENT
BEGIN:VEVENT
UID:63323433-6231-4838-b437-366466613536
DTSTAMP:20260425T132953Z
DESCRIPTION:17/66 Pardubice - Žižkov B 0:3 (-18\,-23\,-13)
DTSTART;TZID=Europe/Berlin:20220122T100000
DTEND;TZID=Europe/Berlin:20220122T120000
LOCATION:Sportovní areál Univerzity Pardubice\, Studentská 95 Pardubice - P
 olabiny
SUMMARY:2-Z-B: Pardubice-Žižkov B
END:VEVENT
BEGIN:VEVENT
UID:35323631-3366-4464-b962-633234653032
DTSTAMP:20260425T132953Z
DESCRIPTION:18/70 Pardubice - Žižkov B 0:3 (-14\,-15\,-12)
DTSTART;TZID=Europe/Berlin:20220122T140000
DTEND;TZID=Europe/Berlin:20220122T160000
LOCATION:Sportovní areál Univerzity Pardubice\, Studentská 95 Pardubice - P
 olabiny
SUMMARY:2-Z-B: Pardubice-Žižkov B
END:VEVENT
BEGIN:VEVENT
UID:66666236-3736-4261-b362-323138366661
DTSTAMP:20260425T132953Z
DESCRIPTION:21/83 Pardubice - Turnov 2:3 (-20\,19\,-19\,24\,-11)
DTSTART;TZID=Europe/Berlin:20220219T100000
DTEND;TZID=Europe/Berlin:20220219T120000
LOCATION:Sportovní areál Univerzity Pardubice\, Studentská 95 Pardubice - P
 olabiny
SUMMARY:2-Z-B: Pardubice-Turnov
END:VEVENT
BEGIN:VEVENT
UID:32613830-3635-4161-b830-663564646535
DTSTAMP:20260425T132953Z
DESCRIPTION:22/87 Pardubice - Turnov 1:3 (23\,-17\,-20\,-7)
DTSTART;TZID=Europe/Berlin:20220219T140000
DTEND;TZID=Europe/Berlin:20220219T160000
LOCATION:Sportovní areál Univerzity Pardubice\, Studentská 95 Pardubice - P
 olabiny
SUMMARY:2-Z-B: Pardubice-Turnov
END:VEVENT
BEGIN:VEVENT
UID:33343130-3134-4165-a261-636439643036
DTSTAMP:20260425T132953Z
DESCRIPTION:3/10 Žižkov B - Pardubice 3:1 (21\,-17\,11\,20)
DTSTART;TZID=Europe/Berlin:20211016T093000
DTEND;TZID=Europe/Berlin:20211016T113000
LOCATION:TJ Sokol Žižkov I.\, Hartigova 929 Praha - Žižkov
SUMMARY:2-Z-B: Žižkov B-Pardubice
END:VEVENT
BEGIN:VEVENT
UID:36666364-3166-4738-b330-323134623761
DTSTAMP:20260425T132953Z
DESCRIPTION:4/14 Žižkov B - Pardubice 3:1 (15\,-20\,21\,22)
DTSTART;TZID=Europe/Berlin:20211016T140000
DTEND;TZID=Europe/Berlin:20211016T160000
LOCATION:TJ Sokol Žižkov I.\, Hartigova 929 Praha - Žižkov
SUMMARY:2-Z-B: Žižkov B-Pardubice
END:VEVENT
BEGIN:VEVENT
UID:63303166-3731-4334-b265-323139316533
DTSTAMP:20260425T132953Z
DESCRIPTION:7/27 Turnov - Pardubice 3:0 (20\,22\,17)
DTSTART;TZID=Europe/Berlin:20211106T090000
DTEND;TZID=Europe/Berlin:20211106T110000
LOCATION:TJ Turnov\, Skálova 207 Turnov
SUMMARY:2-Z-B: Turnov-Pardubice
END:VEVENT
BEGIN:VEVENT
UID:32366434-6133-4461-b936-636537663164
DTSTAMP:20260425T132953Z
DESCRIPTION:8/31 Turnov - Pardubice 3:0 (15\,16\,12)
DTSTART;TZID=Europe/Berlin:20211106T130000
DTEND;TZID=Europe/Berlin:20211106T150000
LOCATION:TJ Turnov\, Skálova 207 Turnov
SUMMARY:2-Z-B: Turnov-Pardubice
END:VEVENT
BEGIN:VEVENT
UID:65623962-6264-4834-b136-613061666437
DTSTAMP:20260425T132953Z
DESCRIPTION:15/60 Střešovice B - Pardubice 3:0 (17\,16\,10)
DTSTART;TZID=Europe/Berlin:20220115T100000
DTEND;TZID=Europe/Berlin:20220115T120000
LOCATION:TJ Tatran Střešovice\, Sibeliova 368 Praha - Střešovice
SUMMARY:2-Z-B: Střešovice B-Pardubice
END:VEVENT
BEGIN:VEVENT
UID:38636165-3131-4561-b832-653239316530
DTSTAMP:20260425T132953Z
DESCRIPTION:16/64 Střešovice B - Pardubice 3:1 (14\,-25\,16\,18)
DTSTART;TZID=Europe/Berlin:20220115T140000
DTEND;TZID=Europe/Berlin:20220115T160000
LOCATION:TJ Tatran Střešovice\, Sibeliova 368 Praha - Střešovice
SUMMARY:2-Z-B: Střešovice B-Pardubice
END:VEVENT
BEGIN:VEVENT
UID:34613866-3366-4435-b839-653832623964
DTSTAMP:20260425T132953Z
DESCRIPTION:19/75 Děčín - Pardubice 3:0 (20\,12\,19)
DTSTART;TZID=Europe/Berlin:20220205T100000
DTEND;TZID=Europe/Berlin:20220205T120000
LOCATION:Tělocvična OA Rumburk\, Komenského 927 Rumburk - Rumburk 1
SUMMARY:2-Z-B: Děčín-Pardubice
END:VEVENT
BEGIN:VEVENT
UID:32343434-3630-4137-a235-333838313734
DTSTAMP:20260425T132953Z
DESCRIPTION:20/79 Děčín - Pardubice 3:1 (-19\,16\,23\,21)
DTSTART;TZID=Europe/Berlin:20220205T140000
DTEND;TZID=Europe/Berlin:20220205T160000
LOCATION:Tělocvična OA Rumburk\, Komenského 927 Rumburk - Rumburk 1
SUMMARY:2-Z-B: Děčín-Pardubice
END:VEVENT
BEGIN:VEVENT
UID:66336439-3930-4762-a266-633332393062
DTSTAMP:20260425T132953Z
DESCRIPTION:23/90 Chabařovice - Pardubice 3:0 (19\,21\,18)
DTSTART;TZID=Europe/Berlin:20220226T100000
DTEND;TZID=Europe/Berlin:20220226T120000
LOCATION:Sportovní hala Chabařovice\, V Aleji 400 Chabařovice
SUMMARY:2-Z-B: Chabařovice-Pardubice
END:VEVENT
BEGIN:VEVENT
UID:30643161-3030-4839-a463-343837656662
DTSTAMP:20260425T132953Z
DESCRIPTION:24/94 Chabařovice - Pardubice 3:1 (-23\,20\,8\,20)
DTSTART;TZID=Europe/Berlin:20220226T140000
DTEND;TZID=Europe/Berlin:20220226T160000
LOCATION:Sportovní hala Chabařovice\, V Aleji 400 Chabařovice
SUMMARY:2-Z-B: Chabařovice-Pardubice
END:VEVENT
BEGIN:VEVENT
UID:33613761-3035-4864-b532-346365376161
DTSTAMP:20260425T132953Z
DESCRIPTION:25/100 Mn. Hradiště - Pardubice 3:0 (12\,19\,7)
DTSTART;TZID=Europe/Berlin:20220305T090000
DTEND;TZID=Europe/Berlin:20220305T110000
LOCATION:Sportovní hala BIOS\, Sokolovská 254 Mnichovo Hradiště
SUMMARY:2-Z-B: Mn. Hradiště-Pardubice
END:VEVENT
BEGIN:VEVENT
UID:62396464-3132-4432-b262-376336316164
DTSTAMP:20260425T132953Z
DESCRIPTION:26/104 Mn. Hradiště - Pardubice 3:0 (23\,8\,15)
DTSTART;TZID=Europe/Berlin:20220305T130000
DTEND;TZID=Europe/Berlin:20220305T150000
LOCATION:Sportovní hala BIOS\, Sokolovská 254 Mnichovo Hradiště
SUMMARY:2-Z-B: Mn. Hradiště-Pardubice
END:VEVENT
BEGIN:VEVENT
UID:37313439-3534-4634-b732-636131346632
DTSTAMP:20260425T132953Z
DESCRIPTION:27/105 Suchdol - Pardubice 3:0 (24\,18\,14)
DTSTART;TZID=Europe/Berlin:20220319T100000
DTEND;TZID=Europe/Berlin:20220319T120000
LOCATION:Hala OA Kolín\, Kutnohorská 41 Kolín - Kolín I
SUMMARY:2-Z-B: Suchdol-Pardubice
END:VEVENT
BEGIN:VEVENT
UID:38613834-3739-4365-b862-613164393836
DTSTAMP:20260425T132953Z
DESCRIPTION:28/109 Suchdol - Pardubice 3:1 (18\,14\,-11\,22)
DTSTART;TZID=Europe/Berlin:20220319T140000
DTEND;TZID=Europe/Berlin:20220319T160000
LOCATION:Hala OA Kolín\, Kutnohorská 41 Kolín - Kolín I
SUMMARY:2-Z-B: Suchdol-Pardubice
END:VEVENT
END:VCALENDAR
