BEGIN:VCALENDAR
VERSION:2.0
PRODID:-//TJ Svitavy76183//NONSGML kigkonsult.se iCalcreator 2.41.80//
CALSCALE:GREGORIAN
UID:66353238-6231-4030-b266-323337323964
BEGIN:VEVENT
UID:62633466-3332-4632-b062-393435323536
DTSTAMP:20260423T035402Z
DESCRIPTION:1/2 Svitavy - VK Brno B 1:3 (23\,-17\,-27\,-17)
DTSTART;TZID=Europe/Berlin:20211002T100000
DTEND;TZID=Europe/Berlin:20211002T120000
LOCATION:Sportovní hala Na Střelnici\, Pražská 2162 Svitavy - Předměstí
SUMMARY:2-Z-C: Svitavy-VK Brno B
END:VEVENT
BEGIN:VEVENT
UID:63666439-3063-4963-a437-373037336334
DTSTAMP:20260423T035402Z
DESCRIPTION:2/6 Svitavy - VK Brno B 3:2 (-9\,14\,9\,-19\,12)
DTSTART;TZID=Europe/Berlin:20211002T140000
DTEND;TZID=Europe/Berlin:20211002T160000
LOCATION:Sportovní hala Na Střelnici\, Pražská 2162 Svitavy - Předměstí
SUMMARY:2-Z-C: Svitavy-VK Brno B
END:VEVENT
BEGIN:VEVENT
UID:34313462-3337-4533-b432-316364313737
DTSTAMP:20260423T035402Z
DESCRIPTION:5/17 Svitavy - VK Prostějov B 0:3 (-19\,-18\,-22)
DTSTART;TZID=Europe/Berlin:20211023T100000
DTEND;TZID=Europe/Berlin:20211023T120000
LOCATION:Sportovní hala Na Střelnici\, Pražská 2162 Svitavy - Předměstí
SUMMARY:2-Z-C: Svitavy-VK Prostějov B
END:VEVENT
BEGIN:VEVENT
UID:38323463-6137-4230-a165-653463303837
DTSTAMP:20260423T035402Z
DESCRIPTION:6/21 Svitavy - VK Prostějov B 3:0 (15\,22\,20)
DTSTART;TZID=Europe/Berlin:20211023T140000
DTEND;TZID=Europe/Berlin:20211023T160000
LOCATION:Sportovní hala Na Střelnici\, Pražská 2162 Svitavy - Předměstí
SUMMARY:2-Z-C: Svitavy-VK Prostějov B
END:VEVENT
BEGIN:VEVENT
UID:35623334-6630-4638-b630-303931323531
DTSTAMP:20260423T035402Z
DESCRIPTION:7/28 Svitavy - Šlapanice 1:3 (25\,-21\,-17\,-19)
DTSTART;TZID=Europe/Berlin:20211107T110000
DTEND;TZID=Europe/Berlin:20211107T130000
LOCATION:Sportovní hala Na Střelnici\, Pražská 2162 Svitavy - Předměstí
SUMMARY:2-Z-C: Svitavy-Šlapanice
END:VEVENT
BEGIN:VEVENT
UID:35623731-3339-4533-b537-626537353339
DTSTAMP:20260423T035402Z
DESCRIPTION:8/32 Svitavy - Šlapanice 3:1 (20\,20\,-22\,21)
DTSTART;TZID=Europe/Berlin:20211107T150000
DTEND;TZID=Europe/Berlin:20211107T170000
LOCATION:Sportovní hala Na Střelnici\, Pražská 2162 Svitavy - Předměstí
SUMMARY:2-Z-C: Svitavy-Šlapanice
END:VEVENT
BEGIN:VEVENT
UID:65386661-3436-4561-b364-393237346231
DTSTAMP:20260423T035402Z
DESCRIPTION:11/43 Svitavy - Brno-Juliánov 3:1 (15\,-20\,23\,21)
DTSTART;TZID=Europe/Berlin:20211127T100000
DTEND;TZID=Europe/Berlin:20211127T120000
LOCATION:Sportovní hala Na Střelnici\, Pražská 2162 Svitavy - Předměstí
SUMMARY:2-Z-C: Svitavy-Brno-Juliánov
END:VEVENT
BEGIN:VEVENT
UID:33323334-3964-4638-a639-616339323363
DTSTAMP:20260423T035402Z
DESCRIPTION:12/47 Svitavy - Brno-Juliánov 3:0 (14\,12\,10)
DTSTART;TZID=Europe/Berlin:20211127T140000
DTEND;TZID=Europe/Berlin:20211127T160000
LOCATION:Sportovní hala Na Střelnici\, Pražská 2162 Svitavy - Předměstí
SUMMARY:2-Z-C: Svitavy-Brno-Juliánov
END:VEVENT
BEGIN:VEVENT
UID:66366630-3361-4836-b939-643066353333
DTSTAMP:20260423T035402Z
DESCRIPTION:17/68 Svitavy - Kroměříž 3:0 (9\,21\,18)
DTSTART;TZID=Europe/Berlin:20220123T100000
DTEND;TZID=Europe/Berlin:20220123T120000
LOCATION:Sportovní hala Na Střelnici\, Pražská 2162 Svitavy - Předměstí
SUMMARY:2-Z-C: Svitavy-Kroměříž
END:VEVENT
BEGIN:VEVENT
UID:31306134-3131-4232-b830-356264363266
DTSTAMP:20260423T035402Z
DESCRIPTION:18/72 Svitavy - Kroměříž 3:0 (20\,17\,26)
DTSTART;TZID=Europe/Berlin:20220123T140000
DTEND;TZID=Europe/Berlin:20220123T160000
LOCATION:Sportovní hala Na Střelnici\, Pražská 2162 Svitavy - Předměstí
SUMMARY:2-Z-C: Svitavy-Kroměříž
END:VEVENT
BEGIN:VEVENT
UID:64356633-3135-4630-b937-633862633666
DTSTAMP:20260423T035402Z
DESCRIPTION:23/90 Svitavy - Č. Třebová 1:3 (-15\,18\,-18\,-24)
DTSTART;TZID=Europe/Berlin:20220226T100000
DTEND;TZID=Europe/Berlin:20220226T120000
LOCATION:Sportovní hala Na Střelnici\, Pražská 2162 Svitavy - Předměstí
SUMMARY:2-Z-C: Svitavy-Č. Třebová
END:VEVENT
BEGIN:VEVENT
UID:37313263-3762-4636-a133-643461656339
DTSTAMP:20260423T035402Z
DESCRIPTION:24/94 Svitavy - Č. Třebová 3:2 (12\,13\,-19\,-11\,8)
DTSTART;TZID=Europe/Berlin:20220226T140000
DTEND;TZID=Europe/Berlin:20220226T160000
LOCATION:Sportovní hala Na Střelnici\, Pražská 2162 Svitavy - Předměstí
SUMMARY:2-Z-C: Svitavy-Č. Třebová
END:VEVENT
BEGIN:VEVENT
UID:63653132-3366-4036-a537-643731333939
DTSTAMP:20260423T035402Z
DESCRIPTION:27/107 Svitavy - OP Prostějov 3:0 (17\,18\,13)
DTSTART;TZID=Europe/Berlin:20220319T100000
DTEND;TZID=Europe/Berlin:20220319T120000
LOCATION:Sportovní hala Na Střelnici\, Pražská 2162 Svitavy - Předměstí
SUMMARY:2-Z-C: Svitavy-OP Prostějov
END:VEVENT
BEGIN:VEVENT
UID:63366238-3933-4365-a631-323366376334
DTSTAMP:20260423T035402Z
DESCRIPTION:28/111 Svitavy - OP Prostějov 3:1 (-24\,21\,7\,14)
DTSTART;TZID=Europe/Berlin:20220319T140000
DTEND;TZID=Europe/Berlin:20220319T160000
LOCATION:Sportovní hala Na Střelnici\, Pražská 2162 Svitavy - Předměstí
SUMMARY:2-Z-C: Svitavy-OP Prostějov
END:VEVENT
BEGIN:VEVENT
UID:66646630-6131-4566-a335-393330356132
DTSTAMP:20260423T035402Z
DESCRIPTION:3/12 Kroměříž - Svitavy 2:3 (-22\,-23\,22\,22\,-9)
DTSTART;TZID=Europe/Berlin:20211016T100000
DTEND;TZID=Europe/Berlin:20211016T120000
LOCATION:ZŠ Slovan\, Zeyerova 3354 Kroměříž
SUMMARY:2-Z-C: Kroměříž-Svitavy
END:VEVENT
BEGIN:VEVENT
UID:62613461-6233-4565-b530-623434386261
DTSTAMP:20260423T035402Z
DESCRIPTION:4/16 Kroměříž - Svitavy 1:3 (-16\,-14\,19\,-14)
DTSTART;TZID=Europe/Berlin:20211016T140000
DTEND;TZID=Europe/Berlin:20211016T160000
LOCATION:ZŠ Slovan\, Zeyerova 3354 Kroměříž
SUMMARY:2-Z-C: Kroměříž-Svitavy
END:VEVENT
BEGIN:VEVENT
UID:65643265-3263-4932-b135-353232303761
DTSTAMP:20260423T035402Z
DESCRIPTION:9/34 Č. Třebová - Svitavy 3:0 (23\,23\,14)
DTSTART;TZID=Europe/Berlin:20211120T090000
DTEND;TZID=Europe/Berlin:20211120T110000
LOCATION:Základní škola Česká Třebová Habrmanova\, Na Skále\, Na Skále 566 
 Česká Třebová
SUMMARY:2-Z-C: Č. Třebová-Svitavy
END:VEVENT
BEGIN:VEVENT
UID:39393437-6164-4739-b139-666561393265
DTSTAMP:20260423T035402Z
DESCRIPTION:10/38 Č. Třebová - Svitavy 3:2 (-24\,9\,-22\,22\,12)
DTSTART;TZID=Europe/Berlin:20211120T130000
DTEND;TZID=Europe/Berlin:20211120T150000
LOCATION:Základní škola Česká Třebová Habrmanova\, Na Skále\, Na Skále 566 
 Česká Třebová
SUMMARY:2-Z-C: Č. Třebová-Svitavy
END:VEVENT
BEGIN:VEVENT
UID:64323138-6135-4439-a532-303262343132
DTSTAMP:20260423T035402Z
DESCRIPTION:13/51 OP Prostějov - Svitavy 2:3 (-17\,18\,-17\,21\,-4)
DTSTART;TZID=Europe/Berlin:20211204T100000
DTEND;TZID=Europe/Berlin:20211204T120000
LOCATION:Letní hala u zimního stadionu\, Kostelecká 3113 Prostějov
SUMMARY:2-Z-C: OP Prostějov-Svitavy
END:VEVENT
BEGIN:VEVENT
UID:65313632-3436-4135-b664-623161323365
DTSTAMP:20260423T035402Z
DESCRIPTION:14/55 OP Prostějov - Svitavy 0:3 (-25\,-14\,-20)
DTSTART;TZID=Europe/Berlin:20211204T140000
DTEND;TZID=Europe/Berlin:20211204T160000
LOCATION:Letní hala u zimního stadionu\, Kostelecká 3113 Prostějov
SUMMARY:2-Z-C: OP Prostějov-Svitavy
END:VEVENT
BEGIN:VEVENT
UID:66343037-3464-4161-b862-666363656661
DTSTAMP:20260423T035402Z
DESCRIPTION:15/58 VK Brno B - Svitavy 1:3 (-19\,-14\,16\,-19)
DTSTART;TZID=Europe/Berlin:20220115T090000
DTEND;TZID=Europe/Berlin:20220115T110000
LOCATION:Campus Brno - Hala míčových sportů - Fakulta Sportovní MUNI\, Kame
 nice 753 Brno - Bohunice
SUMMARY:2-Z-C: VK Brno B-Svitavy
END:VEVENT
BEGIN:VEVENT
UID:36313936-3066-4465-a230-366435303363
DTSTAMP:20260423T035402Z
DESCRIPTION:16/62 VK Brno B - Svitavy 2:3 (15\,-21\,19\,-10\,-14)
DTSTART;TZID=Europe/Berlin:20220115T130000
DTEND;TZID=Europe/Berlin:20220115T150000
LOCATION:Campus Brno - Hala míčových sportů - Fakulta Sportovní MUNI\, Kame
 nice 753 Brno - Bohunice
SUMMARY:2-Z-C: VK Brno B-Svitavy
END:VEVENT
BEGIN:VEVENT
UID:66633633-3935-4166-b130-616561636235
DTSTAMP:20260423T035402Z
DESCRIPTION:19/73 VK Prostějov B - Svitavy 2:3 (13\,-14\,-19\,14\,-13)
DTSTART;TZID=Europe/Berlin:20220205T100000
DTEND;TZID=Europe/Berlin:20220205T120000
LOCATION:Národní sportovní centrum\, Za velodromem 4187 Prostějov
SUMMARY:2-Z-C: VK Prostějov B-Svitavy
END:VEVENT
BEGIN:VEVENT
UID:36623032-3836-4035-b263-336263626235
DTSTAMP:20260423T035402Z
DESCRIPTION:20/77 VK Prostějov B - Svitavy 1:3 (-24\,-22\,19\,-21)
DTSTART;TZID=Europe/Berlin:20220205T140000
DTEND;TZID=Europe/Berlin:20220205T160000
LOCATION:Národní sportovní centrum\, Za velodromem 4187 Prostějov
SUMMARY:2-Z-C: VK Prostějov B-Svitavy
END:VEVENT
BEGIN:VEVENT
UID:30323030-3062-4261-a463-623633663634
DTSTAMP:20260423T035402Z
DESCRIPTION:21/84 Šlapanice - Svitavy 3:1 (21\,20\,-26\,22)
DTSTART;TZID=Europe/Berlin:20220219T090000
DTEND;TZID=Europe/Berlin:20220219T110000
LOCATION:Hala TJ Sokol Šlapanice\, Smetanova 1662 Šlapanice
SUMMARY:2-Z-C: Šlapanice-Svitavy
END:VEVENT
BEGIN:VEVENT
UID:31396164-6232-4665-b064-613264323531
DTSTAMP:20260423T035402Z
DESCRIPTION:22/88 Šlapanice - Svitavy 1:3 (-19\,-17\,18\,-13)
DTSTART;TZID=Europe/Berlin:20220219T130000
DTEND;TZID=Europe/Berlin:20220219T150000
LOCATION:Hala TJ Sokol Šlapanice\, Smetanova 1662 Šlapanice
SUMMARY:2-Z-C: Šlapanice-Svitavy
END:VEVENT
BEGIN:VEVENT
UID:35313137-3634-4132-a564-396330666364
DTSTAMP:20260423T035402Z
DESCRIPTION:25/99 Brno-Juliánov - Svitavy 3:0 (21\,20\,19)
DTSTART;TZID=Europe/Berlin:20220305T100000
DTEND;TZID=Europe/Berlin:20220305T120000
LOCATION:Sokol Brno - Juliánov\, Slatinská 2831 Brno - Židenice
SUMMARY:2-Z-C: Brno-Juliánov-Svitavy
END:VEVENT
BEGIN:VEVENT
UID:32373562-3066-4433-b363-366662343838
DTSTAMP:20260423T035402Z
DESCRIPTION:26/103 Brno-Juliánov - Svitavy 3:1 (25\,22\,-9\,16)
DTSTART;TZID=Europe/Berlin:20220305T140000
DTEND;TZID=Europe/Berlin:20220305T160000
LOCATION:Sokol Brno - Juliánov\, Slatinská 2831 Brno - Židenice
SUMMARY:2-Z-C: Brno-Juliánov-Svitavy
END:VEVENT
END:VCALENDAR
