BEGIN:VCALENDAR
VERSION:2.0
PRODID:-//TJ Sokol Mnichovo Hradiště76184//NONSGML kigkonsult.se iCalcreator 2.41.80//
CALSCALE:GREGORIAN
UID:63353037-6362-4537-b931-363064306663
BEGIN:VEVENT
UID:34636234-6536-4337-b031-646364643036
DTSTAMP:20260425T214615Z
DESCRIPTION:1/3 Mn. Hradiště - Žižkov B 3:1 (18\,-17\,14\,21)
DTSTART;TZID=Europe/Berlin:20211002T090000
DTEND;TZID=Europe/Berlin:20211002T110000
LOCATION:Sportovní hala BIOS\, Sokolovská 254 Mnichovo Hradiště
SUMMARY:2-Z-B: Mn. Hradiště-Žižkov B
END:VEVENT
BEGIN:VEVENT
UID:38336538-6337-4464-b163-366236663838
DTSTAMP:20260425T214615Z
DESCRIPTION:2/7 Mn. Hradiště - Žižkov B 3:1 (-23\,19\,20\,20)
DTSTART;TZID=Europe/Berlin:20211002T130000
DTEND;TZID=Europe/Berlin:20211002T150000
LOCATION:Sportovní hala BIOS\, Sokolovská 254 Mnichovo Hradiště
SUMMARY:2-Z-B: Mn. Hradiště-Žižkov B
END:VEVENT
BEGIN:VEVENT
UID:65663935-6637-4438-b932-323664306662
DTSTAMP:20260425T214615Z
DESCRIPTION:5/18 Mn. Hradiště - Turnov 3:0 (19\,15\,20)
DTSTART;TZID=Europe/Berlin:20211030T100000
DTEND;TZID=Europe/Berlin:20211030T120000
LOCATION:Sportovní hala BIOS\, Sokolovská 254 Mnichovo Hradiště
SUMMARY:2-Z-B: Mn. Hradiště-Turnov
END:VEVENT
BEGIN:VEVENT
UID:37666566-3431-4538-b331-386265316264
DTSTAMP:20260425T214615Z
DESCRIPTION:6/22 Mn. Hradiště - Turnov 3:0 (17\,26\,16)
DTSTART;TZID=Europe/Berlin:20211030T130000
DTEND;TZID=Europe/Berlin:20211030T150000
LOCATION:Sportovní hala BIOS\, Sokolovská 254 Mnichovo Hradiště
SUMMARY:2-Z-B: Mn. Hradiště-Turnov
END:VEVENT
BEGIN:VEVENT
UID:30653634-3663-4138-b537-633263303037
DTSTAMP:20260425T214615Z
DESCRIPTION:9/33 Mn. Hradiště - Suchdol 3:0 (15\,18\,15)
DTSTART;TZID=Europe/Berlin:20211120T090000
DTEND;TZID=Europe/Berlin:20211120T110000
LOCATION:Sportovní hala BIOS\, Sokolovská 254 Mnichovo Hradiště
SUMMARY:2-Z-B: Mn. Hradiště-Suchdol
END:VEVENT
BEGIN:VEVENT
UID:37303865-3865-4164-b962-666433383862
DTSTAMP:20260425T214615Z
DESCRIPTION:10/37 Mn. Hradiště - Suchdol 3:1 (22\,23\,-22\,18)
DTSTART;TZID=Europe/Berlin:20211120T130000
DTEND;TZID=Europe/Berlin:20211120T150000
LOCATION:Sportovní hala BIOS\, Sokolovská 254 Mnichovo Hradiště
SUMMARY:2-Z-B: Mn. Hradiště-Suchdol
END:VEVENT
BEGIN:VEVENT
UID:64636664-3062-4539-b163-633437333662
DTSTAMP:20260425T214615Z
DESCRIPTION:17/67 Mn. Hradiště - Děčín 2:3 (-20\,-16\,16\,15\,-9)
DTSTART;TZID=Europe/Berlin:20220122T110000
DTEND;TZID=Europe/Berlin:20220122T130000
LOCATION:Sportovní hala BIOS\, Sokolovská 254 Mnichovo Hradiště
SUMMARY:2-Z-B: Mn. Hradiště-Děčín
END:VEVENT
BEGIN:VEVENT
UID:62623235-3331-4833-b332-386664636234
DTSTAMP:20260425T214615Z
DESCRIPTION:18/71 Mn. Hradiště - Děčín 3:1 (24\,-15\,14\,22)
DTSTART;TZID=Europe/Berlin:20220122T150000
DTEND;TZID=Europe/Berlin:20220122T170000
LOCATION:Sportovní hala BIOS\, Sokolovská 254 Mnichovo Hradiště
SUMMARY:2-Z-B: Mn. Hradiště-Děčín
END:VEVENT
BEGIN:VEVENT
UID:63313866-3637-4366-a133-613461613037
DTSTAMP:20260425T214615Z
DESCRIPTION:21/84 Mn. Hradiště - Chabařovice 3:0 (21\,10\,17)
DTSTART;TZID=Europe/Berlin:20220219T090000
DTEND;TZID=Europe/Berlin:20220219T110000
LOCATION:Sportovní hala BIOS\, Sokolovská 254 Mnichovo Hradiště
SUMMARY:2-Z-B: Mn. Hradiště-Chabařovice
END:VEVENT
BEGIN:VEVENT
UID:62373835-6239-4463-a131-623036636335
DTSTAMP:20260425T214615Z
DESCRIPTION:22/88 Mn. Hradiště - Chabařovice 2:3 (-21\,-28\,17\,15\,-11)
DTSTART;TZID=Europe/Berlin:20220219T130000
DTEND;TZID=Europe/Berlin:20220219T150000
LOCATION:Sportovní hala BIOS\, Sokolovská 254 Mnichovo Hradiště
SUMMARY:2-Z-B: Mn. Hradiště-Chabařovice
END:VEVENT
BEGIN:VEVENT
UID:33333830-3133-4537-a132-386662333030
DTSTAMP:20260425T214615Z
DESCRIPTION:25/100 Mn. Hradiště - Pardubice 3:0 (12\,19\,7)
DTSTART;TZID=Europe/Berlin:20220305T090000
DTEND;TZID=Europe/Berlin:20220305T110000
LOCATION:Sportovní hala BIOS\, Sokolovská 254 Mnichovo Hradiště
SUMMARY:2-Z-B: Mn. Hradiště-Pardubice
END:VEVENT
BEGIN:VEVENT
UID:61643330-3132-4665-b733-333437383966
DTSTAMP:20260425T214615Z
DESCRIPTION:26/104 Mn. Hradiště - Pardubice 3:0 (23\,8\,15)
DTSTART;TZID=Europe/Berlin:20220305T130000
DTEND;TZID=Europe/Berlin:20220305T150000
LOCATION:Sportovní hala BIOS\, Sokolovská 254 Mnichovo Hradiště
SUMMARY:2-Z-B: Mn. Hradiště-Pardubice
END:VEVENT
BEGIN:VEVENT
UID:34323830-3861-4361-a466-623433353163
DTSTAMP:20260425T214615Z
DESCRIPTION:27/106 Mn. Hradiště - Střešovice B 1:3 (21\,-16\,-18\,-17)
DTSTART;TZID=Europe/Berlin:20220319T090000
DTEND;TZID=Europe/Berlin:20220319T110000
LOCATION:Sportovní hala BIOS\, Sokolovská 254 Mnichovo Hradiště
SUMMARY:2-Z-B: Mn. Hradiště-Střešovice B
END:VEVENT
BEGIN:VEVENT
UID:33343137-3237-4161-a131-303861363165
DTSTAMP:20260425T214615Z
DESCRIPTION:28/110 Mn. Hradiště - Střešovice B 0:3 (-17\,-22\,-12)
DTSTART;TZID=Europe/Berlin:20220319T130000
DTEND;TZID=Europe/Berlin:20220319T150000
LOCATION:Sportovní hala BIOS\, Sokolovská 254 Mnichovo Hradiště
SUMMARY:2-Z-B: Mn. Hradiště-Střešovice B
END:VEVENT
BEGIN:VEVENT
UID:63343734-3063-4265-b435-343739343165
DTSTAMP:20260425T214615Z
DESCRIPTION:3/11 Děčín - Mn. Hradiště 1:3 (-19\,24\,-20\,-20)
DTSTART;TZID=Europe/Berlin:20211016T100000
DTEND;TZID=Europe/Berlin:20211016T120000
LOCATION:Tělocvična OA Rumburk\, Komenského 927 Rumburk - Rumburk 1
SUMMARY:2-Z-B: Děčín-Mn. Hradiště
END:VEVENT
BEGIN:VEVENT
UID:66333633-3562-4662-b363-646438343239
DTSTAMP:20260425T214615Z
DESCRIPTION:4/15 Děčín - Mn. Hradiště 3:0 (19\,17\,15)
DTSTART;TZID=Europe/Berlin:20211016T140000
DTEND;TZID=Europe/Berlin:20211016T160000
LOCATION:Tělocvična OA Rumburk\, Komenského 927 Rumburk - Rumburk 1
SUMMARY:2-Z-B: Děčín-Mn. Hradiště
END:VEVENT
BEGIN:VEVENT
UID:34326632-3236-4733-b061-633637653330
DTSTAMP:20260425T214615Z
DESCRIPTION:7/28 Chabařovice - Mn. Hradiště 3:0 (22\,21\,17)
DTSTART;TZID=Europe/Berlin:20211106T100000
DTEND;TZID=Europe/Berlin:20211106T120000
LOCATION:Sportovní hala Chabařovice\, V Aleji 400 Chabařovice
SUMMARY:2-Z-B: Chabařovice-Mn. Hradiště
END:VEVENT
BEGIN:VEVENT
UID:38343737-6537-4237-b962-376630306639
DTSTAMP:20260425T214615Z
DESCRIPTION:8/32 Chabařovice - Mn. Hradiště 3:0 (13\,17\,27)
DTSTART;TZID=Europe/Berlin:20211106T140000
DTEND;TZID=Europe/Berlin:20211106T160000
LOCATION:Sportovní hala Chabařovice\, V Aleji 400 Chabařovice
SUMMARY:2-Z-B: Chabařovice-Mn. Hradiště
END:VEVENT
BEGIN:VEVENT
UID:30333565-3638-4538-b262-313831633866
DTSTAMP:20260425T214615Z
DESCRIPTION:11/44 Pardubice - Mn. Hradiště 0:3 (-18\,-19\,-16)
DTSTART;TZID=Europe/Berlin:20220129T090000
DTEND;TZID=Europe/Berlin:20220129T110000
LOCATION:Sportovní areál Univerzity Pardubice\, Studentská 95 Pardubice - P
 olabiny
SUMMARY:2-Z-B: Pardubice-Mn. Hradiště
END:VEVENT
BEGIN:VEVENT
UID:37623438-3932-4739-b435-353561656536
DTSTAMP:20260425T214615Z
DESCRIPTION:12/48 Pardubice - Mn. Hradiště 0:3 (-21\,-9\,-19)
DTSTART;TZID=Europe/Berlin:20220129T130000
DTEND;TZID=Europe/Berlin:20220129T150000
LOCATION:Sportovní areál Univerzity Pardubice\, Studentská 95 Pardubice - P
 olabiny
SUMMARY:2-Z-B: Pardubice-Mn. Hradiště
END:VEVENT
BEGIN:VEVENT
UID:63613432-3162-4332-b034-643161333537
DTSTAMP:20260425T214615Z
DESCRIPTION:13/50 Střešovice B - Mn. Hradiště 3:1 (15\,13\,-16\,14)
DTSTART;TZID=Europe/Berlin:20211204T100000
DTEND;TZID=Europe/Berlin:20211204T120000
LOCATION:TJ Tatran Střešovice\, Sibeliova 368 Praha - Střešovice
SUMMARY:2-Z-B: Střešovice B-Mn. Hradiště
END:VEVENT
BEGIN:VEVENT
UID:31333432-3732-4631-b436-316631336635
DTSTAMP:20260425T214615Z
DESCRIPTION:14/54 Střešovice B - Mn. Hradiště 3:1 (20\,15\,-15\,23)
DTSTART;TZID=Europe/Berlin:20211204T140000
DTEND;TZID=Europe/Berlin:20211204T160000
LOCATION:TJ Tatran Střešovice\, Sibeliova 368 Praha - Střešovice
SUMMARY:2-Z-B: Střešovice B-Mn. Hradiště
END:VEVENT
BEGIN:VEVENT
UID:34386461-3834-4231-a631-393166633065
DTSTAMP:20260425T214615Z
DESCRIPTION:15/59 Žižkov B - Mn. Hradiště 2:3 (-10\,23\,21\,-25\,-10)
DTSTART;TZID=Europe/Berlin:20220115T093000
DTEND;TZID=Europe/Berlin:20220115T113000
LOCATION:TJ Sokol Žižkov I.\, Hartigova 929 Praha - Žižkov
SUMMARY:2-Z-B: Žižkov B-Mn. Hradiště
END:VEVENT
BEGIN:VEVENT
UID:32313062-6562-4235-a230-323264366266
DTSTAMP:20260425T214615Z
DESCRIPTION:16/63 Žižkov B - Mn. Hradiště 1:3 (-18\,-18\,21\,-22)
DTSTART;TZID=Europe/Berlin:20220115T140000
DTEND;TZID=Europe/Berlin:20220115T160000
LOCATION:TJ Sokol Žižkov I.\, Hartigova 929 Praha - Žižkov
SUMMARY:2-Z-B: Žižkov B-Mn. Hradiště
END:VEVENT
BEGIN:VEVENT
UID:37386662-3739-4134-a466-343434326632
DTSTAMP:20260425T214615Z
DESCRIPTION:19/74 Turnov - Mn. Hradiště 3:1 (-17\,21\,23\,19)
DTSTART;TZID=Europe/Berlin:20220205T100000
DTEND;TZID=Europe/Berlin:20220205T120000
LOCATION:TJ Turnov\, Skálova 207 Turnov
SUMMARY:2-Z-B: Turnov-Mn. Hradiště
END:VEVENT
BEGIN:VEVENT
UID:37393463-6665-4930-b938-613234383931
DTSTAMP:20260425T214615Z
DESCRIPTION:20/78 Turnov - Mn. Hradiště 1:3 (16\,-16\,-20\,-23)
DTSTART;TZID=Europe/Berlin:20220205T140000
DTEND;TZID=Europe/Berlin:20220205T160000
LOCATION:TJ Turnov\, Skálova 207 Turnov
SUMMARY:2-Z-B: Turnov-Mn. Hradiště
END:VEVENT
BEGIN:VEVENT
UID:64616638-3263-4564-a462-396263656231
DTSTAMP:20260425T214615Z
DESCRIPTION:23/89 Suchdol - Mn. Hradiště 0:3 (-19\,-16\,-19)
DTSTART;TZID=Europe/Berlin:20220226T100000
DTEND;TZID=Europe/Berlin:20220226T120000
LOCATION:Hala OA Kolín\, Kutnohorská 41 Kolín - Kolín I
SUMMARY:2-Z-B: Suchdol-Mn. Hradiště
END:VEVENT
BEGIN:VEVENT
UID:38633935-3634-4462-b737-343031363561
DTSTAMP:20260425T214615Z
DESCRIPTION:24/93 Suchdol - Mn. Hradiště 3:0 (21\,17\,22)
DTSTART;TZID=Europe/Berlin:20220226T140000
DTEND;TZID=Europe/Berlin:20220226T160000
LOCATION:Hala OA Kolín\, Kutnohorská 41 Kolín - Kolín I
SUMMARY:2-Z-B: Suchdol-Mn. Hradiště
END:VEVENT
END:VCALENDAR
