BEGIN:VCALENDAR
VERSION:2.0
PRODID:-//SK Volejbal Klatovy76185//NONSGML kigkonsult.se iCalcreator 2.41.80//
CALSCALE:GREGORIAN
UID:32626462-3233-4665-a135-363230643333
BEGIN:VEVENT
UID:30393135-3865-4738-a133-376132623136
DTSTAMP:20260423T094124Z
DESCRIPTION:1/4 Klatovy - Domažlice 0:3 (-23\,-23\,-20)
DTSTART;TZID=Europe/Berlin:20211113T090000
DTEND;TZID=Europe/Berlin:20211113T110000
LOCATION:Sportovní hala ZŠ Čapkova\, Čapkova 136 Klatovy - Klatovy V
SUMMARY:2-Z-A: Klatovy-Domažlice
END:VEVENT
BEGIN:VEVENT
UID:34653263-3234-4061-a636-323734663834
DTSTAMP:20260423T094124Z
DESCRIPTION:2/8 Klatovy - Domažlice 0:3 (-16\,-12\,-25)
DTSTART;TZID=Europe/Berlin:20211113T130000
DTEND;TZID=Europe/Berlin:20211113T150000
LOCATION:Sportovní hala ZŠ Čapkova\, Čapkova 136 Klatovy - Klatovy V
SUMMARY:2-Z-A: Klatovy-Domažlice
END:VEVENT
BEGIN:VEVENT
UID:33326333-3433-4462-b331-306561663134
DTSTAMP:20260423T094124Z
DESCRIPTION:5/19 Klatovy - ČVUT Praha 0:3 (-19\,-21\,-19)
DTSTART;TZID=Europe/Berlin:20211023T090000
DTEND;TZID=Europe/Berlin:20211023T110000
LOCATION:Sportovní hala ZŠ Čapkova\, Čapkova 136 Klatovy - Klatovy V
SUMMARY:2-Z-A: Klatovy-ČVUT Praha
END:VEVENT
BEGIN:VEVENT
UID:65333531-3862-4436-a138-356431663939
DTSTAMP:20260423T094124Z
DESCRIPTION:6/23 Klatovy - ČVUT Praha 1:3 (-14\,21\,-20\,-11)
DTSTART;TZID=Europe/Berlin:20211023T130000
DTEND;TZID=Europe/Berlin:20211023T150000
LOCATION:Sportovní hala ZŠ Čapkova\, Čapkova 136 Klatovy - Klatovy V
SUMMARY:2-Z-A: Klatovy-ČVUT Praha
END:VEVENT
BEGIN:VEVENT
UID:63396331-3234-4062-b839-313932346265
DTSTAMP:20260423T094124Z
DESCRIPTION:7/27 Klatovy - Kralupy 0:3 (-16\,-24\,-16)
DTSTART;TZID=Europe/Berlin:20211106T100000
DTEND;TZID=Europe/Berlin:20211106T120000
LOCATION:Sportovní hala ZŠ Čapkova\, Čapkova 136 Klatovy - Klatovy V
SUMMARY:2-Z-A: Klatovy-Kralupy
END:VEVENT
BEGIN:VEVENT
UID:33646565-3664-4134-a435-323535623662
DTSTAMP:20260423T094124Z
DESCRIPTION:8/31 Klatovy - Kralupy 2:3 (23\,18\,-23\,-22\,-10)
DTSTART;TZID=Europe/Berlin:20211106T140000
DTEND;TZID=Europe/Berlin:20211106T160000
LOCATION:Sportovní hala ZŠ Čapkova\, Čapkova 136 Klatovy - Klatovy V
SUMMARY:2-Z-A: Klatovy-Kralupy
END:VEVENT
BEGIN:VEVENT
UID:38656462-6662-4136-a130-623363323065
DTSTAMP:20260423T094124Z
DESCRIPTION:9/34 Klatovy - Plzeň B 0:3 (-17\,-20\,-16)
DTSTART;TZID=Europe/Berlin:20211120T100000
DTEND;TZID=Europe/Berlin:20211120T120000
LOCATION:Sportovní hala ZŠ Čapkova\, Čapkova 136 Klatovy - Klatovy V
SUMMARY:2-Z-A: Klatovy-Plzeň B
END:VEVENT
BEGIN:VEVENT
UID:65316463-3163-4662-b962-336338656134
DTSTAMP:20260423T094124Z
DESCRIPTION:10/38 Klatovy - Plzeň B 0:3 (-19\,-24\,-18)
DTSTART;TZID=Europe/Berlin:20211120T140000
DTEND;TZID=Europe/Berlin:20211120T160000
LOCATION:Sportovní hala ZŠ Čapkova\, Čapkova 136 Klatovy - Klatovy V
SUMMARY:2-Z-A: Klatovy-Plzeň B
END:VEVENT
BEGIN:VEVENT
UID:39376438-6631-4531-a336-313530656365
DTSTAMP:20260423T094124Z
DESCRIPTION:13/49 Klatovy - Příbram 3:1 (27\,-20\,12\,23)
DTSTART;TZID=Europe/Berlin:20211204T090000
DTEND;TZID=Europe/Berlin:20211204T110000
LOCATION:Sportovní hala ZŠ Čapkova\, Čapkova 136 Klatovy - Klatovy V
SUMMARY:2-Z-A: Klatovy-Příbram
END:VEVENT
BEGIN:VEVENT
UID:33343164-6433-4931-b237-323761643332
DTSTAMP:20260423T094124Z
DESCRIPTION:14/53 Klatovy - Příbram 1:3 (-20\,27\,-15\,-13)
DTSTART;TZID=Europe/Berlin:20211204T130000
DTEND;TZID=Europe/Berlin:20211204T150000
LOCATION:Sportovní hala ZŠ Čapkova\, Čapkova 136 Klatovy - Klatovy V
SUMMARY:2-Z-A: Klatovy-Příbram
END:VEVENT
BEGIN:VEVENT
UID:35333139-6139-4361-b737-356235366161
DTSTAMP:20260423T094124Z
DESCRIPTION:17/66 Klatovy - Bohemians 0:3 (-12\,-19\,-19)
DTSTART;TZID=Europe/Berlin:20220122T100000
DTEND;TZID=Europe/Berlin:20220122T120000
LOCATION:Sportovní hala ZŠ Čapkova\, Čapkova 136 Klatovy - Klatovy V
SUMMARY:2-Z-A: Klatovy-Bohemians
END:VEVENT
BEGIN:VEVENT
UID:30336365-6435-4566-a266-613932363363
DTSTAMP:20260423T094124Z
DESCRIPTION:18/70 Klatovy - Bohemians 0:3 (-12\,-11\,-23)
DTSTART;TZID=Europe/Berlin:20220122T140000
DTEND;TZID=Europe/Berlin:20220122T160000
LOCATION:Sportovní hala ZŠ Čapkova\, Čapkova 136 Klatovy - Klatovy V
SUMMARY:2-Z-A: Klatovy-Bohemians
END:VEVENT
BEGIN:VEVENT
UID:35613365-6262-4461-b634-316535396662
DTSTAMP:20260423T094124Z
DESCRIPTION:25/100 Klatovy - České Budějovice 0:3 (-19\,-14\,-19)
DTSTART;TZID=Europe/Berlin:20220306T100000
DTEND;TZID=Europe/Berlin:20220306T120000
LOCATION:Sportovní hala ZŠ Čapkova\, Čapkova 136 Klatovy - Klatovy V
SUMMARY:2-Z-A: Klatovy-České Budějovice
END:VEVENT
BEGIN:VEVENT
UID:65343238-6131-4735-a333-363930623432
DTSTAMP:20260423T094124Z
DESCRIPTION:26/104 Klatovy - České Budějovice 0:3 (-20\,-24\,-24)
DTSTART;TZID=Europe/Berlin:20220306T140000
DTEND;TZID=Europe/Berlin:20220306T160000
LOCATION:Sportovní hala ZŠ Čapkova\, Čapkova 136 Klatovy - Klatovy V
SUMMARY:2-Z-A: Klatovy-České Budějovice
END:VEVENT
BEGIN:VEVENT
UID:63316134-6530-4664-b265-326435643565
DTSTAMP:20260423T094124Z
DESCRIPTION:3/10 Bohemians - Klatovy 3:0 (19\,16\,19)
DTSTART;TZID=Europe/Berlin:20211016T100000
DTEND;TZID=Europe/Berlin:20211016T120000
LOCATION:sportovní areál loděnice Podolí\, Modřanská 1107 Praha - Podolí
SUMMARY:2-Z-A: Bohemians-Klatovy
END:VEVENT
BEGIN:VEVENT
UID:35633663-6136-4432-b637-366539303937
DTSTAMP:20260423T094124Z
DESCRIPTION:4/14 Bohemians - Klatovy 3:0 (21\,15\,19)
DTSTART;TZID=Europe/Berlin:20211016T140000
DTEND;TZID=Europe/Berlin:20211016T160000
LOCATION:sportovní areál loděnice Podolí\, Modřanská 1107 Praha - Podolí
SUMMARY:2-Z-A: Bohemians-Klatovy
END:VEVENT
BEGIN:VEVENT
UID:33366662-3730-4363-a566-643237343561
DTSTAMP:20260423T094124Z
DESCRIPTION:11/44 České Budějovice - Klatovy 3:1 (20\,19\,-17\,15)
DTSTART;TZID=Europe/Berlin:20211127T110000
DTEND;TZID=Europe/Berlin:20211127T130000
LOCATION:Sportovní hala Jihočeské univerzity\, Na Sádkách 305 České Budějov
 ice - České Budějovice 2
SUMMARY:2-Z-A: České Budějovice-Klatovy
END:VEVENT
BEGIN:VEVENT
UID:33333430-3137-4362-b138-653231326338
DTSTAMP:20260423T094124Z
DESCRIPTION:12/48 České Budějovice - Klatovy 3:1 (6\,18\,-22\,16)
DTSTART;TZID=Europe/Berlin:20211127T140000
DTEND;TZID=Europe/Berlin:20211127T160000
LOCATION:Sportovní hala Jihočeské univerzity\, Na Sádkách 305 České Budějov
 ice - České Budějovice 2
SUMMARY:2-Z-A: České Budějovice-Klatovy
END:VEVENT
BEGIN:VEVENT
UID:32643862-3236-4662-a234-333162386664
DTSTAMP:20260423T094124Z
DESCRIPTION:15/60 Domažlice - Klatovy 3:0 (17\,18\,17)
DTSTART;TZID=Europe/Berlin:20220115T090000
DTEND;TZID=Europe/Berlin:20220115T110000
LOCATION:Sportovní hala ZŠ Komenského Domažlice\, Komenského 17 Domažlice -
  Týnské Předměstí
SUMMARY:2-Z-A: Domažlice-Klatovy
END:VEVENT
BEGIN:VEVENT
UID:32313963-6335-4038-a639-636539306330
DTSTAMP:20260423T094124Z
DESCRIPTION:16/64 Domažlice - Klatovy 3:1 (27\,18\,-21\,21)
DTSTART;TZID=Europe/Berlin:20220115T130000
DTEND;TZID=Europe/Berlin:20220115T150000
LOCATION:Sportovní hala ZŠ Komenského Domažlice\, Komenského 17 Domažlice -
  Týnské Předměstí
SUMMARY:2-Z-A: Domažlice-Klatovy
END:VEVENT
BEGIN:VEVENT
UID:38643139-3835-4161-a335-343763613137
DTSTAMP:20260423T094124Z
DESCRIPTION:19/75 ČVUT Praha - Klatovy 3:0 (17\,16\,20)
DTSTART;TZID=Europe/Berlin:20220205T100000
DTEND;TZID=Europe/Berlin:20220205T120000
LOCATION:T. J. Sokol Karlín\, Malého 319 Praha - Karlín
SUMMARY:2-Z-A: ČVUT Praha-Klatovy
END:VEVENT
BEGIN:VEVENT
UID:39386639-3139-4331-a137-316537326164
DTSTAMP:20260423T094124Z
DESCRIPTION:20/79 ČVUT Praha - Klatovy 3:1 (-22\,9\,16\,13)
DTSTART;TZID=Europe/Berlin:20220205T140000
DTEND;TZID=Europe/Berlin:20220205T160000
LOCATION:T. J. Sokol Karlín\, Malého 319 Praha - Karlín
SUMMARY:2-Z-A: ČVUT Praha-Klatovy
END:VEVENT
BEGIN:VEVENT
UID:63333165-3132-4565-b630-656436336463
DTSTAMP:20260423T094124Z
DESCRIPTION:21/83 Kralupy - Klatovy 3:1 (21\,-23\,20\,12)
DTSTART;TZID=Europe/Berlin:20220219T100000
DTEND;TZID=Europe/Berlin:20220219T120000
LOCATION:TJ KRALUPY\, z.s.\, Gen. Klapálka 1029 Kralupy nad Vltavou
SUMMARY:2-Z-A: Kralupy-Klatovy
END:VEVENT
BEGIN:VEVENT
UID:65396138-6537-4830-a361-383135633664
DTSTAMP:20260423T094124Z
DESCRIPTION:22/87 Kralupy - Klatovy 3:0 (23\,18\,20)
DTSTART;TZID=Europe/Berlin:20220219T140000
DTEND;TZID=Europe/Berlin:20220219T160000
LOCATION:TJ KRALUPY\, z.s.\, Gen. Klapálka 1029 Kralupy nad Vltavou
SUMMARY:2-Z-A: Kralupy-Klatovy
END:VEVENT
BEGIN:VEVENT
UID:61356632-6537-4564-b637-313739363236
DTSTAMP:20260423T094124Z
DESCRIPTION:23/90 Plzeň B - Klatovy 3:0 (17\,10\,27)
DTSTART;TZID=Europe/Berlin:20220226T090000
DTEND;TZID=Europe/Berlin:20220226T110000
LOCATION:Městská sportovní hala  -  hala 2\, Úslavská 2357 Plzeň - Východní
  Předměstí
SUMMARY:2-Z-A: Plzeň B-Klatovy
END:VEVENT
BEGIN:VEVENT
UID:32376635-3661-4966-a432-393637666635
DTSTAMP:20260423T094124Z
DESCRIPTION:24/94 Plzeň B - Klatovy 3:0 (21\,11\,19)
DTSTART;TZID=Europe/Berlin:20220226T130000
DTEND;TZID=Europe/Berlin:20220226T150000
LOCATION:Městská sportovní hala  -  hala 2\, Úslavská 2357 Plzeň - Východní
  Předměstí
SUMMARY:2-Z-A: Plzeň B-Klatovy
END:VEVENT
BEGIN:VEVENT
UID:64303039-3036-4263-b037-666666643935
DTSTAMP:20260423T094124Z
DESCRIPTION:27/105 Příbram - Klatovy 3:0 (13\,23\,13)
DTSTART;TZID=Europe/Berlin:20220319T110000
DTEND;TZID=Europe/Berlin:20220319T130000
LOCATION:Tělocvična ZŠ Balbínova\, Balbínova 328 Příbram - Příbram II
SUMMARY:2-Z-A: Příbram-Klatovy
END:VEVENT
BEGIN:VEVENT
UID:34363931-6364-4662-a330-376361323430
DTSTAMP:20260423T094124Z
DESCRIPTION:28/109 Příbram - Klatovy 3:0 (21\,11\,16)
DTSTART;TZID=Europe/Berlin:20220319T150000
DTEND;TZID=Europe/Berlin:20220319T170000
LOCATION:Tělocvična ZŠ Balbínova\, Balbínova 328 Příbram - Příbram II
SUMMARY:2-Z-A: Příbram-Klatovy
END:VEVENT
END:VCALENDAR
