BEGIN:VCALENDAR
VERSION:2.0
PRODID:-//VSK Spartak Děčín - Rumburk76188//NONSGML kigkonsult.se iCalcreator 2.41.80//
CALSCALE:GREGORIAN
UID:66613665-3530-4531-b833-666363656430
BEGIN:VEVENT
UID:37323630-6566-4735-b666-653865643930
DTSTAMP:20260425T112842Z
DESCRIPTION:3/11 Děčín - Mn. Hradiště 1:3 (-19\,24\,-20\,-20)
DTSTART;TZID=Europe/Berlin:20211016T100000
DTEND;TZID=Europe/Berlin:20211016T120000
LOCATION:Tělocvična OA Rumburk\, Komenského 927 Rumburk - Rumburk 1
SUMMARY:2-Z-B: Děčín-Mn. Hradiště
END:VEVENT
BEGIN:VEVENT
UID:61323239-3436-4361-b839-393938636135
DTSTAMP:20260425T112842Z
DESCRIPTION:4/15 Děčín - Mn. Hradiště 3:0 (19\,17\,15)
DTSTART;TZID=Europe/Berlin:20211016T140000
DTEND;TZID=Europe/Berlin:20211016T160000
LOCATION:Tělocvična OA Rumburk\, Komenského 927 Rumburk - Rumburk 1
SUMMARY:2-Z-B: Děčín-Mn. Hradiště
END:VEVENT
BEGIN:VEVENT
UID:36323733-3332-4662-a266-636162623064
DTSTAMP:20260425T112842Z
DESCRIPTION:7/26 Děčín - Střešovice B 2:3 (22\,-21\,-24\,16\,-8)
DTSTART;TZID=Europe/Berlin:20211106T100000
DTEND;TZID=Europe/Berlin:20211106T120000
LOCATION:Tělocvična OA Rumburk\, Komenského 927 Rumburk - Rumburk 1
SUMMARY:2-Z-B: Děčín-Střešovice B
END:VEVENT
BEGIN:VEVENT
UID:65366234-3263-4336-a262-323563323434
DTSTAMP:20260425T112842Z
DESCRIPTION:8/30 Děčín - Střešovice B 3:0 (23\,15\,16)
DTSTART;TZID=Europe/Berlin:20211106T140000
DTEND;TZID=Europe/Berlin:20211106T160000
LOCATION:Tělocvična OA Rumburk\, Komenského 927 Rumburk - Rumburk 1
SUMMARY:2-Z-B: Děčín-Střešovice B
END:VEVENT
BEGIN:VEVENT
UID:61646335-3564-4365-b332-396334636632
DTSTAMP:20260425T112842Z
DESCRIPTION:13/52 Děčín - Turnov 3:0 (15\,10\,14)
DTSTART;TZID=Europe/Berlin:20211204T100000
DTEND;TZID=Europe/Berlin:20211204T120000
LOCATION:Tělocvična OA Rumburk\, Komenského 927 Rumburk - Rumburk 1
SUMMARY:2-Z-B: Děčín-Turnov
END:VEVENT
BEGIN:VEVENT
UID:64373031-3161-4065-b938-396235393565
DTSTAMP:20260425T112842Z
DESCRIPTION:14/56 Děčín - Turnov 3:0 (16\,15\,22)
DTSTART;TZID=Europe/Berlin:20211204T140000
DTEND;TZID=Europe/Berlin:20211204T160000
LOCATION:Tělocvična OA Rumburk\, Komenského 927 Rumburk - Rumburk 1
SUMMARY:2-Z-B: Děčín-Turnov
END:VEVENT
BEGIN:VEVENT
UID:37343238-3233-4364-b331-326434353832
DTSTAMP:20260425T112842Z
DESCRIPTION:15/58 Děčín - Chabařovice 2:3 (20\,-17\,24\,-13\,-12)
DTSTART;TZID=Europe/Berlin:20220129T100000
DTEND;TZID=Europe/Berlin:20220129T120000
LOCATION:Tělocvična OA Rumburk\, Komenského 927 Rumburk - Rumburk 1
SUMMARY:2-Z-B: Děčín-Chabařovice
END:VEVENT
BEGIN:VEVENT
UID:39323531-3565-4136-a463-653837373435
DTSTAMP:20260425T112842Z
DESCRIPTION:16/62 Děčín - Chabařovice 1:3 (18\,-22\,-18\,-15)
DTSTART;TZID=Europe/Berlin:20220129T140000
DTEND;TZID=Europe/Berlin:20220129T160000
LOCATION:Tělocvična OA Rumburk\, Komenského 927 Rumburk - Rumburk 1
SUMMARY:2-Z-B: Děčín-Chabařovice
END:VEVENT
BEGIN:VEVENT
UID:37626661-3464-4036-a630-653635613135
DTSTAMP:20260425T112842Z
DESCRIPTION:19/75 Děčín - Pardubice 3:0 (20\,12\,19)
DTSTART;TZID=Europe/Berlin:20220205T100000
DTEND;TZID=Europe/Berlin:20220205T120000
LOCATION:Tělocvična OA Rumburk\, Komenského 927 Rumburk - Rumburk 1
SUMMARY:2-Z-B: Děčín-Pardubice
END:VEVENT
BEGIN:VEVENT
UID:64386462-3863-4664-a665-386533373361
DTSTAMP:20260425T112842Z
DESCRIPTION:20/79 Děčín - Pardubice 3:1 (-19\,16\,23\,21)
DTSTART;TZID=Europe/Berlin:20220205T140000
DTEND;TZID=Europe/Berlin:20220205T160000
LOCATION:Tělocvična OA Rumburk\, Komenského 927 Rumburk - Rumburk 1
SUMMARY:2-Z-B: Děčín-Pardubice
END:VEVENT
BEGIN:VEVENT
UID:37616239-3831-4638-a561-613530346163
DTSTAMP:20260425T112842Z
DESCRIPTION:23/92 Děčín - Žižkov B 2:3 (23\,-23\,-12\,15\,-12)
DTSTART;TZID=Europe/Berlin:20220226T100000
DTEND;TZID=Europe/Berlin:20220226T120000
LOCATION:Tělocvična OA Rumburk\, Komenského 927 Rumburk - Rumburk 1
SUMMARY:2-Z-B: Děčín-Žižkov B
END:VEVENT
BEGIN:VEVENT
UID:35303436-3239-4037-a639-333564623432
DTSTAMP:20260425T112842Z
DESCRIPTION:24/96 Děčín - Žižkov B 3:2 (-23\,-20\,25\,12\,6)
DTSTART;TZID=Europe/Berlin:20220226T140000
DTEND;TZID=Europe/Berlin:20220226T160000
LOCATION:Tělocvična OA Rumburk\, Komenského 927 Rumburk - Rumburk 1
SUMMARY:2-Z-B: Děčín-Žižkov B
END:VEVENT
BEGIN:VEVENT
UID:35353535-6638-4035-a263-303666313865
DTSTAMP:20260425T112842Z
DESCRIPTION:25/97 Děčín - Suchdol 3:2 (-19\,19\,-18\,13\,12)
DTSTART;TZID=Europe/Berlin:20220305T100000
DTEND;TZID=Europe/Berlin:20220305T120000
LOCATION:Tělocvična OA Rumburk\, Komenského 927 Rumburk - Rumburk 1
SUMMARY:2-Z-B: Děčín-Suchdol
END:VEVENT
BEGIN:VEVENT
UID:65306430-6664-4461-a362-326439633736
DTSTAMP:20260425T112842Z
DESCRIPTION:26/101 Děčín - Suchdol 3:2 (-21\,-23\,16\,18\,11)
DTSTART;TZID=Europe/Berlin:20220305T140000
DTEND;TZID=Europe/Berlin:20220305T160000
LOCATION:Tělocvična OA Rumburk\, Komenského 927 Rumburk - Rumburk 1
SUMMARY:2-Z-B: Děčín-Suchdol
END:VEVENT
BEGIN:VEVENT
UID:66393639-3032-4332-b163-393637643966
DTSTAMP:20260425T112842Z
DESCRIPTION:1/2 Chabařovice - Děčín 3:2 (15\,-22\,-17\,19\,8)
DTSTART;TZID=Europe/Berlin:20211002T100000
DTEND;TZID=Europe/Berlin:20211002T120000
LOCATION:Sportovní hala Chabařovice\, V Aleji 400 Chabařovice
SUMMARY:2-Z-B: Chabařovice-Děčín
END:VEVENT
BEGIN:VEVENT
UID:62323163-3564-4830-a638-616230346131
DTSTAMP:20260425T112842Z
DESCRIPTION:2/6 Chabařovice - Děčín 0:3 (-17\,-22\,-22)
DTSTART;TZID=Europe/Berlin:20211002T140000
DTEND;TZID=Europe/Berlin:20211002T160000
LOCATION:Sportovní hala Chabařovice\, V Aleji 400 Chabařovice
SUMMARY:2-Z-B: Chabařovice-Děčín
END:VEVENT
BEGIN:VEVENT
UID:62326439-3861-4763-a261-346136363731
DTSTAMP:20260425T112842Z
DESCRIPTION:5/19 Pardubice - Děčín 0:3 (-21\,-22\,-19)
DTSTART;TZID=Europe/Berlin:20211023T100000
DTEND;TZID=Europe/Berlin:20211023T120000
LOCATION:Sportovní areál Univerzity Pardubice\, Studentská 95 Pardubice - P
 olabiny
SUMMARY:2-Z-B: Pardubice-Děčín
END:VEVENT
BEGIN:VEVENT
UID:63316166-3563-4566-b131-633432323538
DTSTAMP:20260425T112842Z
DESCRIPTION:6/23 Pardubice - Děčín 2:3 (-20\,-9\,16\,16\,-8)
DTSTART;TZID=Europe/Berlin:20211023T140000
DTEND;TZID=Europe/Berlin:20211023T160000
LOCATION:Sportovní areál Univerzity Pardubice\, Studentská 95 Pardubice - P
 olabiny
SUMMARY:2-Z-B: Pardubice-Děčín
END:VEVENT
BEGIN:VEVENT
UID:65316362-3061-4865-b936-323530376637
DTSTAMP:20260425T112842Z
DESCRIPTION:9/36 Žižkov B - Děčín 0:3 (-22\,-21\,-13)
DTSTART;TZID=Europe/Berlin:20211120T100000
DTEND;TZID=Europe/Berlin:20211120T120000
LOCATION:TJ Sokol Žižkov I.\, Hartigova 929 Praha - Žižkov
SUMMARY:2-Z-B: Žižkov B-Děčín
END:VEVENT
BEGIN:VEVENT
UID:62646662-3334-4331-b835-376433666435
DTSTAMP:20260425T112842Z
DESCRIPTION:10/40 Žižkov B - Děčín 1:3 (-15\,23\,-20\,-24)
DTSTART;TZID=Europe/Berlin:20211120T140000
DTEND;TZID=Europe/Berlin:20211120T160000
LOCATION:TJ Sokol Žižkov I.\, Hartigova 929 Praha - Žižkov
SUMMARY:2-Z-B: Žižkov B-Děčín
END:VEVENT
BEGIN:VEVENT
UID:33376661-3730-4034-a162-633032623861
DTSTAMP:20260425T112842Z
DESCRIPTION:11/41 Suchdol - Děčín 0:3 (-18\,-18\,-16)
DTSTART;TZID=Europe/Berlin:20211127T090000
DTEND;TZID=Europe/Berlin:20211127T110000
LOCATION:hala STAV\, SOŠ Kolín\, Brankovická 1417 Kolín - Kolín V
SUMMARY:2-Z-B: Suchdol-Děčín
END:VEVENT
BEGIN:VEVENT
UID:32356630-3834-4966-b364-663166306338
DTSTAMP:20260425T112842Z
DESCRIPTION:12/45 Suchdol - Děčín 0:3 (-23\,-17\,-21)
DTSTART;TZID=Europe/Berlin:20211127T130000
DTEND;TZID=Europe/Berlin:20211127T150000
LOCATION:hala STAV\, SOŠ Kolín\, Brankovická 1417 Kolín - Kolín V
SUMMARY:2-Z-B: Suchdol-Děčín
END:VEVENT
BEGIN:VEVENT
UID:65343238-3132-4939-b234-343336366664
DTSTAMP:20260425T112842Z
DESCRIPTION:17/67 Mn. Hradiště - Děčín 2:3 (-20\,-16\,16\,15\,-9)
DTSTART;TZID=Europe/Berlin:20220122T110000
DTEND;TZID=Europe/Berlin:20220122T130000
LOCATION:Sportovní hala BIOS\, Sokolovská 254 Mnichovo Hradiště
SUMMARY:2-Z-B: Mn. Hradiště-Děčín
END:VEVENT
BEGIN:VEVENT
UID:32613238-6336-4862-b131-653130393063
DTSTAMP:20260425T112842Z
DESCRIPTION:18/71 Mn. Hradiště - Děčín 3:1 (24\,-15\,14\,22)
DTSTART;TZID=Europe/Berlin:20220122T150000
DTEND;TZID=Europe/Berlin:20220122T170000
LOCATION:Sportovní hala BIOS\, Sokolovská 254 Mnichovo Hradiště
SUMMARY:2-Z-B: Mn. Hradiště-Děčín
END:VEVENT
BEGIN:VEVENT
UID:37633239-3036-4934-b330-613439333239
DTSTAMP:20260425T112842Z
DESCRIPTION:21/82 Střešovice B - Děčín 1:3 (-22\,18\,-18\,-22)
DTSTART;TZID=Europe/Berlin:20220219T090000
DTEND;TZID=Europe/Berlin:20220219T110000
LOCATION:TJ Tatran Střešovice\, Sibeliova 368 Praha - Střešovice
SUMMARY:2-Z-B: Střešovice B-Děčín
END:VEVENT
BEGIN:VEVENT
UID:34343835-3863-4738-b066-653066386432
DTSTAMP:20260425T112842Z
DESCRIPTION:22/86 Střešovice B - Děčín 0:3 (-21\,-22\,-11)
DTSTART;TZID=Europe/Berlin:20220219T140000
DTEND;TZID=Europe/Berlin:20220219T160000
LOCATION:TJ Tatran Střešovice\, Sibeliova 368 Praha - Střešovice
SUMMARY:2-Z-B: Střešovice B-Děčín
END:VEVENT
BEGIN:VEVENT
UID:35636562-6333-4662-b131-393232376361
DTSTAMP:20260425T112842Z
DESCRIPTION:27/108 Turnov - Děčín 3:1 (19\,-16\,19\,18)
DTSTART;TZID=Europe/Berlin:20220319T100000
DTEND;TZID=Europe/Berlin:20220319T120000
LOCATION:TJ Turnov\, Skálova 207 Turnov
SUMMARY:2-Z-B: Turnov-Děčín
END:VEVENT
BEGIN:VEVENT
UID:37663830-3533-4933-b732-393033353836
DTSTAMP:20260425T112842Z
DESCRIPTION:28/112 Turnov - Děčín 1:3 (22\,-14\,-16\,-11)
DTSTART;TZID=Europe/Berlin:20220319T140000
DTEND;TZID=Europe/Berlin:20220319T160000
LOCATION:TJ Turnov\, Skálova 207 Turnov
SUMMARY:2-Z-B: Turnov-Děčín
END:VEVENT
END:VCALENDAR
