BEGIN:VCALENDAR
VERSION:2.0
PRODID:-//TJ Sokol Brno - Juliánov76189//NONSGML kigkonsult.se iCalcreator 2.41.80//
CALSCALE:GREGORIAN
UID:38656464-3730-4765-b431-623862373231
BEGIN:VEVENT
UID:34396630-3565-4538-b965-643464666539
DTSTAMP:20260423T094126Z
DESCRIPTION:5/20 Brno-Juliánov - OP Prostějov 2:3 (-20\,-23\,22\,14\,-9)
DTSTART;TZID=Europe/Berlin:20211023T100000
DTEND;TZID=Europe/Berlin:20211023T120000
LOCATION:Sokol Brno - Juliánov\, Slatinská 2831 Brno - Židenice
SUMMARY:2-Z-C: Brno-Juliánov-OP Prostějov
END:VEVENT
BEGIN:VEVENT
UID:62636533-6334-4535-b635-376561393330
DTSTAMP:20260423T094126Z
DESCRIPTION:6/24 Brno-Juliánov - OP Prostějov 3:1 (23\,21\,-25\,22)
DTSTART;TZID=Europe/Berlin:20211023T140000
DTEND;TZID=Europe/Berlin:20211023T160000
LOCATION:Sokol Brno - Juliánov\, Slatinská 2831 Brno - Židenice
SUMMARY:2-Z-C: Brno-Juliánov-OP Prostějov
END:VEVENT
BEGIN:VEVENT
UID:61336337-6131-4930-b534-373463656166
DTSTAMP:20260423T094126Z
DESCRIPTION:9/35 Brno-Juliánov - Kroměříž 3:0 (21\,26\,21)
DTSTART;TZID=Europe/Berlin:20211120T100000
DTEND;TZID=Europe/Berlin:20211120T120000
LOCATION:Sokol Brno - Juliánov\, Slatinská 2831 Brno - Židenice
SUMMARY:2-Z-C: Brno-Juliánov-Kroměříž
END:VEVENT
BEGIN:VEVENT
UID:39643438-3230-4836-b834-353461303437
DTSTAMP:20260423T094126Z
DESCRIPTION:10/39 Brno-Juliánov - Kroměříž 3:0 (18\,14\,25)
DTSTART;TZID=Europe/Berlin:20211120T140000
DTEND;TZID=Europe/Berlin:20211120T160000
LOCATION:Sokol Brno - Juliánov\, Slatinská 2831 Brno - Židenice
SUMMARY:2-Z-C: Brno-Juliánov-Kroměříž
END:VEVENT
BEGIN:VEVENT
UID:66353262-3965-4431-b039-633764653535
DTSTAMP:20260423T094126Z
DESCRIPTION:13/50 Brno-Juliánov - Šlapanice 1:3 (-21\,16\,-12\,-17)
DTSTART;TZID=Europe/Berlin:20211204T100000
DTEND;TZID=Europe/Berlin:20211204T120000
LOCATION:Sokol Brno - Juliánov\, Slatinská 2831 Brno - Židenice
SUMMARY:2-Z-C: Brno-Juliánov-Šlapanice
END:VEVENT
BEGIN:VEVENT
UID:38383638-3934-4663-a464-363162353634
DTSTAMP:20260423T094126Z
DESCRIPTION:14/54 Brno-Juliánov - Šlapanice 1:3 (18\,-21\,-22\,-20)
DTSTART;TZID=Europe/Berlin:20211204T140000
DTEND;TZID=Europe/Berlin:20211204T160000
LOCATION:Sokol Brno - Juliánov\, Slatinská 2831 Brno - Židenice
SUMMARY:2-Z-C: Brno-Juliánov-Šlapanice
END:VEVENT
BEGIN:VEVENT
UID:66346139-6464-4533-b039-353635323439
DTSTAMP:20260423T094126Z
DESCRIPTION:15/60 Brno-Juliánov - Č. Třebová 3:2 (23\,-17\,21\,-23\,12)
DTSTART;TZID=Europe/Berlin:20220115T100000
DTEND;TZID=Europe/Berlin:20220115T120000
LOCATION:Sokol Brno - Juliánov\, Slatinská 2831 Brno - Židenice
SUMMARY:2-Z-C: Brno-Juliánov-Č. Třebová
END:VEVENT
BEGIN:VEVENT
UID:34376266-3066-4466-b466-316134393065
DTSTAMP:20260423T094126Z
DESCRIPTION:16/64 Brno-Juliánov - Č. Třebová 0:3 (-12\,-22\,-18)
DTSTART;TZID=Europe/Berlin:20220115T140000
DTEND;TZID=Europe/Berlin:20220115T160000
LOCATION:Sokol Brno - Juliánov\, Slatinská 2831 Brno - Židenice
SUMMARY:2-Z-C: Brno-Juliánov-Č. Třebová
END:VEVENT
BEGIN:VEVENT
UID:31393633-6337-4533-a234-386630613036
DTSTAMP:20260423T094126Z
DESCRIPTION:17/65 Brno-Juliánov - VK Prostějov B 3:2 (19\,24\,-29\,-22\,9)
DTSTART;TZID=Europe/Berlin:20220122T100000
DTEND;TZID=Europe/Berlin:20220122T120000
LOCATION:Sokol Brno - Juliánov\, Slatinská 2831 Brno - Židenice
SUMMARY:2-Z-C: Brno-Juliánov-VK Prostějov B
END:VEVENT
BEGIN:VEVENT
UID:36393466-3637-4065-a135-303436643863
DTSTAMP:20260423T094126Z
DESCRIPTION:18/69 Brno-Juliánov - VK Prostějov B 1:3 (22\,-11\,-21\,-15)
DTSTART;TZID=Europe/Berlin:20220122T140000
DTEND;TZID=Europe/Berlin:20220122T160000
LOCATION:Sokol Brno - Juliánov\, Slatinská 2831 Brno - Židenice
SUMMARY:2-Z-C: Brno-Juliánov-VK Prostějov B
END:VEVENT
BEGIN:VEVENT
UID:35326331-3734-4638-b963-313266343831
DTSTAMP:20260423T094126Z
DESCRIPTION:21/82 Brno-Juliánov - VK Brno B 3:1 (23\,-19\,21\,20)
DTSTART;TZID=Europe/Berlin:20220219T100000
DTEND;TZID=Europe/Berlin:20220219T120000
LOCATION:Sokol Brno - Juliánov\, Slatinská 2831 Brno - Židenice
SUMMARY:2-Z-C: Brno-Juliánov-VK Brno B
END:VEVENT
BEGIN:VEVENT
UID:31323030-3566-4864-b765-353730363862
DTSTAMP:20260423T094126Z
DESCRIPTION:22/86 Brno-Juliánov - VK Brno B 1:3 (21\,-21\,-19\,-27)
DTSTART;TZID=Europe/Berlin:20220219T140000
DTEND;TZID=Europe/Berlin:20220219T160000
LOCATION:Sokol Brno - Juliánov\, Slatinská 2831 Brno - Židenice
SUMMARY:2-Z-C: Brno-Juliánov-VK Brno B
END:VEVENT
BEGIN:VEVENT
UID:35316336-6261-4165-b464-356534393839
DTSTAMP:20260423T094126Z
DESCRIPTION:25/99 Brno-Juliánov - Svitavy 3:0 (21\,20\,19)
DTSTART;TZID=Europe/Berlin:20220305T100000
DTEND;TZID=Europe/Berlin:20220305T120000
LOCATION:Sokol Brno - Juliánov\, Slatinská 2831 Brno - Židenice
SUMMARY:2-Z-C: Brno-Juliánov-Svitavy
END:VEVENT
BEGIN:VEVENT
UID:38343162-3665-4638-b066-333162353631
DTSTAMP:20260423T094126Z
DESCRIPTION:26/103 Brno-Juliánov - Svitavy 3:1 (25\,22\,-9\,16)
DTSTART;TZID=Europe/Berlin:20220305T140000
DTEND;TZID=Europe/Berlin:20220305T160000
LOCATION:Sokol Brno - Juliánov\, Slatinská 2831 Brno - Židenice
SUMMARY:2-Z-C: Brno-Juliánov-Svitavy
END:VEVENT
BEGIN:VEVENT
UID:35623735-3034-4636-a362-396337613033
DTSTAMP:20260423T094126Z
DESCRIPTION:1/4 Č. Třebová - Brno-Juliánov 3:1 (22\,-13\,17\,12)
DTSTART;TZID=Europe/Berlin:20211002T110000
DTEND;TZID=Europe/Berlin:20211002T130000
LOCATION:Základní škola Česká Třebová Habrmanova\, Na Skále\, Na Skále 566 
 Česká Třebová
SUMMARY:2-Z-C: Č. Třebová-Brno-Juliánov
END:VEVENT
BEGIN:VEVENT
UID:34376563-3530-4635-a265-393637643461
DTSTAMP:20260423T094126Z
DESCRIPTION:2/8 Č. Třebová - Brno-Juliánov 3:0 (17\,11\,21)
DTSTART;TZID=Europe/Berlin:20211002T150000
DTEND;TZID=Europe/Berlin:20211002T170000
LOCATION:Základní škola Česká Třebová Habrmanova\, Na Skále\, Na Skále 566 
 Česká Třebová
SUMMARY:2-Z-C: Č. Třebová-Brno-Juliánov
END:VEVENT
BEGIN:VEVENT
UID:37323333-3632-4365-a331-613430306562
DTSTAMP:20260423T094126Z
DESCRIPTION:3/9 VK Prostějov B - Brno-Juliánov 3:0 (22\,22\,18)
DTSTART;TZID=Europe/Berlin:20211016T100000
DTEND;TZID=Europe/Berlin:20211016T120000
LOCATION:Národní sportovní centrum\, Za velodromem 4187 Prostějov
SUMMARY:2-Z-C: VK Prostějov B-Brno-Juliánov
END:VEVENT
BEGIN:VEVENT
UID:34343465-6431-4530-b538-633236633265
DTSTAMP:20260423T094126Z
DESCRIPTION:4/13 VK Prostějov B - Brno-Juliánov 3:0 (22\,22\,11)
DTSTART;TZID=Europe/Berlin:20211016T140000
DTEND;TZID=Europe/Berlin:20211016T160000
LOCATION:Národní sportovní centrum\, Za velodromem 4187 Prostějov
SUMMARY:2-Z-C: VK Prostějov B-Brno-Juliánov
END:VEVENT
BEGIN:VEVENT
UID:33373439-3735-4437-a465-653932303037
DTSTAMP:20260423T094126Z
DESCRIPTION:7/26 VK Brno B - Brno-Juliánov 3:1 (-21\,14\,23\,15)
DTSTART;TZID=Europe/Berlin:20211106T100000
DTEND;TZID=Europe/Berlin:20211106T120000
LOCATION:Campus Brno - Hala míčových sportů - Fakulta Sportovní MUNI\, Kame
 nice 753 Brno - Bohunice
SUMMARY:2-Z-C: VK Brno B-Brno-Juliánov
END:VEVENT
BEGIN:VEVENT
UID:33616232-6234-4433-b562-636265386236
DTSTAMP:20260423T094126Z
DESCRIPTION:8/30 VK Brno B - Brno-Juliánov 3:1 (20\,15\,-21\,20)
DTSTART;TZID=Europe/Berlin:20211106T140000
DTEND;TZID=Europe/Berlin:20211106T160000
LOCATION:Campus Brno - Hala míčových sportů - Fakulta Sportovní MUNI\, Kame
 nice 753 Brno - Bohunice
SUMMARY:2-Z-C: VK Brno B-Brno-Juliánov
END:VEVENT
BEGIN:VEVENT
UID:37626231-3337-4239-a364-376137613630
DTSTAMP:20260423T094126Z
DESCRIPTION:11/43 Svitavy - Brno-Juliánov 3:1 (15\,-20\,23\,21)
DTSTART;TZID=Europe/Berlin:20211127T100000
DTEND;TZID=Europe/Berlin:20211127T120000
LOCATION:Sportovní hala Na Střelnici\, Pražská 2162 Svitavy - Předměstí
SUMMARY:2-Z-C: Svitavy-Brno-Juliánov
END:VEVENT
BEGIN:VEVENT
UID:63656536-3435-4237-a232-386438306661
DTSTAMP:20260423T094126Z
DESCRIPTION:12/47 Svitavy - Brno-Juliánov 3:0 (14\,12\,10)
DTSTART;TZID=Europe/Berlin:20211127T140000
DTEND;TZID=Europe/Berlin:20211127T160000
LOCATION:Sportovní hala Na Střelnici\, Pražská 2162 Svitavy - Předměstí
SUMMARY:2-Z-C: Svitavy-Brno-Juliánov
END:VEVENT
BEGIN:VEVENT
UID:65613865-3631-4535-b662-343937393964
DTSTAMP:20260423T094126Z
DESCRIPTION:19/76 OP Prostějov - Brno-Juliánov 3:2 (16\,-19\,9\,-15\,11)
DTSTART;TZID=Europe/Berlin:20220205T100000
DTEND;TZID=Europe/Berlin:20220205T120000
LOCATION:Letní hala u zimního stadionu\, Kostelecká 3113 Prostějov
SUMMARY:2-Z-C: OP Prostějov-Brno-Juliánov
END:VEVENT
BEGIN:VEVENT
UID:38303764-3231-4765-a239-373634343163
DTSTAMP:20260423T094126Z
DESCRIPTION:20/80 OP Prostějov - Brno-Juliánov 3:0 (19\,14\,27)
DTSTART;TZID=Europe/Berlin:20220205T140000
DTEND;TZID=Europe/Berlin:20220205T160000
LOCATION:Letní hala u zimního stadionu\, Kostelecká 3113 Prostějov
SUMMARY:2-Z-C: OP Prostějov-Brno-Juliánov
END:VEVENT
BEGIN:VEVENT
UID:62306531-3535-4062-b162-333034383738
DTSTAMP:20260423T094126Z
DESCRIPTION:23/91 Kroměříž - Brno-Juliánov 3:1 (28\,-21\,23\,21)
DTSTART;TZID=Europe/Berlin:20220226T100000
DTEND;TZID=Europe/Berlin:20220226T120000
LOCATION:ZŠ Slovan\, Zeyerova 3354 Kroměříž
SUMMARY:2-Z-C: Kroměříž-Brno-Juliánov
END:VEVENT
BEGIN:VEVENT
UID:63616430-3564-4231-a166-346139313431
DTSTAMP:20260423T094126Z
DESCRIPTION:24/95 Kroměříž - Brno-Juliánov 1:3 (-23\,-22\,26\,-23)
DTSTART;TZID=Europe/Berlin:20220226T140000
DTEND;TZID=Europe/Berlin:20220226T160000
LOCATION:ZŠ Slovan\, Zeyerova 3354 Kroměříž
SUMMARY:2-Z-C: Kroměříž-Brno-Juliánov
END:VEVENT
BEGIN:VEVENT
UID:34666465-3562-4636-b461-346237666633
DTSTAMP:20260423T094126Z
DESCRIPTION:27/106 Šlapanice - Brno-Juliánov 3:0 (14\,19\,21)
DTSTART;TZID=Europe/Berlin:20220319T090000
DTEND;TZID=Europe/Berlin:20220319T110000
LOCATION:Hala TJ Sokol Šlapanice\, Smetanova 1662 Šlapanice
SUMMARY:2-Z-C: Šlapanice-Brno-Juliánov
END:VEVENT
BEGIN:VEVENT
UID:62343963-6330-4433-a662-653964303538
DTSTAMP:20260423T094126Z
DESCRIPTION:28/110 Šlapanice - Brno-Juliánov 0:3 (-24\,-20\,-21)
DTSTART;TZID=Europe/Berlin:20220319T130000
DTEND;TZID=Europe/Berlin:20220319T150000
LOCATION:Hala TJ Sokol Šlapanice\, Smetanova 1662 Šlapanice
SUMMARY:2-Z-C: Šlapanice-Brno-Juliánov
END:VEVENT
BEGIN:VEVENT
UID:39393765-6630-4261-b832-623034316637
DTSTAMP:20260423T094126Z
DESCRIPTION:3/6 Brno-Juliánov - Vsetín 3:1 (18\,23\,-17\,25)
DTSTART;TZID=Europe/Berlin:20220424T120000
DTEND;TZID=Europe/Berlin:20220424T140000
LOCATION:Sportovní hala Na Lapači\, Na Lapači 247 Vsetín - Rokytnice
SUMMARY:2-Z-KC: Brno-Juliánov-Vsetín
END:VEVENT
BEGIN:VEVENT
UID:31646336-3338-4539-a164-613631386637
DTSTAMP:20260423T094126Z
DESCRIPTION:1/2 Újezd u Brna - Brno-Juliánov 0:3 (-19\,-7\,-17)
DTSTART;TZID=Europe/Berlin:20220423T120000
DTEND;TZID=Europe/Berlin:20220423T140000
LOCATION:Sportovní hala Na Lapači\, Na Lapači 247 Vsetín - Rokytnice
SUMMARY:2-Z-KC: Újezd u Brna-Brno-Juliánov
END:VEVENT
BEGIN:VEVENT
UID:63666365-3330-4262-b439-363734386134
DTSTAMP:20260423T094126Z
DESCRIPTION:2/3 Uherské Hradiště - Brno-Juliánov 0:3 (-22\,-24\,-11)
DTSTART;TZID=Europe/Berlin:20220423T160000
DTEND;TZID=Europe/Berlin:20220423T180000
LOCATION:Sportovní hala Na Lapači\, Na Lapači 247 Vsetín - Rokytnice
SUMMARY:2-Z-KC: Uherské Hradiště-Brno-Juliánov
END:VEVENT
END:VCALENDAR
