BEGIN:VCALENDAR
VERSION:2.0
PRODID:-//ŠSK Bílovec76206//NONSGML kigkonsult.se iCalcreator 2.41.80//
CALSCALE:GREGORIAN
UID:30353335-6464-4133-b132-353061316339
BEGIN:VEVENT
UID:39316238-6138-4533-a630-303966656332
DTSTAMP:20260423T070900Z
DESCRIPTION:1/4 Bílovec - Ostrava B 1:3 (-17\,20\,-21\,-18)
DTSTART;TZID=Europe/Berlin:20211002T090000
DTEND;TZID=Europe/Berlin:20211002T110000
LOCATION:Tělocvična GMK Bílovec\, 17. listopadu 526 Bílovec
SUMMARY:2-Z-D: Bílovec-Ostrava B
END:VEVENT
BEGIN:VEVENT
UID:39643532-6163-4230-a461-346234626533
DTSTAMP:20260423T070900Z
DESCRIPTION:2/8 Bílovec - Ostrava B 3:0 (23\,23\,24)
DTSTART;TZID=Europe/Berlin:20211002T130000
DTEND;TZID=Europe/Berlin:20211002T150000
LOCATION:Tělocvična GMK Bílovec\, 17. listopadu 526 Bílovec
SUMMARY:2-Z-D: Bílovec-Ostrava B
END:VEVENT
BEGIN:VEVENT
UID:32303034-3436-4539-a638-373133303535
DTSTAMP:20260423T070900Z
DESCRIPTION:5/19 Bílovec - Vsetín 3:1 (14\,-18\,20\,13)
DTSTART;TZID=Europe/Berlin:20211023T090000
DTEND;TZID=Europe/Berlin:20211023T110000
LOCATION:Tělocvična GMK Bílovec\, 17. listopadu 526 Bílovec
SUMMARY:2-Z-D: Bílovec-Vsetín
END:VEVENT
BEGIN:VEVENT
UID:36623739-3864-4531-a434-353061373735
DTSTAMP:20260423T070900Z
DESCRIPTION:6/23 Bílovec - Vsetín 3:1 (25\,-23\,14\,14)
DTSTART;TZID=Europe/Berlin:20211023T130000
DTEND;TZID=Europe/Berlin:20211023T150000
LOCATION:Tělocvična GMK Bílovec\, 17. listopadu 526 Bílovec
SUMMARY:2-Z-D: Bílovec-Vsetín
END:VEVENT
BEGIN:VEVENT
UID:65616564-3735-4365-a336-663637616564
DTSTAMP:20260423T070900Z
DESCRIPTION:9/34 Bílovec - Opava 0:3 (-15\,-22\,-8)
DTSTART;TZID=Europe/Berlin:20211120T100000
DTEND;TZID=Europe/Berlin:20211120T120000
LOCATION:Tělocvična GMK Bílovec\, 17. listopadu 526 Bílovec
SUMMARY:2-Z-D: Bílovec-Opava
END:VEVENT
BEGIN:VEVENT
UID:63376234-6139-4438-b739-646431373561
DTSTAMP:20260423T070900Z
DESCRIPTION:10/38 Bílovec - Opava 0:3 (-19\,-19\,-21)
DTSTART;TZID=Europe/Berlin:20211120T140000
DTEND;TZID=Europe/Berlin:20211120T160000
LOCATION:Tělocvična GMK Bílovec\, 17. listopadu 526 Bílovec
SUMMARY:2-Z-D: Bílovec-Opava
END:VEVENT
BEGIN:VEVENT
UID:37393935-3733-4765-b962-656632643133
DTSTAMP:20260423T070900Z
DESCRIPTION:13/49 Bílovec - Nový Jičín 3:0 (20\,26\,22)
DTSTART;TZID=Europe/Berlin:20220212T090000
DTEND;TZID=Europe/Berlin:20220212T110000
LOCATION:Tělocvična GMK Bílovec\, 17. listopadu 526 Bílovec
SUMMARY:2-Z-D: Bílovec-Nový Jičín
END:VEVENT
BEGIN:VEVENT
UID:36376634-3730-4865-b163-643938363665
DTSTAMP:20260423T070900Z
DESCRIPTION:14/53 Bílovec - Nový Jičín 3:2 (-25\,24\,17\,-22\,8)
DTSTART;TZID=Europe/Berlin:20220212T130000
DTEND;TZID=Europe/Berlin:20220212T150000
LOCATION:Tělocvična GMK Bílovec\, 17. listopadu 526 Bílovec
SUMMARY:2-Z-D: Bílovec-Nový Jičín
END:VEVENT
BEGIN:VEVENT
UID:30653737-3933-4639-b939-326337623362
DTSTAMP:20260423T070900Z
DESCRIPTION:17/66 Bílovec - Polanka 3:0 (23\,25\,15)
DTSTART;TZID=Europe/Berlin:20220122T100000
DTEND;TZID=Europe/Berlin:20220122T120000
LOCATION:Tělocvična GMK Bílovec\, 17. listopadu 526 Bílovec
SUMMARY:2-Z-D: Bílovec-Polanka
END:VEVENT
BEGIN:VEVENT
UID:36633839-3966-4665-a561-393934336363
DTSTAMP:20260423T070900Z
DESCRIPTION:18/70 Bílovec - Polanka 3:0 (14\,13\,15)
DTSTART;TZID=Europe/Berlin:20220122T140000
DTEND;TZID=Europe/Berlin:20220122T160000
LOCATION:Tělocvična GMK Bílovec\, 17. listopadu 526 Bílovec
SUMMARY:2-Z-D: Bílovec-Polanka
END:VEVENT
BEGIN:VEVENT
UID:36376364-3235-4332-b861-613961356538
DTSTAMP:20260423T070900Z
DESCRIPTION:25/100 Bílovec - Frýdek-Místek B 3:0 (21\,20\,20)
DTSTART;TZID=Europe/Berlin:20220305T100000
DTEND;TZID=Europe/Berlin:20220305T120000
LOCATION:Tělocvična GMK Bílovec\, 17. listopadu 526 Bílovec
SUMMARY:2-Z-D: Bílovec-Frýdek-Místek B
END:VEVENT
BEGIN:VEVENT
UID:66386533-6338-4238-a537-383039386433
DTSTAMP:20260423T070900Z
DESCRIPTION:26/104 Bílovec - Frýdek-Místek B 3:0 (13\,23\,22)
DTSTART;TZID=Europe/Berlin:20220305T140000
DTEND;TZID=Europe/Berlin:20220305T160000
LOCATION:Tělocvična GMK Bílovec\, 17. listopadu 526 Bílovec
SUMMARY:2-Z-D: Bílovec-Frýdek-Místek B
END:VEVENT
BEGIN:VEVENT
UID:66363962-6162-4230-a336-343764393932
DTSTAMP:20260423T070900Z
DESCRIPTION:3/10 Polanka - Bílovec 3:1 (19\,21\,-17\,21)
DTSTART;TZID=Europe/Berlin:20211016T090000
DTEND;TZID=Europe/Berlin:20211016T110000
LOCATION:Sportovní hala\, Heleny Salichové 1275 Ostrava - Polanka nad Odrou
SUMMARY:2-Z-D: Polanka-Bílovec
END:VEVENT
BEGIN:VEVENT
UID:30396631-6366-4730-b533-326238616163
DTSTAMP:20260423T070900Z
DESCRIPTION:4/14 Polanka - Bílovec 1:3 (-19\,-19\,21\,-23)
DTSTART;TZID=Europe/Berlin:20211016T130000
DTEND;TZID=Europe/Berlin:20211016T150000
LOCATION:Sportovní hala\, Heleny Salichové 1275 Ostrava - Polanka nad Odrou
SUMMARY:2-Z-D: Polanka-Bílovec
END:VEVENT
BEGIN:VEVENT
UID:63356465-6362-4262-b366-643933633237
DTSTAMP:20260423T070900Z
DESCRIPTION:11/44 Frýdek-Místek B - Bílovec 0:3 (-16\,-14\,-16)
DTSTART;TZID=Europe/Berlin:20220129T100000
DTEND;TZID=Europe/Berlin:20220129T120000
LOCATION:Sokolovna Frýdek-Místek\, Novodvorská 667 Frýdek-Místek - Frýdek
SUMMARY:2-Z-D: Frýdek-Místek B-Bílovec
END:VEVENT
BEGIN:VEVENT
UID:65326430-3762-4261-b666-323336313039
DTSTAMP:20260423T070900Z
DESCRIPTION:12/48 Frýdek-Místek B - Bílovec 0:3 (-13\,-23\,-18)
DTSTART;TZID=Europe/Berlin:20220129T140000
DTEND;TZID=Europe/Berlin:20220129T160000
LOCATION:Sokolovna Frýdek-Místek\, Novodvorská 667 Frýdek-Místek - Frýdek
SUMMARY:2-Z-D: Frýdek-Místek B-Bílovec
END:VEVENT
BEGIN:VEVENT
UID:35353037-6661-4533-b836-393136653730
DTSTAMP:20260423T070900Z
DESCRIPTION:15/60 Ostrava B - Bílovec 0:3 (-15\,-20\,-12)
DTSTART;TZID=Europe/Berlin:20220115T090000
DTEND;TZID=Europe/Berlin:20220115T110000
LOCATION:Hala mládeže\, Gajdošova 1893 Ostrava - Moravská Ostrava
SUMMARY:2-Z-D: Ostrava B-Bílovec
END:VEVENT
BEGIN:VEVENT
UID:61333434-6238-4438-b839-663636633766
DTSTAMP:20260423T070900Z
DESCRIPTION:16/64 Ostrava B - Bílovec 0:3 (-15\,-13\,-15)
DTSTART;TZID=Europe/Berlin:20220115T130000
DTEND;TZID=Europe/Berlin:20220115T150000
LOCATION:Hala mládeže\, Gajdošova 1893 Ostrava - Moravská Ostrava
SUMMARY:2-Z-D: Ostrava B-Bílovec
END:VEVENT
BEGIN:VEVENT
UID:34633335-3063-4462-b739-383838333335
DTSTAMP:20260423T070900Z
DESCRIPTION:19/75 Vsetín - Bílovec 3:1 (-14\,21\,25\,20)
DTSTART;TZID=Europe/Berlin:20220205T100000
DTEND;TZID=Europe/Berlin:20220205T120000
LOCATION:Sportovní hala Na Lapači\, Na Lapači 247 Vsetín - Rokytnice
SUMMARY:2-Z-D: Vsetín-Bílovec
END:VEVENT
BEGIN:VEVENT
UID:39396139-3433-4532-a263-326162646437
DTSTAMP:20260423T070900Z
DESCRIPTION:20/79 Vsetín - Bílovec 0:3 (-17\,-24\,-21)
DTSTART;TZID=Europe/Berlin:20220205T140000
DTEND;TZID=Europe/Berlin:20220205T160000
LOCATION:Sportovní hala Na Lapači\, Na Lapači 247 Vsetín - Rokytnice
SUMMARY:2-Z-D: Vsetín-Bílovec
END:VEVENT
BEGIN:VEVENT
UID:65336430-3134-4064-b737-343836663536
DTSTAMP:20260423T070900Z
DESCRIPTION:23/90 Opava - Bílovec 3:2 (13\,-22\,16\,-22\,5)
DTSTART;TZID=Europe/Berlin:20220226T100000
DTEND;TZID=Europe/Berlin:20220226T120000
LOCATION:Základní škola Opava\, Otická 18\, Otická 722 Opava - Předměstí
SUMMARY:2-Z-D: Opava-Bílovec
END:VEVENT
BEGIN:VEVENT
UID:37363936-3539-4336-b261-633536626463
DTSTAMP:20260423T070900Z
DESCRIPTION:24/94 Opava - Bílovec 3:2 (-20\,18\,19\,-17\,13)
DTSTART;TZID=Europe/Berlin:20220226T140000
DTEND;TZID=Europe/Berlin:20220226T160000
LOCATION:Základní škola Opava\, Otická 18\, Otická 722 Opava - Předměstí
SUMMARY:2-Z-D: Opava-Bílovec
END:VEVENT
BEGIN:VEVENT
UID:30336165-6238-4338-a337-333664623434
DTSTAMP:20260423T070900Z
DESCRIPTION:27/105 Nový Jičín - Bílovec 3:1 (12\,-27\,12\,17)
DTSTART;TZID=Europe/Berlin:20220319T100000
DTEND;TZID=Europe/Berlin:20220319T120000
LOCATION:Hala ABC\, Purkyňova 116 Nový Jičín
SUMMARY:2-Z-D: Nový Jičín-Bílovec
END:VEVENT
BEGIN:VEVENT
UID:61376363-3637-4630-b336-323965306532
DTSTAMP:20260423T070900Z
DESCRIPTION:28/109 Nový Jičín - Bílovec 3:0 (15\,19\,22)
DTSTART;TZID=Europe/Berlin:20220319T140000
DTEND;TZID=Europe/Berlin:20220319T160000
LOCATION:Hala ABC\, Purkyňova 116 Nový Jičín
SUMMARY:2-Z-D: Nový Jičín-Bílovec
END:VEVENT
END:VCALENDAR
