BEGIN:VCALENDAR
VERSION:2.0
PRODID:-//VK Dvůr Králové nad Labem76222//NONSGML kigkonsult.se iCalcreator 2.41.80//
CALSCALE:GREGORIAN
UID:31623564-3465-4435-b333-383331653432
BEGIN:VEVENT
UID:37353363-6537-4161-b838-623465633162
DTSTAMP:20260425T160122Z
DESCRIPTION:3/11 Dvůr Králové - Liberec 0:3 (-17\,-22\,-20)
DTSTART;TZID=Europe/Berlin:20211002T100000
DTEND;TZID=Europe/Berlin:20211002T120000
LOCATION:Hala SŠIS\, nábřeží Jiřího Wolkera 133\, nábřeží Jiřího Wolkera 13
 3 Dvůr Králové nad Labem
SUMMARY:1-JRI-B: Dvůr Králové-Liberec
END:VEVENT
BEGIN:VEVENT
UID:64323963-3732-4364-b133-656137336630
DTSTAMP:20260425T160122Z
DESCRIPTION:4/15 Dvůr Králové - Liberec 0:3 (-16\,-20\,-15)
DTSTART;TZID=Europe/Berlin:20211002T140000
DTEND;TZID=Europe/Berlin:20211002T160000
LOCATION:Hala SŠIS\, nábřeží Jiřího Wolkera 133\, nábřeží Jiřího Wolkera 13
 3 Dvůr Králové nad Labem
SUMMARY:1-JRI-B: Dvůr Králové-Liberec
END:VEVENT
BEGIN:VEVENT
UID:38313731-6661-4330-a662-353531366635
DTSTAMP:20260425T160122Z
DESCRIPTION:7/26 Dvůr Králové - Prosek B 3:2 (-24\,22\,17\,-25\,6)
DTSTART;TZID=Europe/Berlin:20211106T100000
DTEND;TZID=Europe/Berlin:20211106T120000
LOCATION:Hala SŠIS\, nábřeží Jiřího Wolkera 133\, nábřeží Jiřího Wolkera 13
 3 Dvůr Králové nad Labem
SUMMARY:1-JRI-B: Dvůr Králové-Prosek B
END:VEVENT
BEGIN:VEVENT
UID:38313739-6361-4232-b564-363961356638
DTSTAMP:20260425T160122Z
DESCRIPTION:8/30 Dvůr Králové - Prosek B 3:1 (23\,18\,-19\,17)
DTSTART;TZID=Europe/Berlin:20211106T140000
DTEND;TZID=Europe/Berlin:20211106T160000
LOCATION:Hala SŠIS\, nábřeží Jiřího Wolkera 133\, nábřeží Jiřího Wolkera 13
 3 Dvůr Králové nad Labem
SUMMARY:1-JRI-B: Dvůr Králové-Prosek B
END:VEVENT
BEGIN:VEVENT
UID:31333639-6536-4539-a638-343436333764
DTSTAMP:20260425T160122Z
DESCRIPTION:13/52 Dvůr Králové - Orion B 1:3 (19\,-18\,-21\,-23)
DTSTART;TZID=Europe/Berlin:20211211T100000
DTEND;TZID=Europe/Berlin:20211211T120000
LOCATION:Hala ZŠ Strž\, Elišky Krásnohorské 2919 Dvůr Králové nad Labem
SUMMARY:1-JRI-B: Dvůr Králové-Orion B
END:VEVENT
BEGIN:VEVENT
UID:38343839-3764-4631-b232-333564316136
DTSTAMP:20260425T160122Z
DESCRIPTION:14/56 Dvůr Králové - Orion B 0:3 (-21\,-16\,-24)
DTSTART;TZID=Europe/Berlin:20211211T140000
DTEND;TZID=Europe/Berlin:20211211T160000
LOCATION:Hala ZŠ Strž\, Elišky Krásnohorské 2919 Dvůr Králové nad Labem
SUMMARY:1-JRI-B: Dvůr Králové-Orion B
END:VEVENT
BEGIN:VEVENT
UID:31363762-6565-4732-a135-393261373038
DTSTAMP:20260425T160122Z
DESCRIPTION:15/58 Dvůr Králové - Rychnov n. K. 0:3 (-27\,-19\,-16)
DTSTART;TZID=Europe/Berlin:20220108T100000
DTEND;TZID=Europe/Berlin:20220108T120000
LOCATION:Hala ZŠ Strž\, Elišky Krásnohorské 2919 Dvůr Králové nad Labem
SUMMARY:1-JRI-B: Dvůr Králové-Rychnov n. K.
END:VEVENT
BEGIN:VEVENT
UID:32386137-3936-4336-b637-633366323039
DTSTAMP:20260425T160122Z
DESCRIPTION:16/62 Dvůr Králové - Rychnov n. K. 0:3 (-16\,-13\,-23)
DTSTART;TZID=Europe/Berlin:20220108T140000
DTEND;TZID=Europe/Berlin:20220108T160000
LOCATION:Hala ZŠ Strž\, Elišky Krásnohorské 2919 Dvůr Králové nad Labem
SUMMARY:1-JRI-B: Dvůr Králové-Rychnov n. K.
END:VEVENT
BEGIN:VEVENT
UID:64353463-6638-4332-b661-353334346139
DTSTAMP:20260425T160122Z
DESCRIPTION:23/92 Dvůr Králové - Nymburk 0:3 (-18\,-13\,-16)
DTSTART;TZID=Europe/Berlin:20220305T100000
DTEND;TZID=Europe/Berlin:20220305T120000
LOCATION:Hala ZŠ Strž\, Elišky Krásnohorské 2919 Dvůr Králové nad Labem
SUMMARY:1-JRI-B: Dvůr Králové-Nymburk
END:VEVENT
BEGIN:VEVENT
UID:63666664-3462-4132-a633-376632376462
DTSTAMP:20260425T160122Z
DESCRIPTION:24/96 Dvůr Králové - Nymburk 0:3 (-17\,-18\,-9)
DTSTART;TZID=Europe/Berlin:20220305T140000
DTEND;TZID=Europe/Berlin:20220305T160000
LOCATION:Hala ZŠ Strž\, Elišky Krásnohorské 2919 Dvůr Králové nad Labem
SUMMARY:1-JRI-B: Dvůr Králové-Nymburk
END:VEVENT
BEGIN:VEVENT
UID:66373631-3165-4262-b365-393338616633
DTSTAMP:20260425T160122Z
DESCRIPTION:25/97 Dvůr Králové - Odolena Voda 3:1 (21\,-19\,18\,18)
DTSTART;TZID=Europe/Berlin:20220319T100000
DTEND;TZID=Europe/Berlin:20220319T120000
LOCATION:Hala ZŠ Strž\, Elišky Krásnohorské 2919 Dvůr Králové nad Labem
SUMMARY:1-JRI-B: Dvůr Králové-Odolena Voda
END:VEVENT
BEGIN:VEVENT
UID:32323632-3933-4934-b638-653865323236
DTSTAMP:20260425T160122Z
DESCRIPTION:26/101 Dvůr Králové - Odolena Voda 3:0 (23\,15\,20)
DTSTART;TZID=Europe/Berlin:20220319T140000
DTEND;TZID=Europe/Berlin:20220319T160000
LOCATION:Hala ZŠ Strž\, Elišky Krásnohorské 2919 Dvůr Králové nad Labem
SUMMARY:1-JRI-B: Dvůr Králové-Odolena Voda
END:VEVENT
BEGIN:VEVENT
UID:63333532-6633-4630-b134-393433613631
DTSTAMP:20260425T160122Z
DESCRIPTION:1/2 Rychnov n. K. - Dvůr Králové 3:0 (18\,15\,13)
DTSTART;TZID=Europe/Berlin:20210925T100000
DTEND;TZID=Europe/Berlin:20210925T120000
LOCATION:Hala VOŠ a SPŠS\, U Stadionu 1166 Rychnov nad Kněžnou
SUMMARY:1-JRI-B: Rychnov n. K.-Dvůr Králové
END:VEVENT
BEGIN:VEVENT
UID:61393666-6462-4135-a231-343465353666
DTSTAMP:20260425T160122Z
DESCRIPTION:2/6 Rychnov n. K. - Dvůr Králové 3:0 (17\,7\,15)
DTSTART;TZID=Europe/Berlin:20210925T140000
DTEND;TZID=Europe/Berlin:20210925T160000
LOCATION:Hala VOŠ a SPŠS\, U Stadionu 1166 Rychnov nad Kněžnou
SUMMARY:1-JRI-B: Rychnov n. K.-Dvůr Králové
END:VEVENT
BEGIN:VEVENT
UID:33613962-6465-4835-a332-346564393138
DTSTAMP:20260425T160122Z
DESCRIPTION:9/36 Nymburk - Dvůr Králové 3:0 (10\,10\,13)
DTSTART;TZID=Europe/Berlin:20211113T090000
DTEND;TZID=Europe/Berlin:20211113T110000
LOCATION:Zimní stadion\, U Stadionu 12 Nymburk
SUMMARY:1-JRI-B: Nymburk-Dvůr Králové
END:VEVENT
BEGIN:VEVENT
UID:36306635-6161-4138-b263-613733366238
DTSTAMP:20260425T160122Z
DESCRIPTION:10/40 Nymburk - Dvůr Králové 3:0 (13\,17\,21)
DTSTART;TZID=Europe/Berlin:20211113T130000
DTEND;TZID=Europe/Berlin:20211113T150000
LOCATION:Zimní stadion\, U Stadionu 12 Nymburk
SUMMARY:1-JRI-B: Nymburk-Dvůr Králové
END:VEVENT
BEGIN:VEVENT
UID:63613333-3634-4332-a438-396633386638
DTSTAMP:20260425T160122Z
DESCRIPTION:11/41 Odolena Voda - Dvůr Králové 1:3 (-21\,-20\,21\,-20)
DTSTART;TZID=Europe/Berlin:20211127T100000
DTEND;TZID=Europe/Berlin:20211127T120000
LOCATION:Sportovní hala\, Ke Stadionu 375 Odolena Voda
SUMMARY:1-JRI-B: Odolena Voda-Dvůr Králové
END:VEVENT
BEGIN:VEVENT
UID:36396339-6631-4238-a665-386534613164
DTSTAMP:20260425T160122Z
DESCRIPTION:12/45 Odolena Voda - Dvůr Králové 1:3 (-21\,21\,-21\,-21)
DTSTART;TZID=Europe/Berlin:20211127T140000
DTEND;TZID=Europe/Berlin:20211127T160000
LOCATION:Sportovní hala\, Ke Stadionu 375 Odolena Voda
SUMMARY:1-JRI-B: Odolena Voda-Dvůr Králové
END:VEVENT
BEGIN:VEVENT
UID:64663536-6461-4433-b437-663362363466
DTSTAMP:20260425T160122Z
DESCRIPTION:17/67 Liberec - Dvůr Králové 3:1 (21\,-23\,14\,20)
DTSTART;TZID=Europe/Berlin:20220122T100000
DTEND;TZID=Europe/Berlin:20220122T120000
LOCATION:Základní škola\, Liberec\, Švermova 403/40\, Švermova 403 Liberec 
 - Liberec X-Františkov
SUMMARY:1-JRI-B: Liberec-Dvůr Králové
END:VEVENT
BEGIN:VEVENT
UID:35386439-3763-4662-b566-653063313038
DTSTAMP:20260425T160122Z
DESCRIPTION:18/71 Liberec - Dvůr Králové 3:0 (20\,16\,14)
DTSTART;TZID=Europe/Berlin:20220122T140000
DTEND;TZID=Europe/Berlin:20220122T160000
LOCATION:Základní škola\, Liberec\, Švermova 403/40\, Švermova 403 Liberec 
 - Liberec X-Františkov
SUMMARY:1-JRI-B: Liberec-Dvůr Králové
END:VEVENT
BEGIN:VEVENT
UID:36393238-3564-4563-a437-326562313030
DTSTAMP:20260425T160122Z
DESCRIPTION:21/82 Prosek B - Dvůr Králové 3:1 (20\,24\,-21\,19)
DTSTART;TZID=Europe/Berlin:20220219T100000
DTEND;TZID=Europe/Berlin:20220219T120000
LOCATION:SH SK Prosek\, Lovosická 559 Praha - Letňany
SUMMARY:1-JRI-B: Prosek B-Dvůr Králové
END:VEVENT
BEGIN:VEVENT
UID:33643034-3236-4466-b832-356461626636
DTSTAMP:20260425T160122Z
DESCRIPTION:22/86 Prosek B - Dvůr Králové 3:1 (15\,18\,-21\,22)
DTSTART;TZID=Europe/Berlin:20220219T140000
DTEND;TZID=Europe/Berlin:20220219T160000
LOCATION:SH SK Prosek\, Lovosická 559 Praha - Letňany
SUMMARY:1-JRI-B: Prosek B-Dvůr Králové
END:VEVENT
BEGIN:VEVENT
UID:64613732-3966-4130-b035-636132326333
DTSTAMP:20260425T160122Z
DESCRIPTION:27/108 Orion B - Dvůr Králové 1:3 (-17\,-26\,24\,-20)
DTSTART;TZID=Europe/Berlin:20220402T100000
DTEND;TZID=Europe/Berlin:20220402T120000
LOCATION:Sportovní hala DDM Praha 12 - Monet\, Herrmannova 2016 Praha - Mod
 řany
SUMMARY:1-JRI-B: Orion B-Dvůr Králové
END:VEVENT
BEGIN:VEVENT
UID:63636663-3265-4038-a365-393435313436
DTSTAMP:20260425T160122Z
DESCRIPTION:28/112 Orion B - Dvůr Králové 1:3 (-20\,13\,-21\,-23)
DTSTART;TZID=Europe/Berlin:20220402T130000
DTEND;TZID=Europe/Berlin:20220402T150000
LOCATION:Sportovní hala DDM Praha 12 - Monet\, Herrmannova 2016 Praha - Mod
 řany
SUMMARY:1-JRI-B: Orion B-Dvůr Králové
END:VEVENT
END:VCALENDAR
