BEGIN:VCALENDAR
VERSION:2.0
PRODID:-//AERO Odolena Voda76228//NONSGML kigkonsult.se iCalcreator 2.41.80//
CALSCALE:GREGORIAN
UID:31306531-3339-4131-a361-393339363836
BEGIN:VEVENT
UID:36306536-3038-4432-a439-653839353137
DTSTAMP:20260426T000509Z
DESCRIPTION:3/9 Odolena Voda - Prosek B 0:3 (-21\,-21\,-17)
DTSTART;TZID=Europe/Berlin:20211002T100000
DTEND;TZID=Europe/Berlin:20211002T120000
LOCATION:Sportovní hala\, Ke Stadionu 375 Odolena Voda
SUMMARY:1-JRI-B: Odolena Voda-Prosek B
END:VEVENT
BEGIN:VEVENT
UID:36353233-3861-4366-a436-633464633539
DTSTAMP:20260426T000509Z
DESCRIPTION:4/13 Odolena Voda - Prosek B 2:3 (17\,-18\,20\,-21\,-14)
DTSTART;TZID=Europe/Berlin:20211002T140000
DTEND;TZID=Europe/Berlin:20211002T160000
LOCATION:Sportovní hala\, Ke Stadionu 375 Odolena Voda
SUMMARY:1-JRI-B: Odolena Voda-Prosek B
END:VEVENT
BEGIN:VEVENT
UID:30393561-3431-4533-a165-396536343233
DTSTAMP:20260426T000509Z
DESCRIPTION:7/25 Odolena Voda - Nymburk 0:3 (-11\,-18\,-22)
DTSTART;TZID=Europe/Berlin:20211030T100000
DTEND;TZID=Europe/Berlin:20211030T120000
LOCATION:Sportovní hala\, Ke Stadionu 375 Odolena Voda
SUMMARY:1-JRI-B: Odolena Voda-Nymburk
END:VEVENT
BEGIN:VEVENT
UID:35313962-3265-4131-b334-643837373636
DTSTAMP:20260426T000509Z
DESCRIPTION:8/29 Odolena Voda - Nymburk 0:3 (-12\,-21\,-13)
DTSTART;TZID=Europe/Berlin:20211030T140000
DTEND;TZID=Europe/Berlin:20211030T160000
LOCATION:Sportovní hala\, Ke Stadionu 375 Odolena Voda
SUMMARY:1-JRI-B: Odolena Voda-Nymburk
END:VEVENT
BEGIN:VEVENT
UID:64356261-3037-4463-b233-666363306464
DTSTAMP:20260426T000509Z
DESCRIPTION:11/41 Odolena Voda - Dvůr Králové 1:3 (-21\,-20\,21\,-20)
DTSTART;TZID=Europe/Berlin:20211127T100000
DTEND;TZID=Europe/Berlin:20211127T120000
LOCATION:Sportovní hala\, Ke Stadionu 375 Odolena Voda
SUMMARY:1-JRI-B: Odolena Voda-Dvůr Králové
END:VEVENT
BEGIN:VEVENT
UID:35636466-6635-4830-a562-653438323465
DTSTAMP:20260426T000509Z
DESCRIPTION:12/45 Odolena Voda - Dvůr Králové 1:3 (-21\,21\,-21\,-21)
DTSTART;TZID=Europe/Berlin:20211127T140000
DTEND;TZID=Europe/Berlin:20211127T160000
LOCATION:Sportovní hala\, Ke Stadionu 375 Odolena Voda
SUMMARY:1-JRI-B: Odolena Voda-Dvůr Králové
END:VEVENT
BEGIN:VEVENT
UID:39343038-3934-4132-b262-396661626264
DTSTAMP:20260426T000509Z
DESCRIPTION:15/57 Odolena Voda - Orion B 0:3 (-20\,-21\,-18)
DTSTART;TZID=Europe/Berlin:20220108T090000
DTEND;TZID=Europe/Berlin:20220108T110000
LOCATION:Sportovní hala\, Ke Stadionu 375 Odolena Voda
SUMMARY:1-JRI-B: Odolena Voda-Orion B
END:VEVENT
BEGIN:VEVENT
UID:39326664-6632-4232-b865-623665616366
DTSTAMP:20260426T000509Z
DESCRIPTION:16/61 Odolena Voda - Orion B 0:3 (-17\,-17\,-11)
DTSTART;TZID=Europe/Berlin:20220108T130000
DTEND;TZID=Europe/Berlin:20220108T150000
LOCATION:Sportovní hala\, Ke Stadionu 375 Odolena Voda
SUMMARY:1-JRI-B: Odolena Voda-Orion B
END:VEVENT
BEGIN:VEVENT
UID:35666234-3663-4436-b562-343236623734
DTSTAMP:20260426T000509Z
DESCRIPTION:19/73 Odolena Voda - Rychnov n. K. 0:3 (-20\,-17\,-20)
DTSTART;TZID=Europe/Berlin:20220205T100000
DTEND;TZID=Europe/Berlin:20220205T120000
LOCATION:Sportovní hala\, Ke Stadionu 375 Odolena Voda
SUMMARY:1-JRI-B: Odolena Voda-Rychnov n. K.
END:VEVENT
BEGIN:VEVENT
UID:62333366-6634-4061-a565-373361333964
DTSTAMP:20260426T000509Z
DESCRIPTION:20/77 Odolena Voda - Rychnov n. K. 0:3 (-13\,-23\,-14)
DTSTART;TZID=Europe/Berlin:20220205T140000
DTEND;TZID=Europe/Berlin:20220205T160000
LOCATION:Sportovní hala\, Ke Stadionu 375 Odolena Voda
SUMMARY:1-JRI-B: Odolena Voda-Rychnov n. K.
END:VEVENT
BEGIN:VEVENT
UID:31643838-6330-4039-a438-626435373433
DTSTAMP:20260426T000509Z
DESCRIPTION:23/89 Odolena Voda - Liberec 2:3 (-19\,16\,17\,-21\,-10)
DTSTART;TZID=Europe/Berlin:20220305T100000
DTEND;TZID=Europe/Berlin:20220305T120000
LOCATION:Sportovní hala\, Ke Stadionu 375 Odolena Voda
SUMMARY:1-JRI-B: Odolena Voda-Liberec
END:VEVENT
BEGIN:VEVENT
UID:36343633-3364-4961-a336-323635616335
DTSTAMP:20260426T000509Z
DESCRIPTION:24/93 Odolena Voda - Liberec 3:2 (-26\,22\,-21\,16\,5)
DTSTART;TZID=Europe/Berlin:20220305T140000
DTEND;TZID=Europe/Berlin:20220305T160000
LOCATION:Sportovní hala\, Ke Stadionu 375 Odolena Voda
SUMMARY:1-JRI-B: Odolena Voda-Liberec
END:VEVENT
BEGIN:VEVENT
UID:33323032-3332-4838-b930-353261663435
DTSTAMP:20260426T000509Z
DESCRIPTION:1/1 Orion B - Odolena Voda 3:1 (18\,-20\,14\,17)
DTSTART;TZID=Europe/Berlin:20210925T100000
DTEND;TZID=Europe/Berlin:20210925T120000
LOCATION:Sportovní hala DDM Praha 12 - Monet\, Herrmannova 2016 Praha - Mod
 řany
SUMMARY:1-JRI-B: Orion B-Odolena Voda
END:VEVENT
BEGIN:VEVENT
UID:66383561-6530-4562-a138-346134333534
DTSTAMP:20260426T000509Z
DESCRIPTION:2/5 Orion B - Odolena Voda 3:0 (14\,15\,15)
DTSTART;TZID=Europe/Berlin:20210925T130000
DTEND;TZID=Europe/Berlin:20210925T150000
LOCATION:Sportovní hala DDM Praha 12 - Monet\, Herrmannova 2016 Praha - Mod
 řany
SUMMARY:1-JRI-B: Orion B-Odolena Voda
END:VEVENT
BEGIN:VEVENT
UID:63323639-6264-4866-b137-306431303133
DTSTAMP:20260426T000509Z
DESCRIPTION:5/17 Rychnov n. K. - Odolena Voda 3:0 (16\,21\,14)
DTSTART;TZID=Europe/Berlin:20211016T100000
DTEND;TZID=Europe/Berlin:20211016T120000
LOCATION:Hala VOŠ a SPŠS\, U Stadionu 1166 Rychnov nad Kněžnou
SUMMARY:1-JRI-B: Rychnov n. K.-Odolena Voda
END:VEVENT
BEGIN:VEVENT
UID:63663030-6136-4332-a166-343766353031
DTSTAMP:20260426T000509Z
DESCRIPTION:6/21 Rychnov n. K. - Odolena Voda 3:1 (18\,13\,-21\,12)
DTSTART;TZID=Europe/Berlin:20211016T140000
DTEND;TZID=Europe/Berlin:20211016T160000
LOCATION:Hala VOŠ a SPŠS\, U Stadionu 1166 Rychnov nad Kněžnou
SUMMARY:1-JRI-B: Rychnov n. K.-Odolena Voda
END:VEVENT
BEGIN:VEVENT
UID:64313936-3639-4232-b535-613766343761
DTSTAMP:20260426T000509Z
DESCRIPTION:9/33 Liberec - Odolena Voda 3:1 (22\,15\,-23\,14)
DTSTART;TZID=Europe/Berlin:20211113T100000
DTEND;TZID=Europe/Berlin:20211113T120000
LOCATION:Základní škola\, Liberec\, Švermova 403/40\, Švermova 403 Liberec 
 - Liberec X-Františkov
SUMMARY:1-JRI-B: Liberec-Odolena Voda
END:VEVENT
BEGIN:VEVENT
UID:34363265-6635-4562-a466-366138663265
DTSTAMP:20260426T000509Z
DESCRIPTION:10/37 Liberec - Odolena Voda 3:1 (19\,19\,-26\,14)
DTSTART;TZID=Europe/Berlin:20211113T140000
DTEND;TZID=Europe/Berlin:20211113T160000
LOCATION:Základní škola\, Liberec\, Švermova 403/40\, Švermova 403 Liberec 
 - Liberec X-Františkov
SUMMARY:1-JRI-B: Liberec-Odolena Voda
END:VEVENT
BEGIN:VEVENT
UID:30366535-3136-4862-b732-373531353134
DTSTAMP:20260426T000509Z
DESCRIPTION:17/65 Prosek B - Odolena Voda 3:0 (20\,17\,19)\nDohrávka
DTSTART;TZID=Europe/Berlin:20220312T100000
DTEND;TZID=Europe/Berlin:20220312T120000
LOCATION:SH SK Prosek\, Lovosická 559 Praha - Letňany
SUMMARY:1-JRI-B: Prosek B-Odolena Voda
END:VEVENT
BEGIN:VEVENT
UID:65333037-6463-4332-a531-316133653836
DTSTAMP:20260426T000509Z
DESCRIPTION:18/69 Prosek B - Odolena Voda 3:0 (20\,17\,19)\nDohrávka
DTSTART;TZID=Europe/Berlin:20220312T140000
DTEND;TZID=Europe/Berlin:20220312T160000
LOCATION:SH SK Prosek\, Lovosická 559 Praha - Letňany
SUMMARY:1-JRI-B: Prosek B-Odolena Voda
END:VEVENT
BEGIN:VEVENT
UID:38383764-3137-4165-b638-353739346632
DTSTAMP:20260426T000509Z
DESCRIPTION:21/81 Nymburk - Odolena Voda 3:0 (14\,18\,20)
DTSTART;TZID=Europe/Berlin:20220219T100000
DTEND;TZID=Europe/Berlin:20220219T120000
LOCATION:Zimní stadion\, U Stadionu 12 Nymburk
SUMMARY:1-JRI-B: Nymburk-Odolena Voda
END:VEVENT
BEGIN:VEVENT
UID:64653631-3961-4664-a664-346263396134
DTSTAMP:20260426T000509Z
DESCRIPTION:22/85 Nymburk - Odolena Voda 3:0 (18\,10\,19)
DTSTART;TZID=Europe/Berlin:20220219T140000
DTEND;TZID=Europe/Berlin:20220219T160000
LOCATION:Zimní stadion\, U Stadionu 12 Nymburk
SUMMARY:1-JRI-B: Nymburk-Odolena Voda
END:VEVENT
BEGIN:VEVENT
UID:38646332-6135-4234-a239-346536643637
DTSTAMP:20260426T000509Z
DESCRIPTION:25/97 Dvůr Králové - Odolena Voda 3:1 (21\,-19\,18\,18)
DTSTART;TZID=Europe/Berlin:20220319T100000
DTEND;TZID=Europe/Berlin:20220319T120000
LOCATION:Hala ZŠ Strž\, Elišky Krásnohorské 2919 Dvůr Králové nad Labem
SUMMARY:1-JRI-B: Dvůr Králové-Odolena Voda
END:VEVENT
BEGIN:VEVENT
UID:66386465-3134-4838-b565-383233333463
DTSTAMP:20260426T000509Z
DESCRIPTION:26/101 Dvůr Králové - Odolena Voda 3:0 (23\,15\,20)
DTSTART;TZID=Europe/Berlin:20220319T140000
DTEND;TZID=Europe/Berlin:20220319T160000
LOCATION:Hala ZŠ Strž\, Elišky Krásnohorské 2919 Dvůr Králové nad Labem
SUMMARY:1-JRI-B: Dvůr Králové-Odolena Voda
END:VEVENT
END:VCALENDAR
