BEGIN:VCALENDAR
VERSION:2.0
PRODID:-//Volejbal Sokolov76231//NONSGML kigkonsult.se iCalcreator 2.41.80//
CALSCALE:GREGORIAN
UID:34626336-3538-4035-a461-656532636130
BEGIN:VEVENT
UID:30666139-6166-4135-b330-383533313766
DTSTAMP:20260426T000424Z
DESCRIPTION:3/11 Sokolov - Kladno 3:0 (19\,19\,20)
DTSTART;TZID=Europe/Berlin:20211002T110000
DTEND;TZID=Europe/Berlin:20211002T130000
LOCATION:Nová sportovní hala ISŠTE Sokolov\, Jednoty 1620 Sokolov
SUMMARY:1-JRI-A: Sokolov-Kladno
END:VEVENT
BEGIN:VEVENT
UID:36626231-3463-4333-b635-393566313139
DTSTAMP:20260426T000424Z
DESCRIPTION:4/15 Sokolov - Kladno 3:2 (13\,22\,-21\,-22\,9)
DTSTART;TZID=Europe/Berlin:20211002T150000
DTEND;TZID=Europe/Berlin:20211002T170000
LOCATION:Nová sportovní hala ISŠTE Sokolov\, Jednoty 1620 Sokolov
SUMMARY:1-JRI-A: Sokolov-Kladno
END:VEVENT
BEGIN:VEVENT
UID:63326139-6161-4939-b965-636466633366
DTSTAMP:20260426T000424Z
DESCRIPTION:7/26 Sokolov - Plzeň 3:0 (22\,23\,22)
DTSTART;TZID=Europe/Berlin:20211030T100000
DTEND;TZID=Europe/Berlin:20211030T120000
LOCATION:Jiskra\, Maxima Gorkého 280 Sokolov
SUMMARY:1-JRI-A: Sokolov-Plzeň
END:VEVENT
BEGIN:VEVENT
UID:64653865-3761-4138-b332-353963653362
DTSTAMP:20260426T000424Z
DESCRIPTION:8/30 Sokolov - Plzeň 0:3 (-19\,-21\,-22)
DTSTART;TZID=Europe/Berlin:20211030T140000
DTEND;TZID=Europe/Berlin:20211030T160000
LOCATION:Jiskra\, Maxima Gorkého 280 Sokolov
SUMMARY:1-JRI-A: Sokolov-Plzeň
END:VEVENT
BEGIN:VEVENT
UID:37396238-6663-4664-b933-366530636134
DTSTAMP:20260426T000424Z
DESCRIPTION:13/52 Sokolov - Č. Budějovice B 3:0 (18\,21\,17)
DTSTART;TZID=Europe/Berlin:20211211T090000
DTEND;TZID=Europe/Berlin:20211211T110000
LOCATION:Jiskra\, Maxima Gorkého 280 Sokolov
SUMMARY:1-JRI-A: Sokolov-Č. Budějovice B
END:VEVENT
BEGIN:VEVENT
UID:31643436-3332-4163-b865-666135346435
DTSTAMP:20260426T000424Z
DESCRIPTION:14/56 Sokolov - Č. Budějovice B 3:1 (-24\,19\,18\,18)
DTSTART;TZID=Europe/Berlin:20211211T130000
DTEND;TZID=Europe/Berlin:20211211T150000
LOCATION:Jiskra\, Maxima Gorkého 280 Sokolov
SUMMARY:1-JRI-A: Sokolov-Č. Budějovice B
END:VEVENT
BEGIN:VEVENT
UID:62323761-3466-4762-b262-333564333832
DTSTAMP:20260426T000424Z
DESCRIPTION:19/75 Sokolov - Lvi B 3:1 (-14\,23\,22\,20)
DTSTART;TZID=Europe/Berlin:20220204T120000
DTEND;TZID=Europe/Berlin:20220204T140000
LOCATION:Jiskra\, Maxima Gorkého 280 Sokolov
SUMMARY:1-JRI-A: Sokolov-Lvi B
END:VEVENT
BEGIN:VEVENT
UID:37643739-6434-4265-b564-346336393536
DTSTAMP:20260426T000424Z
DESCRIPTION:20/79 Sokolov - Lvi B 2:3 (24\,-18\,23\,-20\,-20)
DTSTART;TZID=Europe/Berlin:20220204T150000
DTEND;TZID=Europe/Berlin:20220204T170000
LOCATION:Jiskra\, Maxima Gorkého 280 Sokolov
SUMMARY:1-JRI-A: Sokolov-Lvi B
END:VEVENT
BEGIN:VEVENT
UID:39313162-3061-4861-a134-656336666162
DTSTAMP:20260426T000424Z
DESCRIPTION:23/92 Sokolov - Dansport 0:3 (-16\,-21\,-17)
DTSTART;TZID=Europe/Berlin:20220305T100000
DTEND;TZID=Europe/Berlin:20220305T120000
LOCATION:Jiskra\, Maxima Gorkého 280 Sokolov
SUMMARY:1-JRI-A: Sokolov-Dansport
END:VEVENT
BEGIN:VEVENT
UID:37356236-6335-4630-b262-336663663166
DTSTAMP:20260426T000424Z
DESCRIPTION:24/96 Sokolov - Dansport 0:3 (-14\,-14\,-18)
DTSTART;TZID=Europe/Berlin:20220305T140000
DTEND;TZID=Europe/Berlin:20220305T160000
LOCATION:Jiskra\, Maxima Gorkého 280 Sokolov
SUMMARY:1-JRI-A: Sokolov-Dansport
END:VEVENT
BEGIN:VEVENT
UID:37396236-6564-4138-a137-346234343663
DTSTAMP:20260426T000424Z
DESCRIPTION:25/97 Sokolov - Č. Krumlov 3:2 (-19\,-27\,16\,22\,13)
DTSTART;TZID=Europe/Berlin:20211017T100000
DTEND;TZID=Europe/Berlin:20211017T120000
LOCATION:Jiskra\, Maxima Gorkého 280 Sokolov
SUMMARY:1-JRI-A: Sokolov-Č. Krumlov
END:VEVENT
BEGIN:VEVENT
UID:30323131-6435-4435-b666-313264323361
DTSTAMP:20260426T000424Z
DESCRIPTION:26/101 Sokolov - Č. Krumlov 3:1 (18\,22\,-23\,24)
DTSTART;TZID=Europe/Berlin:20211017T140000
DTEND;TZID=Europe/Berlin:20211017T160000
LOCATION:Jiskra\, Maxima Gorkého 280 Sokolov
SUMMARY:1-JRI-A: Sokolov-Č. Krumlov
END:VEVENT
BEGIN:VEVENT
UID:31386438-6436-4264-b464-366531613865
DTSTAMP:20260426T000424Z
DESCRIPTION:5/19 Lvi B - Sokolov 3:2 (16\,14\,-24\,-22\,16)
DTSTART;TZID=Europe/Berlin:20211016T100000
DTEND;TZID=Europe/Berlin:20211016T120000
LOCATION:Sportovní hala Lužiny\, Bellušova 1877 Praha - Stodůlky
SUMMARY:1-JRI-A: Lvi B-Sokolov
END:VEVENT
BEGIN:VEVENT
UID:35666566-3461-4665-b234-346464396161
DTSTAMP:20260426T000424Z
DESCRIPTION:6/23 Lvi B - Sokolov 3:0 (22\,17\,19)
DTSTART;TZID=Europe/Berlin:20211016T140000
DTEND;TZID=Europe/Berlin:20211016T160000
LOCATION:Sportovní hala Lužiny\, Bellušova 1877 Praha - Stodůlky
SUMMARY:1-JRI-A: Lvi B-Sokolov
END:VEVENT
BEGIN:VEVENT
UID:62386461-3430-4137-b831-306539383134
DTSTAMP:20260426T000424Z
DESCRIPTION:9/36 Dansport - Sokolov 3:0 (20\,16\,23)
DTSTART;TZID=Europe/Berlin:20211113T090000
DTEND;TZID=Europe/Berlin:20211113T110000
LOCATION:Sportovní hala Gymnázia Jana Keplera\, Parléřova 118 Praha - Hradč
 any
SUMMARY:1-JRI-A: Dansport-Sokolov
END:VEVENT
BEGIN:VEVENT
UID:62656530-3561-4235-b734-363732326366
DTSTAMP:20260426T000424Z
DESCRIPTION:10/40 Dansport - Sokolov 2:3 (18\,-23\,-19\,23\,-14)
DTSTART;TZID=Europe/Berlin:20211113T130000
DTEND;TZID=Europe/Berlin:20211113T150000
LOCATION:Sportovní hala Gymnázia Jana Keplera\, Parléřova 118 Praha - Hradč
 any
SUMMARY:1-JRI-A: Dansport-Sokolov
END:VEVENT
BEGIN:VEVENT
UID:34613762-6237-4737-b161-353664633632
DTSTAMP:20260426T000424Z
DESCRIPTION:11/41 Č. Krumlov - Sokolov 3:1 (21\,18\,-21\,22)
DTSTART;TZID=Europe/Berlin:20211128T110000
DTEND;TZID=Europe/Berlin:20211128T130000
LOCATION:ZŠ Za Nádražím Český Krumlov\, Za Nádražím 222 Český Krumlov - Nád
 ražní Předměstí
SUMMARY:1-JRI-A: Č. Krumlov-Sokolov
END:VEVENT
BEGIN:VEVENT
UID:65343731-6539-4062-b361-356334623334
DTSTAMP:20260426T000424Z
DESCRIPTION:12/45 Č. Krumlov - Sokolov 2:3 (-19\,-21\,25\,15\,-8)
DTSTART;TZID=Europe/Berlin:20211128T150000
DTEND;TZID=Europe/Berlin:20211128T170000
LOCATION:ZŠ Za Nádražím Český Krumlov\, Za Nádražím 222 Český Krumlov - Nád
 ražní Předměstí
SUMMARY:1-JRI-A: Č. Krumlov-Sokolov
END:VEVENT
BEGIN:VEVENT
UID:33666163-3761-4132-b533-306566303662
DTSTAMP:20260426T000424Z
DESCRIPTION:17/67 Kladno - Sokolov 2:3 (-19\,23\,-22\,19\,-12)
DTSTART;TZID=Europe/Berlin:20220122T090000
DTEND;TZID=Europe/Berlin:20220122T110000
LOCATION:Kladenská sportovní hala\, Sportovců 817 Kladno - Rozdělov
SUMMARY:1-JRI-A: Kladno-Sokolov
END:VEVENT
BEGIN:VEVENT
UID:34393464-3937-4162-b166-396666633561
DTSTAMP:20260426T000424Z
DESCRIPTION:18/71 Kladno - Sokolov 3:2 (-25\,-23\,23\,13\,11)
DTSTART;TZID=Europe/Berlin:20220122T130000
DTEND;TZID=Europe/Berlin:20220122T150000
LOCATION:Kladenská sportovní hala\, Sportovců 817 Kladno - Rozdělov
SUMMARY:1-JRI-A: Kladno-Sokolov
END:VEVENT
BEGIN:VEVENT
UID:65633039-3662-4464-a532-363861326336
DTSTAMP:20260426T000424Z
DESCRIPTION:21/82 Plzeň - Sokolov 3:0 (17\,21\,26)
DTSTART;TZID=Europe/Berlin:20220326T100000
DTEND;TZID=Europe/Berlin:20220326T120000
LOCATION:Hala PF ZČU Plzeň\, Klatovská třída 1736 Plzeň - Jižní Předměstí
SUMMARY:1-JRI-A: Plzeň-Sokolov
END:VEVENT
BEGIN:VEVENT
UID:39303630-6336-4533-a634-343531313031
DTSTAMP:20260426T000424Z
DESCRIPTION:22/86 Plzeň - Sokolov 0:3 (-22\,-19\,-20)
DTSTART;TZID=Europe/Berlin:20220326T140000
DTEND;TZID=Europe/Berlin:20220326T160000
LOCATION:Hala PF ZČU Plzeň\, Klatovská třída 1736 Plzeň - Jižní Předměstí
SUMMARY:1-JRI-A: Plzeň-Sokolov
END:VEVENT
BEGIN:VEVENT
UID:37643163-3535-4264-b730-356439303233
DTSTAMP:20260426T000424Z
DESCRIPTION:27/108 Č. Budějovice B - Sokolov 3:2 (-21\,-17\,20\,20\,7)
DTSTART;TZID=Europe/Berlin:20220402T110000
DTEND;TZID=Europe/Berlin:20220402T130000
LOCATION:ZŠ Oskara Nedbala České Budějovice\, O. Nedbala 882 České Budějovi
 ce - České Budějovice 2
SUMMARY:1-JRI-A: Č. Budějovice B-Sokolov
END:VEVENT
BEGIN:VEVENT
UID:32626336-3537-4437-b036-313437643233
DTSTAMP:20260426T000424Z
DESCRIPTION:28/112 Č. Budějovice B - Sokolov 3:0 (16\,16\,27)
DTSTART;TZID=Europe/Berlin:20220402T150000
DTEND;TZID=Europe/Berlin:20220402T170000
LOCATION:ZŠ Oskara Nedbala České Budějovice\, O. Nedbala 882 České Budějovi
 ce - České Budějovice 2
SUMMARY:1-JRI-A: Č. Budějovice B-Sokolov
END:VEVENT
END:VCALENDAR
