BEGIN:VCALENDAR
VERSION:2.0
PRODID:-//TJ SLAVIA Liberec76239//NONSGML kigkonsult.se iCalcreator 2.41.80//
CALSCALE:GREGORIAN
UID:32646133-3862-4930-b666-356165353639
BEGIN:VEVENT
UID:38326264-3236-4661-a334-383966376236
DTSTAMP:20260425T202452Z
DESCRIPTION:1/3 Liberec - Nymburk 2:3 (-20\,23\,18\,-21\,-11)
DTSTART;TZID=Europe/Berlin:20210925T100000
DTEND;TZID=Europe/Berlin:20210925T120000
LOCATION:Základní škola\, Liberec\, Švermova 403/40\, Švermova 403 Liberec 
 - Liberec X-Františkov
SUMMARY:1-JRI-B: Liberec-Nymburk
END:VEVENT
BEGIN:VEVENT
UID:33333766-3635-4135-b939-313363316662
DTSTAMP:20260425T202452Z
DESCRIPTION:2/7 Liberec - Nymburk 0:3 (-18\,-13\,-21)
DTSTART;TZID=Europe/Berlin:20210925T140000
DTEND;TZID=Europe/Berlin:20210925T160000
LOCATION:Základní škola\, Liberec\, Švermova 403/40\, Švermova 403 Liberec 
 - Liberec X-Františkov
SUMMARY:1-JRI-B: Liberec-Nymburk
END:VEVENT
BEGIN:VEVENT
UID:36333436-3065-4934-b931-656539396338
DTSTAMP:20260425T202452Z
DESCRIPTION:5/18 Liberec - Orion B 0:3 (-20\,-23\,-21)
DTSTART;TZID=Europe/Berlin:20211016T100000
DTEND;TZID=Europe/Berlin:20211016T120000
LOCATION:Základní škola\, Liberec\, Švermova 403/40\, Švermova 403 Liberec 
 - Liberec X-Františkov
SUMMARY:1-JRI-B: Liberec-Orion B
END:VEVENT
BEGIN:VEVENT
UID:64353762-3531-4663-b265-333139633030
DTSTAMP:20260425T202452Z
DESCRIPTION:6/22 Liberec - Orion B 3:1 (19\,-21\,21\,19)
DTSTART;TZID=Europe/Berlin:20211016T140000
DTEND;TZID=Europe/Berlin:20211016T160000
LOCATION:Základní škola\, Liberec\, Švermova 403/40\, Švermova 403 Liberec 
 - Liberec X-Františkov
SUMMARY:1-JRI-B: Liberec-Orion B
END:VEVENT
BEGIN:VEVENT
UID:36393362-6466-4937-a462-663231383764
DTSTAMP:20260425T202452Z
DESCRIPTION:9/33 Liberec - Odolena Voda 3:1 (22\,15\,-23\,14)
DTSTART;TZID=Europe/Berlin:20211113T100000
DTEND;TZID=Europe/Berlin:20211113T120000
LOCATION:Základní škola\, Liberec\, Švermova 403/40\, Švermova 403 Liberec 
 - Liberec X-Františkov
SUMMARY:1-JRI-B: Liberec-Odolena Voda
END:VEVENT
BEGIN:VEVENT
UID:34383431-3139-4534-a562-643030396261
DTSTAMP:20260425T202452Z
DESCRIPTION:10/37 Liberec - Odolena Voda 3:1 (19\,19\,-26\,14)
DTSTART;TZID=Europe/Berlin:20211113T140000
DTEND;TZID=Europe/Berlin:20211113T160000
LOCATION:Základní škola\, Liberec\, Švermova 403/40\, Švermova 403 Liberec 
 - Liberec X-Františkov
SUMMARY:1-JRI-B: Liberec-Odolena Voda
END:VEVENT
BEGIN:VEVENT
UID:61656163-3332-4961-a138-393630346564
DTSTAMP:20260425T202452Z
DESCRIPTION:17/67 Liberec - Dvůr Králové 3:1 (21\,-23\,14\,20)
DTSTART;TZID=Europe/Berlin:20220122T100000
DTEND;TZID=Europe/Berlin:20220122T120000
LOCATION:Základní škola\, Liberec\, Švermova 403/40\, Švermova 403 Liberec 
 - Liberec X-Františkov
SUMMARY:1-JRI-B: Liberec-Dvůr Králové
END:VEVENT
BEGIN:VEVENT
UID:37396665-3431-4162-a162-633262323133
DTSTAMP:20260425T202452Z
DESCRIPTION:18/71 Liberec - Dvůr Králové 3:0 (20\,16\,14)
DTSTART;TZID=Europe/Berlin:20220122T140000
DTEND;TZID=Europe/Berlin:20220122T160000
LOCATION:Základní škola\, Liberec\, Švermova 403/40\, Švermova 403 Liberec 
 - Liberec X-Františkov
SUMMARY:1-JRI-B: Liberec-Dvůr Králové
END:VEVENT
BEGIN:VEVENT
UID:38363461-3163-4233-a131-336236663261
DTSTAMP:20260425T202452Z
DESCRIPTION:21/84 Liberec - Rychnov n. K. 0:3 (-12\,-29\,-20)
DTSTART;TZID=Europe/Berlin:20220219T100000
DTEND;TZID=Europe/Berlin:20220219T120000
LOCATION:Základní škola\, Liberec\, Švermova 403/40\, Švermova 403 Liberec 
 - Liberec X-Františkov
SUMMARY:1-JRI-B: Liberec-Rychnov n. K.
END:VEVENT
BEGIN:VEVENT
UID:62343530-3763-4234-b231-353862393565
DTSTAMP:20260425T202452Z
DESCRIPTION:22/88 Liberec - Rychnov n. K. 1:3 (23\,-15\,-14\,-12)
DTSTART;TZID=Europe/Berlin:20220219T140000
DTEND;TZID=Europe/Berlin:20220219T160000
LOCATION:Základní škola\, Liberec\, Švermova 403/40\, Švermova 403 Liberec 
 - Liberec X-Františkov
SUMMARY:1-JRI-B: Liberec-Rychnov n. K.
END:VEVENT
BEGIN:VEVENT
UID:38666230-3333-4132-b833-396162366638
DTSTAMP:20260425T202452Z
DESCRIPTION:27/106 Liberec - Prosek B 3:2 (20\,-20\,-20\,22\,12)
DTSTART;TZID=Europe/Berlin:20220402T100000
DTEND;TZID=Europe/Berlin:20220402T120000
LOCATION:Základní škola\, Liberec\, Švermova 403/40\, Švermova 403 Liberec 
 - Liberec X-Františkov
SUMMARY:1-JRI-B: Liberec-Prosek B
END:VEVENT
BEGIN:VEVENT
UID:62376463-6561-4839-b337-383033646639
DTSTAMP:20260425T202452Z
DESCRIPTION:28/110 Liberec - Prosek B 3:0 (18\,23\,23)
DTSTART;TZID=Europe/Berlin:20220402T140000
DTEND;TZID=Europe/Berlin:20220402T160000
LOCATION:Základní škola\, Liberec\, Švermova 403/40\, Švermova 403 Liberec 
 - Liberec X-Františkov
SUMMARY:1-JRI-B: Liberec-Prosek B
END:VEVENT
BEGIN:VEVENT
UID:32626130-3538-4333-b330-613136613632
DTSTAMP:20260425T202452Z
DESCRIPTION:3/11 Dvůr Králové - Liberec 0:3 (-17\,-22\,-20)
DTSTART;TZID=Europe/Berlin:20211002T100000
DTEND;TZID=Europe/Berlin:20211002T120000
LOCATION:Hala SŠIS\, nábřeží Jiřího Wolkera 133\, nábřeží Jiřího Wolkera 13
 3 Dvůr Králové nad Labem
SUMMARY:1-JRI-B: Dvůr Králové-Liberec
END:VEVENT
BEGIN:VEVENT
UID:61363561-3635-4931-b734-633433373738
DTSTAMP:20260425T202452Z
DESCRIPTION:4/15 Dvůr Králové - Liberec 0:3 (-16\,-20\,-15)
DTSTART;TZID=Europe/Berlin:20211002T140000
DTEND;TZID=Europe/Berlin:20211002T160000
LOCATION:Hala SŠIS\, nábřeží Jiřího Wolkera 133\, nábřeží Jiřího Wolkera 13
 3 Dvůr Králové nad Labem
SUMMARY:1-JRI-B: Dvůr Králové-Liberec
END:VEVENT
BEGIN:VEVENT
UID:36623334-3238-4366-a435-636637626235
DTSTAMP:20260425T202452Z
DESCRIPTION:7/28 Rychnov n. K. - Liberec X:3
DTSTART;TZID=Europe/Berlin:20211030T100000
DTEND;TZID=Europe/Berlin:20211030T120000
LOCATION:Hala VOŠ a SPŠS\, U Stadionu 1166 Rychnov nad Kněžnou
SUMMARY:1-JRI-B: Rychnov n. K.-Liberec
END:VEVENT
BEGIN:VEVENT
UID:31623437-6338-4061-a136-313736636534
DTSTAMP:20260425T202452Z
DESCRIPTION:8/32 Rychnov n. K. - Liberec X:3
DTSTART;TZID=Europe/Berlin:20211030T140000
DTEND;TZID=Europe/Berlin:20211030T160000
LOCATION:Hala VOŠ a SPŠS\, U Stadionu 1166 Rychnov nad Kněžnou
SUMMARY:1-JRI-B: Rychnov n. K.-Liberec
END:VEVENT
BEGIN:VEVENT
UID:63333331-6434-4864-b033-636432393731
DTSTAMP:20260425T202452Z
DESCRIPTION:13/50 Prosek B - Liberec 3:0 (26\,20\,14)
DTSTART;TZID=Europe/Berlin:20211211T100000
DTEND;TZID=Europe/Berlin:20211211T120000
LOCATION:SH SK Prosek\, Lovosická 559 Praha - Letňany
SUMMARY:1-JRI-B: Prosek B-Liberec
END:VEVENT
BEGIN:VEVENT
UID:66643835-3736-4234-b431-643630623431
DTSTAMP:20260425T202452Z
DESCRIPTION:14/54 Prosek B - Liberec 3:0 (17\,20\,18)
DTSTART;TZID=Europe/Berlin:20211211T140000
DTEND;TZID=Europe/Berlin:20211211T160000
LOCATION:SH SK Prosek\, Lovosická 559 Praha - Letňany
SUMMARY:1-JRI-B: Prosek B-Liberec
END:VEVENT
BEGIN:VEVENT
UID:63396361-3433-4930-a661-663562653436
DTSTAMP:20260425T202452Z
DESCRIPTION:15/59 Nymburk - Liberec 1:3 (-23\,-17\,15\,-13)
DTSTART;TZID=Europe/Berlin:20220108T090000
DTEND;TZID=Europe/Berlin:20220108T110000
LOCATION:Zimní stadion\, U Stadionu 12 Nymburk
SUMMARY:1-JRI-B: Nymburk-Liberec
END:VEVENT
BEGIN:VEVENT
UID:61643136-6138-4637-a566-386663626433
DTSTAMP:20260425T202452Z
DESCRIPTION:16/63 Nymburk - Liberec 3:0 (26\,18\,15)
DTSTART;TZID=Europe/Berlin:20220108T130000
DTEND;TZID=Europe/Berlin:20220108T150000
LOCATION:Zimní stadion\, U Stadionu 12 Nymburk
SUMMARY:1-JRI-B: Nymburk-Liberec
END:VEVENT
BEGIN:VEVENT
UID:62636532-3563-4537-b432-613432363663
DTSTAMP:20260425T202452Z
DESCRIPTION:19/74 Orion B - Liberec 3:0 (19\,11\,21)
DTSTART;TZID=Europe/Berlin:20220205T090000
DTEND;TZID=Europe/Berlin:20220205T110000
LOCATION:Sportovní hala DDM Praha 12 - Monet\, Herrmannova 2016 Praha - Mod
 řany
SUMMARY:1-JRI-B: Orion B-Liberec
END:VEVENT
BEGIN:VEVENT
UID:33623131-6331-4866-b335-663537353966
DTSTAMP:20260425T202452Z
DESCRIPTION:20/78 Orion B - Liberec 3:0 (23\,14\,18)
DTSTART;TZID=Europe/Berlin:20220205T130000
DTEND;TZID=Europe/Berlin:20220205T150000
LOCATION:Sportovní hala DDM Praha 12 - Monet\, Herrmannova 2016 Praha - Mod
 řany
SUMMARY:1-JRI-B: Orion B-Liberec
END:VEVENT
BEGIN:VEVENT
UID:35666434-3863-4637-a635-613639323563
DTSTAMP:20260425T202452Z
DESCRIPTION:23/89 Odolena Voda - Liberec 2:3 (-19\,16\,17\,-21\,-10)
DTSTART;TZID=Europe/Berlin:20220305T100000
DTEND;TZID=Europe/Berlin:20220305T120000
LOCATION:Sportovní hala\, Ke Stadionu 375 Odolena Voda
SUMMARY:1-JRI-B: Odolena Voda-Liberec
END:VEVENT
BEGIN:VEVENT
UID:35316638-3165-4061-a133-316662373166
DTSTAMP:20260425T202452Z
DESCRIPTION:24/93 Odolena Voda - Liberec 3:2 (-26\,22\,-21\,16\,5)
DTSTART;TZID=Europe/Berlin:20220305T140000
DTEND;TZID=Europe/Berlin:20220305T160000
LOCATION:Sportovní hala\, Ke Stadionu 375 Odolena Voda
SUMMARY:1-JRI-B: Odolena Voda-Liberec
END:VEVENT
END:VCALENDAR
