BEGIN:VCALENDAR
VERSION:2.0
PRODID:-//VK Hronov76260//NONSGML kigkonsult.se iCalcreator 2.41.80//
CALSCALE:GREGORIAN
UID:38396130-3638-4037-a136-656566323863
BEGIN:VEVENT
UID:34336666-6266-4730-b365-306662393730
DTSTAMP:20260423T070848Z
DESCRIPTION:3/8 Hronov - Nymburk 1:3 (22\,-20\,-18\,-15)
DTSTART;TZID=Europe/Berlin:20211009T100000
DTEND;TZID=Europe/Berlin:20211009T120000
LOCATION:ZŠ Hronov\, Palackého 162 Hronov
SUMMARY:1-JKY-B: Hronov-Nymburk
END:VEVENT
BEGIN:VEVENT
UID:38356330-3838-4336-b538-323238623231
DTSTAMP:20260423T070848Z
DESCRIPTION:4/11 Hronov - Nymburk 0:3 (-22\,-21\,-22)
DTSTART;TZID=Europe/Berlin:20211009T140000
DTEND;TZID=Europe/Berlin:20211009T160000
LOCATION:ZŠ Hronov\, Palackého 162 Hronov
SUMMARY:1-JKY-B: Hronov-Nymburk
END:VEVENT
BEGIN:VEVENT
UID:64643539-3534-4139-b233-366161383638
DTSTAMP:20260423T070848Z
DESCRIPTION:9/27 Hronov - Kolín 3:0 (23\,16\,21)
DTSTART;TZID=Europe/Berlin:20211113T110000
DTEND;TZID=Europe/Berlin:20211113T130000
LOCATION:ZŠ Hronov\, Palackého 162 Hronov
SUMMARY:1-JKY-B: Hronov-Kolín
END:VEVENT
BEGIN:VEVENT
UID:38326232-3564-4235-b766-636631333436
DTSTAMP:20260423T070848Z
DESCRIPTION:10/30 Hronov - Kolín 1:3 (11\,-22\,-25\,-22)
DTSTART;TZID=Europe/Berlin:20211113T150000
DTEND;TZID=Europe/Berlin:20211113T170000
LOCATION:ZŠ Hronov\, Palackého 162 Hronov
SUMMARY:1-JKY-B: Hronov-Kolín
END:VEVENT
BEGIN:VEVENT
UID:66646664-3739-4034-a136-626464613765
DTSTAMP:20260423T070848Z
DESCRIPTION:11/32 Hronov - H. Králové 0:3 (-16\,-18\,-18)
DTSTART;TZID=Europe/Berlin:20211121T100000
DTEND;TZID=Europe/Berlin:20211121T120000
LOCATION:ZŠ Hronov\, Palackého 162 Hronov
SUMMARY:1-JKY-B: Hronov-H. Králové
END:VEVENT
BEGIN:VEVENT
UID:66653266-3837-4761-a435-623236353337
DTSTAMP:20260423T070848Z
DESCRIPTION:12/35 Hronov - H. Králové 1:3 (-9\,23\,-18\,-13)
DTSTART;TZID=Europe/Berlin:20211121T140000
DTEND;TZID=Europe/Berlin:20211121T160000
LOCATION:ZŠ Hronov\, Palackého 162 Hronov
SUMMARY:1-JKY-B: Hronov-H. Králové
END:VEVENT
BEGIN:VEVENT
UID:38623430-3061-4334-b661-353761343462
DTSTAMP:20260423T070848Z
DESCRIPTION:17/49 Hronov - Náchod 0:3 (-16\,-21\,-22)
DTSTART;TZID=Europe/Berlin:20220108T110000
DTEND;TZID=Europe/Berlin:20220108T130000
LOCATION:ZŠ Hronov\, Palackého 162 Hronov
SUMMARY:1-JKY-B: Hronov-Náchod
END:VEVENT
BEGIN:VEVENT
UID:34393539-3434-4139-a462-326435386537
DTSTAMP:20260423T070848Z
DESCRIPTION:18/52 Hronov - Náchod 2:3 (17\,16\,-20\,-21\,-11)
DTSTART;TZID=Europe/Berlin:20220108T150000
DTEND;TZID=Europe/Berlin:20220108T170000
LOCATION:ZŠ Hronov\, Palackého 162 Hronov
SUMMARY:1-JKY-B: Hronov-Náchod
END:VEVENT
BEGIN:VEVENT
UID:35643736-3636-4537-b632-363235343263
DTSTAMP:20260423T070848Z
DESCRIPTION:1/2 H. Králové - Hronov 3:0 (10\,15\,10)
DTSTART;TZID=Europe/Berlin:20211002T100000
DTEND;TZID=Europe/Berlin:20211002T120000
LOCATION:TJ Slavia Hradec Králové\, Víta Nejedlého 1216 Hradec Králové
SUMMARY:1-JKY-B: H. Králové-Hronov
END:VEVENT
BEGIN:VEVENT
UID:37323831-6362-4330-b961-336463623966
DTSTAMP:20260423T070848Z
DESCRIPTION:2/5 H. Králové - Hronov 3:0 (12\,16\,15)
DTSTART;TZID=Europe/Berlin:20211002T140000
DTEND;TZID=Europe/Berlin:20211002T160000
LOCATION:TJ Slavia Hradec Králové\, Víta Nejedlého 1216 Hradec Králové
SUMMARY:1-JKY-B: H. Králové-Hronov
END:VEVENT
BEGIN:VEVENT
UID:63306232-3530-4137-a530-643538646463
DTSTAMP:20260423T070848Z
DESCRIPTION:7/19 Náchod - Hronov 3:1 (-20\,18\,9\,23)
DTSTART;TZID=Europe/Berlin:20211106T100000
DTEND;TZID=Europe/Berlin:20211106T120000
LOCATION:SPORT KLUB Náchod\, Pražská 696 Náchod
SUMMARY:1-JKY-B: Náchod-Hronov
END:VEVENT
BEGIN:VEVENT
UID:65353835-3139-4730-b839-373762343862
DTSTAMP:20260423T070848Z
DESCRIPTION:8/22 Náchod - Hronov 3:2 (17\,-20\,23\,-17\,14)
DTSTART;TZID=Europe/Berlin:20211106T140000
DTEND;TZID=Europe/Berlin:20211106T160000
LOCATION:SPORT KLUB Náchod\, Pražská 696 Náchod
SUMMARY:1-JKY-B: Náchod-Hronov
END:VEVENT
BEGIN:VEVENT
UID:30616261-3339-4431-a130-633936666339
DTSTAMP:20260423T070848Z
DESCRIPTION:13/38 Nymburk - Hronov 3:1 (22\,15\,-24\,21)
DTSTART;TZID=Europe/Berlin:20211204T100000
DTEND;TZID=Europe/Berlin:20211204T120000
LOCATION:ZŠ Komenského\, Komenského 779 Nymburk
SUMMARY:1-JKY-B: Nymburk-Hronov
END:VEVENT
BEGIN:VEVENT
UID:39376365-6234-4265-b732-373635643933
DTSTAMP:20260423T070848Z
DESCRIPTION:14/41 Nymburk - Hronov 3:0 (14\,19\,21)
DTSTART;TZID=Europe/Berlin:20211204T140000
DTEND;TZID=Europe/Berlin:20211204T160000
LOCATION:ZŠ Komenského\, Komenského 779 Nymburk
SUMMARY:1-JKY-B: Nymburk-Hronov
END:VEVENT
BEGIN:VEVENT
UID:65343366-3261-4961-b334-336365633237
DTSTAMP:20260423T070848Z
DESCRIPTION:19/57 Kolín - Hronov 3:1 (12\,-24\,28\,13)
DTSTART;TZID=Europe/Berlin:20220116T100000
DTEND;TZID=Europe/Berlin:20220116T120000
LOCATION:Hala OA Kolín\, Kutnohorská 41 Kolín - Kolín I
SUMMARY:1-JKY-B: Kolín-Hronov
END:VEVENT
BEGIN:VEVENT
UID:37623835-3735-4566-b965-613561366265
DTSTAMP:20260423T070848Z
DESCRIPTION:20/60 Kolín - Hronov 3:1 (17\,-21\,23\,16)
DTSTART;TZID=Europe/Berlin:20220116T140000
DTEND;TZID=Europe/Berlin:20220116T160000
LOCATION:Hala OA Kolín\, Kutnohorská 41 Kolín - Kolín I
SUMMARY:1-JKY-B: Kolín-Hronov
END:VEVENT
BEGIN:VEVENT
UID:62663833-6636-4862-a430-623766326234
DTSTAMP:20260423T070848Z
DESCRIPTION:3/6 Hronov - Dansport 3:1 (10\,23\,-22\,19)
DTSTART;TZID=Europe/Berlin:20220219T100000
DTEND;TZID=Europe/Berlin:20220219T120000
LOCATION:ZŠ Hronov\, Palackého 162 Hronov
SUMMARY:1-JKY-Q: Hronov-Dansport
END:VEVENT
BEGIN:VEVENT
UID:39396331-3866-4935-a562-353830656535
DTSTAMP:20260423T070848Z
DESCRIPTION:4/8 Hronov - Dansport 3:1 (23\,-18\,22\,22)
DTSTART;TZID=Europe/Berlin:20220219T140000
DTEND;TZID=Europe/Berlin:20220219T160000
LOCATION:ZŠ Hronov\, Palackého 162 Hronov
SUMMARY:1-JKY-Q: Hronov-Dansport
END:VEVENT
BEGIN:VEVENT
UID:31626462-6165-4633-b438-623165363334
DTSTAMP:20260423T070848Z
DESCRIPTION:7/14 Hronov - Slavia Liberec 3:0 (14\,17\,23)
DTSTART;TZID=Europe/Berlin:20220313T100000
DTEND;TZID=Europe/Berlin:20220313T120000
LOCATION:ZŠ Hronov\, Palackého 162 Hronov
SUMMARY:1-JKY-Q: Hronov-Slavia Liberec
END:VEVENT
BEGIN:VEVENT
UID:62633330-6463-4761-a333-356666373935
DTSTAMP:20260423T070848Z
DESCRIPTION:8/16 Hronov - Slavia Liberec 3:2 (-22\,17\,-16\,7\,10)
DTSTART;TZID=Europe/Berlin:20220313T140000
DTEND;TZID=Europe/Berlin:20220313T160000
LOCATION:ZŠ Hronov\, Palackého 162 Hronov
SUMMARY:1-JKY-Q: Hronov-Slavia Liberec
END:VEVENT
BEGIN:VEVENT
UID:37306433-6564-4663-b761-353261323030
DTSTAMP:20260423T070848Z
DESCRIPTION:1/2 Slavia Liberec - Hronov 0:3 (-20\,-11\,-18)
DTSTART;TZID=Europe/Berlin:20220205T100000
DTEND;TZID=Europe/Berlin:20220205T120000
LOCATION:ZŠ Ještědská\, Ještědská 354 Liberec - Liberec VIII-Dolní Hanychov
SUMMARY:1-JKY-Q: Slavia Liberec-Hronov
END:VEVENT
BEGIN:VEVENT
UID:36376661-6438-4634-b732-616261353666
DTSTAMP:20260423T070848Z
DESCRIPTION:2/4 Slavia Liberec - Hronov 0:3 (-9\,-8\,-18)
DTSTART;TZID=Europe/Berlin:20220205T140000
DTEND;TZID=Europe/Berlin:20220205T160000
LOCATION:ZŠ Ještědská\, Ještědská 354 Liberec - Liberec VIII-Dolní Hanychov
SUMMARY:1-JKY-Q: Slavia Liberec-Hronov
END:VEVENT
BEGIN:VEVENT
UID:32363631-3436-4931-b361-373537653964
DTSTAMP:20260423T070848Z
DESCRIPTION:5/10 Dansport - Hronov 3:1 (21\,-6\,20\,21)
DTSTART;TZID=Europe/Berlin:20220305T100000
DTEND;TZID=Europe/Berlin:20220305T120000
LOCATION:Sportovní hala Gymnázia Jana Keplera\, Parléřova 118 Praha - Hradč
 any
SUMMARY:1-JKY-Q: Dansport-Hronov
END:VEVENT
BEGIN:VEVENT
UID:33643136-3666-4338-b039-303863376261
DTSTAMP:20260423T070848Z
DESCRIPTION:6/12 Dansport - Hronov 3:2 (21\,-14\,15\,-12\,11)
DTSTART;TZID=Europe/Berlin:20220305T140000
DTEND;TZID=Europe/Berlin:20220305T160000
LOCATION:Sportovní hala Gymnázia Jana Keplera\, Parléřova 118 Praha - Hradč
 any
SUMMARY:1-JKY-Q: Dansport-Hronov
END:VEVENT
END:VCALENDAR
