BEGIN:VCALENDAR
VERSION:2.0
PRODID:-//Volejbal Plzeň B76264//NONSGML kigkonsult.se iCalcreator 2.41.80//
CALSCALE:GREGORIAN
UID:34636330-3963-4231-a331-393731343732
BEGIN:VEVENT
UID:64303032-3065-4632-b839-366138643234
DTSTAMP:20260423T022418Z
DESCRIPTION:1/2 Plzeň B - Hlincovka 1:3 (15\,-16\,-15\,-15)
DTSTART;TZID=Europe/Berlin:20211002T090000
DTEND;TZID=Europe/Berlin:20211002T110000
LOCATION:Městská sportovní hala  -  hala 2\, Úslavská 2357 Plzeň - Východní
  Předměstí
SUMMARY:1-JKY-D: Plzeň B-Hlincovka
END:VEVENT
BEGIN:VEVENT
UID:66383334-6232-4664-b965-303563386563
DTSTAMP:20260423T022418Z
DESCRIPTION:2/5 Plzeň B - Hlincovka 0:3 (-24\,-10\,-19)
DTSTART;TZID=Europe/Berlin:20211002T130000
DTEND;TZID=Europe/Berlin:20211002T150000
LOCATION:Městská sportovní hala  -  hala 2\, Úslavská 2357 Plzeň - Východní
  Předměstí
SUMMARY:1-JKY-D: Plzeň B-Hlincovka
END:VEVENT
BEGIN:VEVENT
UID:35373562-3336-4965-b364-306230346132
DTSTAMP:20260423T022418Z
DESCRIPTION:5/13 Plzeň B - Benešov 3:0 (22\,16\,24)
DTSTART;TZID=Europe/Berlin:20211023T090000
DTEND;TZID=Europe/Berlin:20211023T110000
LOCATION:Hala ZČU Plzeň Univerzitní 14\, Univerzitní 2765 Plzeň - Jižní Pře
 dměstí
SUMMARY:1-JKY-D: Plzeň B-Benešov
END:VEVENT
BEGIN:VEVENT
UID:36313436-3731-4366-b033-343431373864
DTSTAMP:20260423T022418Z
DESCRIPTION:6/16 Plzeň B - Benešov 3:0 (19\,19\,23)
DTSTART;TZID=Europe/Berlin:20211023T130000
DTEND;TZID=Europe/Berlin:20211023T150000
LOCATION:Hala ZČU Plzeň Univerzitní 14\, Univerzitní 2765 Plzeň - Jižní Pře
 dměstí
SUMMARY:1-JKY-D: Plzeň B-Benešov
END:VEVENT
BEGIN:VEVENT
UID:63333262-6262-4234-b739-383366663364
DTSTAMP:20260423T022418Z
DESCRIPTION:7/21 Plzeň B - Klatovy 3:0 (17\,19\,24)
DTSTART;TZID=Europe/Berlin:20211106T090000
DTEND;TZID=Europe/Berlin:20211106T110000
LOCATION:Hala ZČU Plzeň Univerzitní 14\, Univerzitní 2765 Plzeň - Jižní Pře
 dměstí
SUMMARY:1-JKY-D: Plzeň B-Klatovy
END:VEVENT
BEGIN:VEVENT
UID:34343264-6232-4464-b462-333338373263
DTSTAMP:20260423T022418Z
DESCRIPTION:8/24 Plzeň B - Klatovy 3:0 (17\,18\,15)
DTSTART;TZID=Europe/Berlin:20211106T130000
DTEND;TZID=Europe/Berlin:20211106T150000
LOCATION:Hala ZČU Plzeň Univerzitní 14\, Univerzitní 2765 Plzeň - Jižní Pře
 dměstí
SUMMARY:1-JKY-D: Plzeň B-Klatovy
END:VEVENT
BEGIN:VEVENT
UID:35623633-3561-4238-b238-313735633038
DTSTAMP:20260423T022418Z
DESCRIPTION:13/39 Plzeň B - Tábor 3:1 (14\,-18\,14\,15)
DTSTART;TZID=Europe/Berlin:20211009T100000
DTEND;TZID=Europe/Berlin:20211009T120000
LOCATION:Městská sportovní hala  -  hala 2\, Úslavská 2357 Plzeň - Východní
  Předměstí
SUMMARY:1-JKY-D: Plzeň B-Tábor
END:VEVENT
BEGIN:VEVENT
UID:38326139-3436-4037-b336-636365363732
DTSTAMP:20260423T022418Z
DESCRIPTION:14/42 Plzeň B - Tábor 3:2 (22\,-14\,17\,-19\,14)
DTSTART;TZID=Europe/Berlin:20211009T140000
DTEND;TZID=Europe/Berlin:20211009T160000
LOCATION:Městská sportovní hala  -  hala 2\, Úslavská 2357 Plzeň - Východní
  Předměstí
SUMMARY:1-JKY-D: Plzeň B-Tábor
END:VEVENT
BEGIN:VEVENT
UID:32333631-3938-4330-b965-626137313262
DTSTAMP:20260423T022418Z
DESCRIPTION:19/56 Plzeň B - Č. Budějovice B 3:0 (18\,9\,11)
DTSTART;TZID=Europe/Berlin:20220116T100000
DTEND;TZID=Europe/Berlin:20220116T120000
LOCATION:Městská sportovní hala  -  hala 2\, Úslavská 2357 Plzeň - Východní
  Předměstí
SUMMARY:1-JKY-D: Plzeň B-Č. Budějovice B
END:VEVENT
BEGIN:VEVENT
UID:66626636-6532-4632-b439-613936626464
DTSTAMP:20260423T022418Z
DESCRIPTION:20/59 Plzeň B - Č. Budějovice B 3:1 (10\,-19\,19\,7)
DTSTART;TZID=Europe/Berlin:20220116T140000
DTEND;TZID=Europe/Berlin:20220116T160000
LOCATION:Městská sportovní hala  -  hala 2\, Úslavská 2357 Plzeň - Východní
  Předměstí
SUMMARY:1-JKY-D: Plzeň B-Č. Budějovice B
END:VEVENT
BEGIN:VEVENT
UID:64336535-3963-4232-b764-323336633732
DTSTAMP:20260423T022418Z
DESCRIPTION:3/9 Tábor - Plzeň B 3:2 (-26\,23\,19\,-21\,10)
DTSTART;TZID=Europe/Berlin:20211204T100000
DTEND;TZID=Europe/Berlin:20211204T120000
LOCATION:Sportovní hala Kvapilova\, Kvapilova 2419 Tábor
SUMMARY:1-JKY-D: Tábor-Plzeň B
END:VEVENT
BEGIN:VEVENT
UID:34336265-3837-4332-b433-343034323337
DTSTAMP:20260423T022418Z
DESCRIPTION:4/12 Tábor - Plzeň B 1:3 (22\,-20\,-17\,-14)
DTSTART;TZID=Europe/Berlin:20211204T140000
DTEND;TZID=Europe/Berlin:20211204T160000
LOCATION:Sportovní hala Kvapilova\, Kvapilova 2419 Tábor
SUMMARY:1-JKY-D: Tábor-Plzeň B
END:VEVENT
BEGIN:VEVENT
UID:34303037-3436-4235-b366-656164633962
DTSTAMP:20260423T022418Z
DESCRIPTION:9/26 Č. Budějovice B - Plzeň B 3:1 (16\,-21\,19\,23)
DTSTART;TZID=Europe/Berlin:20211113T100000
DTEND;TZID=Europe/Berlin:20211113T120000
LOCATION:ZŠ Oskara Nedbala České Budějovice\, O. Nedbala 882 České Budějovi
 ce - České Budějovice 2
SUMMARY:1-JKY-D: Č. Budějovice B-Plzeň B
END:VEVENT
BEGIN:VEVENT
UID:39323564-6532-4236-b162-313932353139
DTSTAMP:20260423T022418Z
DESCRIPTION:10/29 Č. Budějovice B - Plzeň B 2:3 (-23\,20\,23\,-23\,-7)
DTSTART;TZID=Europe/Berlin:20211113T140000
DTEND;TZID=Europe/Berlin:20211113T160000
LOCATION:ZŠ Oskara Nedbala České Budějovice\, O. Nedbala 882 České Budějovi
 ce - České Budějovice 2
SUMMARY:1-JKY-D: Č. Budějovice B-Plzeň B
END:VEVENT
BEGIN:VEVENT
UID:31616263-3836-4238-a464-316633383462
DTSTAMP:20260423T022418Z
DESCRIPTION:11/32 Hlincovka - Plzeň B 3:0 (12\,15\,13)
DTSTART;TZID=Europe/Berlin:20211127T110000
DTEND;TZID=Europe/Berlin:20211127T130000
LOCATION:Sportovní hala Rudolfov\, Adamovská 511 Rudolfov
SUMMARY:1-JKY-D: Hlincovka-Plzeň B
END:VEVENT
BEGIN:VEVENT
UID:33366263-6166-4263-b635-393239626461
DTSTAMP:20260423T022418Z
DESCRIPTION:12/35 Hlincovka - Plzeň B 3:0 (8\,15\,16)
DTSTART;TZID=Europe/Berlin:20211127T150000
DTEND;TZID=Europe/Berlin:20211127T170000
LOCATION:Sportovní hala Rudolfov\, Adamovská 511 Rudolfov
SUMMARY:1-JKY-D: Hlincovka-Plzeň B
END:VEVENT
BEGIN:VEVENT
UID:34383365-3936-4364-a130-346238333932
DTSTAMP:20260423T022418Z
DESCRIPTION:15/43 Benešov - Plzeň B 1:3 (-21\,19\,-22\,-11)
DTSTART;TZID=Europe/Berlin:20211211T100000
DTEND;TZID=Europe/Berlin:20211211T120000
LOCATION:ZŠ Jiráskova\, Jiráskova 888 Benešov
SUMMARY:1-JKY-D: Benešov-Plzeň B
END:VEVENT
BEGIN:VEVENT
UID:31323765-3233-4130-b637-393438656431
DTSTAMP:20260423T022418Z
DESCRIPTION:16/46 Benešov - Plzeň B 3:2 (-12\,18\,-17\,25\,15)
DTSTART;TZID=Europe/Berlin:20211211T140000
DTEND;TZID=Europe/Berlin:20211211T160000
LOCATION:ZŠ Jiráskova\, Jiráskova 888 Benešov
SUMMARY:1-JKY-D: Benešov-Plzeň B
END:VEVENT
BEGIN:VEVENT
UID:37333639-3436-4861-b061-393830363964
DTSTAMP:20260423T022418Z
DESCRIPTION:17/51 Klatovy - Plzeň B 2:3 (-17\,23\,11\,-19\,-11)
DTSTART;TZID=Europe/Berlin:20220109T100000
DTEND;TZID=Europe/Berlin:20220109T120000
LOCATION:Sportovní hala ZŠ Čapkova\, Čapkova 136 Klatovy - Klatovy V
SUMMARY:1-JKY-D: Klatovy-Plzeň B
END:VEVENT
BEGIN:VEVENT
UID:35333232-6662-4836-b162-636334613761
DTSTAMP:20260423T022418Z
DESCRIPTION:18/54 Klatovy - Plzeň B 1:3 (19\,-22\,-23\,-15)
DTSTART;TZID=Europe/Berlin:20220109T140000
DTEND;TZID=Europe/Berlin:20220109T160000
LOCATION:Sportovní hala ZŠ Čapkova\, Čapkova 136 Klatovy - Klatovy V
SUMMARY:1-JKY-D: Klatovy-Plzeň B
END:VEVENT
BEGIN:VEVENT
UID:39373238-6135-4266-b830-303661303338
DTSTAMP:20260423T022418Z
DESCRIPTION:3/5 Plzeň B - Karlovy Vary 2:3 (19\,-14\,18\,-24\,-11)
DTSTART;TZID=Europe/Berlin:20220212T110000
DTEND;TZID=Europe/Berlin:20220212T130000
LOCATION:Městská sportovní hala  -  hala 2\, Úslavská 2357 Plzeň - Východní
  Předměstí
SUMMARY:1-JKY-II: Plzeň B-Karlovy Vary
END:VEVENT
BEGIN:VEVENT
UID:33303336-3636-4165-b330-313034633631
DTSTAMP:20260423T022418Z
DESCRIPTION:4/7 Plzeň B - Karlovy Vary 1:3 (-23\,-15\,11\,-22)
DTSTART;TZID=Europe/Berlin:20220212T150000
DTEND;TZID=Europe/Berlin:20220212T170000
LOCATION:Městská sportovní hala  -  hala 2\, Úslavská 2357 Plzeň - Východní
  Předměstí
SUMMARY:1-JKY-II: Plzeň B-Karlovy Vary
END:VEVENT
BEGIN:VEVENT
UID:63386565-3637-4439-b132-366235316666
DTSTAMP:20260423T022418Z
DESCRIPTION:7/13 Plzeň B - Kometa 0:3 (-21\,-17\,-21)
DTSTART;TZID=Europe/Berlin:20220313T110000
DTEND;TZID=Europe/Berlin:20220313T130000
LOCATION:Městská sportovní hala  -  hala 2\, Úslavská 2357 Plzeň - Východní
  Předměstí
SUMMARY:1-JKY-II: Plzeň B-Kometa
END:VEVENT
BEGIN:VEVENT
UID:39623063-6132-4534-a234-366162386561
DTSTAMP:20260423T022418Z
DESCRIPTION:8/15 Plzeň B - Kometa 1:3 (-9\,18\,-22\,-19)
DTSTART;TZID=Europe/Berlin:20220313T150000
DTEND;TZID=Europe/Berlin:20220313T170000
LOCATION:Městská sportovní hala  -  hala 2\, Úslavská 2357 Plzeň - Východní
  Předměstí
SUMMARY:1-JKY-II: Plzeň B-Kometa
END:VEVENT
BEGIN:VEVENT
UID:61306461-3463-4831-a532-376639396237
DTSTAMP:20260423T022418Z
DESCRIPTION:1/1 Kometa - Plzeň B 3:0 (21\,21\,19)
DTSTART;TZID=Europe/Berlin:20220205T100000
DTEND;TZID=Europe/Berlin:20220205T120000
LOCATION:Tělocvična ZŠ Na Šutce\, Na Šutce 440 Praha - Troja
SUMMARY:1-JKY-II: Kometa-Plzeň B
END:VEVENT
BEGIN:VEVENT
UID:33613132-3262-4132-b837-616631646261
DTSTAMP:20260423T022418Z
DESCRIPTION:2/3 Kometa - Plzeň B 3:1 (15\,-22\,17\,23)
DTSTART;TZID=Europe/Berlin:20220205T140000
DTEND;TZID=Europe/Berlin:20220205T160000
LOCATION:Tělocvična ZŠ Na Šutce\, Na Šutce 440 Praha - Troja
SUMMARY:1-JKY-II: Kometa-Plzeň B
END:VEVENT
BEGIN:VEVENT
UID:61363231-3464-4539-b361-366131316563
DTSTAMP:20260423T022418Z
DESCRIPTION:5/9 Karlovy Vary - Plzeň B 3:1 (13\,14\,-25\,20)
DTSTART;TZID=Europe/Berlin:20220305T100000
DTEND;TZID=Europe/Berlin:20220305T120000
LOCATION:Mattoni Arena Hala míčových sportů\, Západní 1812 Karlovy Vary
SUMMARY:1-JKY-II: Karlovy Vary-Plzeň B
END:VEVENT
BEGIN:VEVENT
UID:30306564-6461-4465-a435-643137623762
DTSTAMP:20260423T022418Z
DESCRIPTION:6/11 Karlovy Vary - Plzeň B 3:1 (18\,-19\,11\,17)
DTSTART;TZID=Europe/Berlin:20220305T130000
DTEND;TZID=Europe/Berlin:20220305T150000
LOCATION:Mattoni Arena Hala míčových sportů\, Západní 1812 Karlovy Vary
SUMMARY:1-JKY-II: Karlovy Vary-Plzeň B
END:VEVENT
END:VCALENDAR
