BEGIN:VCALENDAR
VERSION:2.0
PRODID:-//VK Šanov Teplice76271//NONSGML kigkonsult.se iCalcreator 2.41.80//
CALSCALE:GREGORIAN
UID:66346532-6264-4234-b030-363636333364
BEGIN:VEVENT
UID:38313366-3262-4539-a636-643733616135
DTSTAMP:20260423T070852Z
DESCRIPTION:1/1 Teplice - Bižuterie 0:3 (-13\,-22\,-22)
DTSTART;TZID=Europe/Berlin:20211002T100000
DTEND;TZID=Europe/Berlin:20211002T120000
LOCATION:Hotelová škola\, Smetanovo náměstí 786 Teplice - Trnovany
SUMMARY:1-JKY-A: Teplice-Bižuterie
END:VEVENT
BEGIN:VEVENT
UID:35613661-3436-4539-a662-316566653365
DTSTAMP:20260423T070852Z
DESCRIPTION:2/4 Teplice - Bižuterie 2:3 (-17\,18\,-22\,27\,-11)
DTSTART;TZID=Europe/Berlin:20211002T140000
DTEND;TZID=Europe/Berlin:20211002T160000
LOCATION:Hotelová škola\, Smetanovo náměstí 786 Teplice - Trnovany
SUMMARY:1-JKY-A: Teplice-Bižuterie
END:VEVENT
BEGIN:VEVENT
UID:62643234-3033-4336-a533-643236666131
DTSTAMP:20260423T070852Z
DESCRIPTION:3/9 Teplice - Jirkov 1:3 (-21\,23\,-23\,-23)
DTSTART;TZID=Europe/Berlin:20211117T100000
DTEND;TZID=Europe/Berlin:20211117T120000
LOCATION:Hotelová škola\, Smetanovo náměstí 786 Teplice - Trnovany
SUMMARY:1-JKY-A: Teplice-Jirkov
END:VEVENT
BEGIN:VEVENT
UID:39643465-3836-4135-b138-643737646637
DTSTAMP:20260423T070852Z
DESCRIPTION:4/12 Teplice - Jirkov 3:1 (17\,28\,-28\,17)
DTSTART;TZID=Europe/Berlin:20211117T140000
DTEND;TZID=Europe/Berlin:20211117T160000
LOCATION:Hotelová škola\, Smetanovo náměstí 786 Teplice - Trnovany
SUMMARY:1-JKY-A: Teplice-Jirkov
END:VEVENT
BEGIN:VEVENT
UID:65373239-6638-4264-b862-386463363234
DTSTAMP:20260423T070852Z
DESCRIPTION:7/20 Teplice - Slavia Liberec 3:2 (18\,-16\,-15\,22\,8)
DTSTART;TZID=Europe/Berlin:20211106T100000
DTEND;TZID=Europe/Berlin:20211106T120000
LOCATION:Hotelová škola\, Smetanovo náměstí 786 Teplice - Trnovany
SUMMARY:1-JKY-A: Teplice-Slavia Liberec
END:VEVENT
BEGIN:VEVENT
UID:31633533-6631-4534-a166-383662346130
DTSTAMP:20260423T070852Z
DESCRIPTION:8/23 Teplice - Slavia Liberec 3:0 (18\,23\,7)
DTSTART;TZID=Europe/Berlin:20211106T140000
DTEND;TZID=Europe/Berlin:20211106T160000
LOCATION:Hotelová škola\, Smetanovo náměstí 786 Teplice - Trnovany
SUMMARY:1-JKY-A: Teplice-Slavia Liberec
END:VEVENT
BEGIN:VEVENT
UID:38326135-6637-4139-b530-366237613736
DTSTAMP:20260423T070852Z
DESCRIPTION:15/44 Teplice - Dansport 2:3 (-25\,22\,-15\,14\,-10)
DTSTART;TZID=Europe/Berlin:20211218T100000
DTEND;TZID=Europe/Berlin:20211218T120000
LOCATION:Hotelová škola\, Smetanovo náměstí 786 Teplice - Trnovany
SUMMARY:1-JKY-A: Teplice-Dansport
END:VEVENT
BEGIN:VEVENT
UID:63356534-6131-4561-a264-653363633864
DTSTAMP:20260423T070852Z
DESCRIPTION:16/47 Teplice - Dansport 3:1 (-18\,21\,22\,16)
DTSTART;TZID=Europe/Berlin:20211218T140000
DTEND;TZID=Europe/Berlin:20211218T160000
LOCATION:Hotelová škola\, Smetanovo náměstí 786 Teplice - Trnovany
SUMMARY:1-JKY-A: Teplice-Dansport
END:VEVENT
BEGIN:VEVENT
UID:37303866-3935-4333-b966-313236306366
DTSTAMP:20260423T070852Z
DESCRIPTION:19/57 Teplice - Kralupy 0:3 (-20\,-18\,-17)
DTSTART;TZID=Europe/Berlin:20211205T100000
DTEND;TZID=Europe/Berlin:20211205T120000
LOCATION:Hotelová škola\, Smetanovo náměstí 786 Teplice - Trnovany
SUMMARY:1-JKY-A: Teplice-Kralupy
END:VEVENT
BEGIN:VEVENT
UID:38626432-3936-4466-a265-636662663230
DTSTAMP:20260423T070852Z
DESCRIPTION:20/60 Teplice - Kralupy 0:3 (-13\,-15\,-19)
DTSTART;TZID=Europe/Berlin:20211205T140000
DTEND;TZID=Europe/Berlin:20211205T160000
LOCATION:Hotelová škola\, Smetanovo náměstí 786 Teplice - Trnovany
SUMMARY:1-JKY-A: Teplice-Kralupy
END:VEVENT
BEGIN:VEVENT
UID:33373165-6233-4135-a335-626661613336
DTSTAMP:20260423T070852Z
DESCRIPTION:5/14 Dansport - Teplice 0:3 (-14\,-18\,-19)
DTSTART;TZID=Europe/Berlin:20211023T100000
DTEND;TZID=Europe/Berlin:20211023T120000
LOCATION:Sportovní hala Gymnázia Jana Keplera\, Parléřova 118 Praha - Hradč
 any
SUMMARY:1-JKY-A: Dansport-Teplice
END:VEVENT
BEGIN:VEVENT
UID:31643464-3139-4736-b635-333633393463
DTSTAMP:20260423T070852Z
DESCRIPTION:6/17 Dansport - Teplice 0:3 (-10\,-22\,-21)
DTSTART;TZID=Europe/Berlin:20211023T140000
DTEND;TZID=Europe/Berlin:20211023T160000
LOCATION:Sportovní hala Gymnázia Jana Keplera\, Parléřova 118 Praha - Hradč
 any
SUMMARY:1-JKY-A: Dansport-Teplice
END:VEVENT
BEGIN:VEVENT
UID:31393362-3665-4266-b662-333531303465
DTSTAMP:20260423T070852Z
DESCRIPTION:9/27 Kralupy - Teplice 3:0 (14\,14\,17)\nPřeloženo COVID-19
DTSTART;TZID=Europe/Berlin:20220116T100000
DTEND;TZID=Europe/Berlin:20220116T120000
LOCATION:TJ KRALUPY\, z.s.\, Gen. Klapálka 1029 Kralupy nad Vltavou
SUMMARY:1-JKY-A: Kralupy-Teplice
END:VEVENT
BEGIN:VEVENT
UID:34373664-6337-4332-a530-386332653937
DTSTAMP:20260423T070852Z
DESCRIPTION:10/30 Kralupy - Teplice 3:0 (17\,10\,17)\nPřeloženo COVID-19
DTSTART;TZID=Europe/Berlin:20220116T140000
DTEND;TZID=Europe/Berlin:20220116T160000
LOCATION:TJ KRALUPY\, z.s.\, Gen. Klapálka 1029 Kralupy nad Vltavou
SUMMARY:1-JKY-A: Kralupy-Teplice
END:VEVENT
BEGIN:VEVENT
UID:39323561-3466-4362-b431-323064656530
DTSTAMP:20260423T070852Z
DESCRIPTION:11/31 Bižuterie - Teplice 3:0 (19\,16\,16)
DTSTART;TZID=Europe/Berlin:20211127T120000
DTEND;TZID=Europe/Berlin:20211127T140000
LOCATION:Městská sportovní hala\, U Přehrady 4747 Jablonec nad Nisou
SUMMARY:1-JKY-A: Bižuterie-Teplice
END:VEVENT
BEGIN:VEVENT
UID:33613537-3764-4163-b230-613434636234
DTSTAMP:20260423T070852Z
DESCRIPTION:12/34 Bižuterie - Teplice 3:0 (16\,21\,13)
DTSTART;TZID=Europe/Berlin:20211127T140000
DTEND;TZID=Europe/Berlin:20211127T160000
LOCATION:Městská sportovní hala\, U Přehrady 4747 Jablonec nad Nisou
SUMMARY:1-JKY-A: Bižuterie-Teplice
END:VEVENT
BEGIN:VEVENT
UID:37353965-6337-4633-b861-306233396231
DTSTAMP:20260423T070852Z
DESCRIPTION:13/39 Jirkov - Teplice 1:3 (-20\,-18\,21\,-20)
DTSTART;TZID=Europe/Berlin:20211219T100000
DTEND;TZID=Europe/Berlin:20211219T120000
LOCATION:Sportovní hala MG a ZŠ Jirkov\, Krušnohorská 1675 Jirkov
SUMMARY:1-JKY-A: Jirkov-Teplice
END:VEVENT
BEGIN:VEVENT
UID:33353733-3333-4562-b534-343964633363
DTSTAMP:20260423T070852Z
DESCRIPTION:14/42 Jirkov - Teplice 1:3 (-16\,23\,-22\,-14)
DTSTART;TZID=Europe/Berlin:20211219T140000
DTEND;TZID=Europe/Berlin:20211219T160000
LOCATION:Sportovní hala MG a ZŠ Jirkov\, Krušnohorská 1675 Jirkov
SUMMARY:1-JKY-A: Jirkov-Teplice
END:VEVENT
BEGIN:VEVENT
UID:36636432-6462-4731-b661-643633653063
DTSTAMP:20260423T070852Z
DESCRIPTION:17/50 Slavia Liberec - Teplice 0:3 (-20\,-20\,-16)
DTSTART;TZID=Europe/Berlin:20220109T100000
DTEND;TZID=Europe/Berlin:20220109T120000
LOCATION:ZŠ Ještědská\, Ještědská 354 Liberec - Liberec VIII-Dolní Hanychov
SUMMARY:1-JKY-A: Slavia Liberec-Teplice
END:VEVENT
BEGIN:VEVENT
UID:66383532-6166-4631-a531-616265356564
DTSTAMP:20260423T070852Z
DESCRIPTION:18/53 Slavia Liberec - Teplice 3:1 (18\,20\,-16\,16)
DTSTART;TZID=Europe/Berlin:20220109T140000
DTEND;TZID=Europe/Berlin:20220109T160000
LOCATION:ZŠ Ještědská\, Ještědská 354 Liberec - Liberec VIII-Dolní Hanychov
SUMMARY:1-JKY-A: Slavia Liberec-Teplice
END:VEVENT
BEGIN:VEVENT
UID:33343830-3263-4130-b935-343537326432
DTSTAMP:20260423T070852Z
DESCRIPTION:1/1 Teplice - Náchod 3:1 (22\,22\,-25\,16)
DTSTART;TZID=Europe/Berlin:20220226T110000
DTEND;TZID=Europe/Berlin:20220226T130000
LOCATION:Hotelová škola\, Smetanovo náměstí 786 Teplice - Trnovany
SUMMARY:1-JKY-M: Teplice-Náchod
END:VEVENT
BEGIN:VEVENT
UID:30623362-3034-4863-a630-343963383832
DTSTAMP:20260423T070852Z
DESCRIPTION:2/3 Teplice - Náchod 3:1 (-14\,21\,23\,16)
DTSTART;TZID=Europe/Berlin:20220226T140000
DTEND;TZID=Europe/Berlin:20220226T160000
LOCATION:Hotelová škola\, Smetanovo náměstí 786 Teplice - Trnovany
SUMMARY:1-JKY-M: Teplice-Náchod
END:VEVENT
BEGIN:VEVENT
UID:64353636-3837-4134-a563-613636326465
DTSTAMP:20260423T070852Z
DESCRIPTION:5/10 Teplice - Kolín 3:1 (-19\,23\,20\,21)
DTSTART;TZID=Europe/Berlin:20220312T100000
DTEND;TZID=Europe/Berlin:20220312T120000
LOCATION:Hotelová škola\, Smetanovo náměstí 786 Teplice - Trnovany
SUMMARY:1-JKY-M: Teplice-Kolín
END:VEVENT
BEGIN:VEVENT
UID:30373761-6337-4032-b733-356564366264
DTSTAMP:20260423T070852Z
DESCRIPTION:6/12 Teplice - Kolín 2:3 (22\,-24\,-24\,25\,-9)
DTSTART;TZID=Europe/Berlin:20220312T140000
DTEND;TZID=Europe/Berlin:20220312T160000
LOCATION:Hotelová škola\, Smetanovo náměstí 786 Teplice - Trnovany
SUMMARY:1-JKY-M: Teplice-Kolín
END:VEVENT
BEGIN:VEVENT
UID:36346462-6130-4862-b338-323566636438
DTSTAMP:20260423T070852Z
DESCRIPTION:3/6 Kolín - Teplice 3:1 (22\,20\,-9\,14)
DTSTART;TZID=Europe/Berlin:20220305T100000
DTEND;TZID=Europe/Berlin:20220305T120000
LOCATION:hala STAV\, SOŠ Kolín\, Brankovická 1417 Kolín - Kolín V
SUMMARY:1-JKY-M: Kolín-Teplice
END:VEVENT
BEGIN:VEVENT
UID:34633138-6638-4161-b438-313362636266
DTSTAMP:20260423T070852Z
DESCRIPTION:4/8 Kolín - Teplice 3:1 (21\,-17\,19\,17)
DTSTART;TZID=Europe/Berlin:20220305T140000
DTEND;TZID=Europe/Berlin:20220305T160000
LOCATION:hala STAV\, SOŠ Kolín\, Brankovická 1417 Kolín - Kolín V
SUMMARY:1-JKY-M: Kolín-Teplice
END:VEVENT
BEGIN:VEVENT
UID:65663435-6664-4465-b465-386630633962
DTSTAMP:20260423T070852Z
DESCRIPTION:7/13 Náchod - Teplice 1:3 (-13\,-17\,22\,-24)
DTSTART;TZID=Europe/Berlin:20220306T100000
DTEND;TZID=Europe/Berlin:20220306T120000
LOCATION:SPORT KLUB Náchod\, Pražská 696 Náchod
SUMMARY:1-JKY-M: Náchod-Teplice
END:VEVENT
BEGIN:VEVENT
UID:64393137-3461-4335-b862-613138336339
DTSTAMP:20260423T070852Z
DESCRIPTION:8/15 Náchod - Teplice 1:3 (-15\,-10\,23\,-19)
DTSTART;TZID=Europe/Berlin:20220306T140000
DTEND;TZID=Europe/Berlin:20220306T160000
LOCATION:SPORT KLUB Náchod\, Pražská 696 Náchod
SUMMARY:1-JKY-M: Náchod-Teplice
END:VEVENT
END:VCALENDAR
