BEGIN:VCALENDAR
VERSION:2.0
PRODID:-//Volleyball Nymburk76276//NONSGML kigkonsult.se iCalcreator 2.41.80//
CALSCALE:GREGORIAN
UID:63386361-3862-4236-a333-336633306462
BEGIN:VEVENT
UID:35383635-3533-4632-b830-383362616530
DTSTAMP:20260423T042832Z
DESCRIPTION:5/14 Nymburk - Kolín 3:0 (15\,16\,18)
DTSTART;TZID=Europe/Berlin:20211023T100000
DTEND;TZID=Europe/Berlin:20211023T120000
LOCATION:Zimní stadion\, U Stadionu 12 Nymburk
SUMMARY:1-JKY-B: Nymburk-Kolín
END:VEVENT
BEGIN:VEVENT
UID:62643966-6235-4533-b032-336138623033
DTSTAMP:20260423T042832Z
DESCRIPTION:6/17 Nymburk - Kolín 3:0 (27\,18\,22)
DTSTART;TZID=Europe/Berlin:20211023T140000
DTEND;TZID=Europe/Berlin:20211023T160000
LOCATION:Zimní stadion\, U Stadionu 12 Nymburk
SUMMARY:1-JKY-B: Nymburk-Kolín
END:VEVENT
BEGIN:VEVENT
UID:61316564-6366-4066-b665-383939323761
DTSTAMP:20260423T042832Z
DESCRIPTION:9/25 Nymburk - Náchod 3:0 (12\,16\,15)
DTSTART;TZID=Europe/Berlin:20211113T110000
DTEND;TZID=Europe/Berlin:20211113T130000
LOCATION:Zimní stadion\, U Stadionu 12 Nymburk
SUMMARY:1-JKY-B: Nymburk-Náchod
END:VEVENT
BEGIN:VEVENT
UID:34666532-6532-4330-b037-616139373164
DTSTAMP:20260423T042832Z
DESCRIPTION:10/28 Nymburk - Náchod 3:0 (16\,2\,0)
DTSTART;TZID=Europe/Berlin:20211113T150000
DTEND;TZID=Europe/Berlin:20211113T170000
LOCATION:Zimní stadion\, U Stadionu 12 Nymburk
SUMMARY:1-JKY-B: Nymburk-Náchod
END:VEVENT
BEGIN:VEVENT
UID:32353264-3365-4665-b962-636533663739
DTSTAMP:20260423T042832Z
DESCRIPTION:13/38 Nymburk - Hronov 3:1 (22\,15\,-24\,21)
DTSTART;TZID=Europe/Berlin:20211204T100000
DTEND;TZID=Europe/Berlin:20211204T120000
LOCATION:ZŠ Komenského\, Komenského 779 Nymburk
SUMMARY:1-JKY-B: Nymburk-Hronov
END:VEVENT
BEGIN:VEVENT
UID:30383531-3263-4035-b039-383437366465
DTSTAMP:20260423T042832Z
DESCRIPTION:14/41 Nymburk - Hronov 3:0 (14\,19\,21)
DTSTART;TZID=Europe/Berlin:20211204T140000
DTEND;TZID=Europe/Berlin:20211204T160000
LOCATION:ZŠ Komenského\, Komenského 779 Nymburk
SUMMARY:1-JKY-B: Nymburk-Hronov
END:VEVENT
BEGIN:VEVENT
UID:66613861-3933-4435-a631-656163636265
DTSTAMP:20260423T042832Z
DESCRIPTION:17/51 Nymburk - H. Králové 0:3 (-24\,-20\,-23)
DTSTART;TZID=Europe/Berlin:20220108T110000
DTEND;TZID=Europe/Berlin:20220108T130000
LOCATION:Zimní stadion\, U Stadionu 12 Nymburk
SUMMARY:1-JKY-B: Nymburk-H. Králové
END:VEVENT
BEGIN:VEVENT
UID:63363435-6238-4233-a330-613537333434
DTSTAMP:20260423T042832Z
DESCRIPTION:18/54 Nymburk - H. Králové 0:3 (-20\,-14\,-25)
DTSTART;TZID=Europe/Berlin:20220108T150000
DTEND;TZID=Europe/Berlin:20220108T170000
LOCATION:Zimní stadion\, U Stadionu 12 Nymburk
SUMMARY:1-JKY-B: Nymburk-H. Králové
END:VEVENT
BEGIN:VEVENT
UID:62666131-3432-4765-b333-333934326165
DTSTAMP:20260423T042832Z
DESCRIPTION:3/8 Hronov - Nymburk 1:3 (22\,-20\,-18\,-15)
DTSTART;TZID=Europe/Berlin:20211009T100000
DTEND;TZID=Europe/Berlin:20211009T120000
LOCATION:ZŠ Hronov\, Palackého 162 Hronov
SUMMARY:1-JKY-B: Hronov-Nymburk
END:VEVENT
BEGIN:VEVENT
UID:64323439-3463-4437-a232-383932393461
DTSTAMP:20260423T042832Z
DESCRIPTION:4/11 Hronov - Nymburk 0:3 (-22\,-21\,-22)
DTSTART;TZID=Europe/Berlin:20211009T140000
DTEND;TZID=Europe/Berlin:20211009T160000
LOCATION:ZŠ Hronov\, Palackého 162 Hronov
SUMMARY:1-JKY-B: Hronov-Nymburk
END:VEVENT
BEGIN:VEVENT
UID:33306461-6135-4139-b037-353631326339
DTSTAMP:20260423T042832Z
DESCRIPTION:7/21 H. Králové - Nymburk 2:3 (19\,-23\,20\,-14\,-14)
DTSTART;TZID=Europe/Berlin:20211106T100000
DTEND;TZID=Europe/Berlin:20211106T120000
LOCATION:Speciální školy Hradec Králové\, Hradecká 1231 Hradec Králové
SUMMARY:1-JKY-B: H. Králové-Nymburk
END:VEVENT
BEGIN:VEVENT
UID:34333935-6163-4964-b737-396137336139
DTSTAMP:20260423T042832Z
DESCRIPTION:8/24 H. Králové - Nymburk 1:3 (-21\,-22\,23\,-11)
DTSTART;TZID=Europe/Berlin:20211106T140000
DTEND;TZID=Europe/Berlin:20211106T160000
LOCATION:Speciální školy Hradec Králové\, Hradecká 1231 Hradec Králové
SUMMARY:1-JKY-B: H. Králové-Nymburk
END:VEVENT
BEGIN:VEVENT
UID:39616331-3234-4234-b937-626266316134
DTSTAMP:20260423T042832Z
DESCRIPTION:15/44 Kolín - Nymburk 1:3 (-12\,22\,-17\,-33)
DTSTART;TZID=Europe/Berlin:20211211T090000
DTEND;TZID=Europe/Berlin:20211211T110000
LOCATION:hala STAV\, SOŠ Kolín\, Brankovická 1417 Kolín - Kolín V
SUMMARY:1-JKY-B: Kolín-Nymburk
END:VEVENT
BEGIN:VEVENT
UID:31383263-6132-4262-a566-326137386565
DTSTAMP:20260423T042832Z
DESCRIPTION:16/47 Kolín - Nymburk 3:1 (-17\,24\,21\,22)
DTSTART;TZID=Europe/Berlin:20211211T130000
DTEND;TZID=Europe/Berlin:20211211T150000
LOCATION:hala STAV\, SOŠ Kolín\, Brankovická 1417 Kolín - Kolín V
SUMMARY:1-JKY-B: Kolín-Nymburk
END:VEVENT
BEGIN:VEVENT
UID:37393562-3763-4335-b332-363438616339
DTSTAMP:20260423T042832Z
DESCRIPTION:19/55 Náchod - Nymburk 0:3 (-20\,-17\,-15)
DTSTART;TZID=Europe/Berlin:20220116T100000
DTEND;TZID=Europe/Berlin:20220116T120000
LOCATION:SPORT KLUB Náchod\, Pražská 696 Náchod
SUMMARY:1-JKY-B: Náchod-Nymburk
END:VEVENT
BEGIN:VEVENT
UID:65623264-3630-4131-b661-386461333134
DTSTAMP:20260423T042832Z
DESCRIPTION:20/58 Náchod - Nymburk 0:3 (-14\,-18\,-21)
DTSTART;TZID=Europe/Berlin:20220116T140000
DTEND;TZID=Europe/Berlin:20220116T160000
LOCATION:SPORT KLUB Náchod\, Pražská 696 Náchod
SUMMARY:1-JKY-B: Náchod-Nymburk
END:VEVENT
BEGIN:VEVENT
UID:31343130-6634-4635-a134-613165356564
DTSTAMP:20260423T042832Z
DESCRIPTION:3/5 Nymburk - Kralupy 0:3 (-19\,-22\,-18)
DTSTART;TZID=Europe/Berlin:20220212T110000
DTEND;TZID=Europe/Berlin:20220212T130000
LOCATION:Zimní stadion\, U Stadionu 12 Nymburk
SUMMARY:1-JKY-I: Nymburk-Kralupy
END:VEVENT
BEGIN:VEVENT
UID:34643232-3439-4737-b632-316662366635
DTSTAMP:20260423T042832Z
DESCRIPTION:4/7 Nymburk - Kralupy 0:3 (-20\,-18\,-18)
DTSTART;TZID=Europe/Berlin:20220212T150000
DTEND;TZID=Europe/Berlin:20220212T170000
LOCATION:Zimní stadion\, U Stadionu 12 Nymburk
SUMMARY:1-JKY-I: Nymburk-Kralupy
END:VEVENT
BEGIN:VEVENT
UID:61303734-3365-4538-a665-303532633135
DTSTAMP:20260423T042832Z
DESCRIPTION:7/13 Nymburk - Bižuterie 0:3 (-22\,-16\,-20)
DTSTART;TZID=Europe/Berlin:20220313T100000
DTEND;TZID=Europe/Berlin:20220313T120000
LOCATION:Zimní stadion\, U Stadionu 12 Nymburk
SUMMARY:1-JKY-I: Nymburk-Bižuterie
END:VEVENT
BEGIN:VEVENT
UID:39383431-6264-4764-a561-616363663835
DTSTAMP:20260423T042832Z
DESCRIPTION:8/15 Nymburk - Bižuterie 0:3 (-17\,-17\,-19)
DTSTART;TZID=Europe/Berlin:20220313T140000
DTEND;TZID=Europe/Berlin:20220313T160000
LOCATION:Zimní stadion\, U Stadionu 12 Nymburk
SUMMARY:1-JKY-I: Nymburk-Bižuterie
END:VEVENT
BEGIN:VEVENT
UID:36613064-3265-4234-a137-313533653765
DTSTAMP:20260423T042832Z
DESCRIPTION:1/1 Bižuterie - Nymburk 3:0 (16\,16\,17)
DTSTART;TZID=Europe/Berlin:20220205T100000
DTEND;TZID=Europe/Berlin:20220205T120000
LOCATION:Městská sportovní hala\, U Přehrady 4747 Jablonec nad Nisou
SUMMARY:1-JKY-I: Bižuterie-Nymburk
END:VEVENT
BEGIN:VEVENT
UID:31636237-6633-4833-b138-316632376164
DTSTAMP:20260423T042832Z
DESCRIPTION:2/3 Bižuterie - Nymburk 3:0 (16\,18\,12)
DTSTART;TZID=Europe/Berlin:20220205T140000
DTEND;TZID=Europe/Berlin:20220205T160000
LOCATION:Městská sportovní hala\, U Přehrady 4747 Jablonec nad Nisou
SUMMARY:1-JKY-I: Bižuterie-Nymburk
END:VEVENT
BEGIN:VEVENT
UID:66346339-6437-4533-b535-386532383139
DTSTAMP:20260423T042832Z
DESCRIPTION:5/9 Kralupy - Nymburk 3:0 (21\,23\,22)
DTSTART;TZID=Europe/Berlin:20220312T100000
DTEND;TZID=Europe/Berlin:20220312T120000
LOCATION:TJ KRALUPY\, z.s.\, Gen. Klapálka 1029 Kralupy nad Vltavou
SUMMARY:1-JKY-I: Kralupy-Nymburk
END:VEVENT
BEGIN:VEVENT
UID:63343131-3736-4337-b030-353361663666
DTSTAMP:20260423T042832Z
DESCRIPTION:6/11 Kralupy - Nymburk 3:0 (13\,17\,21)
DTSTART;TZID=Europe/Berlin:20220312T140000
DTEND;TZID=Europe/Berlin:20220312T160000
LOCATION:TJ KRALUPY\, z.s.\, Gen. Klapálka 1029 Kralupy nad Vltavou
SUMMARY:1-JKY-I: Kralupy-Nymburk
END:VEVENT
BEGIN:VEVENT
UID:62356531-3635-4131-a130-663662363532
DTSTAMP:20260423T042832Z
DESCRIPTION:1/1 Rychnov n. K. - Nymburk 1:2 (-21\,18\,-6)
DTSTART;TZID=Europe/Berlin:20211016T090000
DTEND;TZID=Europe/Berlin:20211016T110000
LOCATION:Hala VOŠ a SPŠS\, U Stadionu 1166 Rychnov nad Kněžnou
SUMMARY:CP-JKY-B: Rychnov n. K.-Nymburk
END:VEVENT
BEGIN:VEVENT
UID:64356137-3634-4065-b466-393464356563
DTSTAMP:20260423T042832Z
DESCRIPTION:4/6 Uh. Hradiště - Nymburk 1:2 (21\,-12\,-8)
DTSTART;TZID=Europe/Berlin:20211016T120000
DTEND;TZID=Europe/Berlin:20211016T140000
LOCATION:Městská sportovní hala\, Stonky 860 Uherské Hradiště
SUMMARY:CP-JKY-B: Uh. Hradiště-Nymburk
END:VEVENT
BEGIN:VEVENT
UID:64663866-3239-4665-b034-383832323437
DTSTAMP:20260423T042832Z
DESCRIPTION:7/13 SK Třebín A - Nymburk 0:2 (-9\,-12)
DTSTART;TZID=Europe/Berlin:20211016T150000
DTEND;TZID=Europe/Berlin:20211016T170000
LOCATION:ZŠ Máj I\, M. Chlajna 1319 České Budějovice - České Budějovice 2
SUMMARY:CP-JKY-B: SK Třebín A-Nymburk
END:VEVENT
BEGIN:VEVENT
UID:34643762-3034-4361-b838-663362373766
DTSTAMP:20260423T042832Z
DESCRIPTION:8/15 TJ JUNIOR Brno - Nymburk 0:2 (-18\,-17)
DTSTART;TZID=Europe/Berlin:20211016T160000
DTEND;TZID=Europe/Berlin:20211016T180000
LOCATION:ZŠ Holzova 1\, Holzova 1461 Brno - Líšeň
SUMMARY:CP-JKY-B: TJ JUNIOR Brno-Nymburk
END:VEVENT
BEGIN:VEVENT
UID:65393532-6534-4637-b466-613338643630
DTSTAMP:20260423T042832Z
DESCRIPTION:10/20 Karlovy Vary - Nymburk 0:2 (-13\,-16)
DTSTART;TZID=Europe/Berlin:20211017T090000
DTEND;TZID=Europe/Berlin:20211017T110000
LOCATION:Mattoni Arena Hala míčových sportů\, Západní 1812 Karlovy Vary
SUMMARY:CP-JKY-B: Karlovy Vary-Nymburk
END:VEVENT
BEGIN:VEVENT
UID:35346231-3336-4264-a562-666566326665
DTSTAMP:20260423T042832Z
DESCRIPTION:11/24 Orion A - Nymburk 2:1 (17\,-12\,9)
DTSTART;TZID=Europe/Berlin:20211017T110000
DTEND;TZID=Europe/Berlin:20211017T130000
LOCATION:ZŠ Dolní Břežany\, Na Vršku 290 Dolní Břežany
SUMMARY:CP-JKY-B: Orion A-Nymburk
END:VEVENT
BEGIN:VEVENT
UID:64313737-6637-4232-b436-363439343764
DTSTAMP:20260423T042832Z
DESCRIPTION:12/26 Lanškroun - Nymburk 2:0 (12\,13)
DTSTART;TZID=Europe/Berlin:20211017T130000
DTEND;TZID=Europe/Berlin:20211017T150000
LOCATION:SOŠ a SOU Lanškroun\, Sokolská 288 Lanškroun - Ostrovské Předměstí
SUMMARY:CP-JKY-B: Lanškroun-Nymburk
END:VEVENT
BEGIN:VEVENT
UID:64666630-3236-4030-a431-663436396636
DTSTAMP:20260423T042832Z
DESCRIPTION:3/5 Nymburk - Lvi 2:X
DTSTART;TZID=Europe/Berlin:20211120T113000
DTEND;TZID=Europe/Berlin:20211120T133000
LOCATION:Zimní stadion\, U Stadionu 12 Nymburk
SUMMARY:CP-JKY-1A: Nymburk-Lvi
END:VEVENT
BEGIN:VEVENT
UID:65666161-6637-4130-b466-626634356632
DTSTAMP:20260423T042832Z
DESCRIPTION:7/13 Nymburk - Rychnov n. K. 2:1 (20\,-26\,6)
DTSTART;TZID=Europe/Berlin:20211120T163000
DTEND;TZID=Europe/Berlin:20211120T183000
LOCATION:Zimní stadion\, U Stadionu 12 Nymburk
SUMMARY:CP-JKY-1A: Nymburk-Rychnov n. K.
END:VEVENT
BEGIN:VEVENT
UID:39313966-3565-4335-b965-306531626435
DTSTAMP:20260423T042832Z
DESCRIPTION:11/21 Nymburk - Střešovice 1:2 (-25\,26\,-11)
DTSTART;TZID=Europe/Berlin:20211121T110000
DTEND;TZID=Europe/Berlin:20211121T130000
LOCATION:Zimní stadion\, U Stadionu 12 Nymburk
SUMMARY:CP-JKY-1A: Nymburk-Střešovice
END:VEVENT
BEGIN:VEVENT
UID:39343934-6364-4264-b031-646435363131
DTSTAMP:20260423T042832Z
DESCRIPTION:1/1 Kralupy - Nymburk 2:1 (-17\,23\,12)
DTSTART;TZID=Europe/Berlin:20211120T090000
DTEND;TZID=Europe/Berlin:20211120T110000
LOCATION:TJ KRALUPY\, z.s.\, Gen. Klapálka 1029 Kralupy nad Vltavou
SUMMARY:CP-JKY-1A: Kralupy-Nymburk
END:VEVENT
BEGIN:VEVENT
UID:36306634-6630-4132-b064-373335323634
DTSTAMP:20260423T042832Z
DESCRIPTION:5/9 Lanškroun - Nymburk 2:0 (24\,21)
DTSTART;TZID=Europe/Berlin:20211120T140000
DTEND;TZID=Europe/Berlin:20211120T160000
LOCATION:SOŠ a SOU Lanškroun\, Sokolská 288 Lanškroun - Ostrovské Předměstí
SUMMARY:CP-JKY-1A: Lanškroun-Nymburk
END:VEVENT
BEGIN:VEVENT
UID:66383739-6635-4963-a535-336663306361
DTSTAMP:20260423T042832Z
DESCRIPTION:9/17 H. Králové - Nymburk 2:0 (11\,20)
DTSTART;TZID=Europe/Berlin:20211121T083000
DTEND;TZID=Europe/Berlin:20211121T103000
LOCATION:TJ Slavia Hradec Králové\, Víta Nejedlého 1216 Hradec Králové
SUMMARY:CP-JKY-1A: H. Králové-Nymburk
END:VEVENT
BEGIN:VEVENT
UID:32306534-6262-4561-a432-333336336235
DTSTAMP:20260423T042832Z
DESCRIPTION:13/25 S V B C - Nymburk 2:1 (15\,-17\,8)
DTSTART;TZID=Europe/Berlin:20211121T133000
DTEND;TZID=Europe/Berlin:20211121T153000
SUMMARY:CP-JKY-1A: S V B C-Nymburk
END:VEVENT
BEGIN:VEVENT
UID:65323366-3165-4332-a139-383138386532
DTSTAMP:20260423T042832Z
DESCRIPTION:1/1 Nymburk - Uh. Hradiště
DTSTART;TZID=Europe/Berlin:20220122T093000
DTEND;TZID=Europe/Berlin:20220122T113000
LOCATION:Zimní stadion\, U Stadionu 12 Nymburk
SUMMARY:CP-JKY-2A: Nymburk-Uh. Hradiště
END:VEVENT
BEGIN:VEVENT
UID:39366535-3662-4139-b932-383932613536
DTSTAMP:20260423T042832Z
DESCRIPTION:3/7 Nymburk - H. Králové
DTSTART;TZID=Europe/Berlin:20220122T123000
DTEND;TZID=Europe/Berlin:20220122T143000
LOCATION:Zimní stadion\, U Stadionu 12 Nymburk
SUMMARY:CP-JKY-2A: Nymburk-H. Králové
END:VEVENT
BEGIN:VEVENT
UID:33636535-6338-4331-b065-376465306535
DTSTAMP:20260423T042832Z
DESCRIPTION:5/12 Nymburk - Orion A
DTSTART;TZID=Europe/Berlin:20220122T153000
DTEND;TZID=Europe/Berlin:20220122T173000
LOCATION:Zimní stadion\, U Stadionu 12 Nymburk
SUMMARY:CP-JKY-2A: Nymburk-Orion A
END:VEVENT
BEGIN:VEVENT
UID:34653831-3536-4962-a335-646364316161
DTSTAMP:20260423T042832Z
DESCRIPTION:9/25 Nymburk - Střešovice
DTSTART;TZID=Europe/Berlin:20220123T103000
DTEND;TZID=Europe/Berlin:20220123T123000
LOCATION:Zimní stadion\, U Stadionu 12 Nymburk
SUMMARY:CP-JKY-2A: Nymburk-Střešovice
END:VEVENT
BEGIN:VEVENT
UID:65613033-6133-4332-b465-616431316130
DTSTAMP:20260423T042832Z
DESCRIPTION:6/15 Kralupy - Nymburk
DTSTART;TZID=Europe/Berlin:20220122T170000
DTEND;TZID=Europe/Berlin:20220122T190000
LOCATION:TJ KRALUPY\, z.s.\, Gen. Klapálka 1029 Kralupy nad Vltavou
SUMMARY:CP-JKY-2A: Kralupy-Nymburk
END:VEVENT
BEGIN:VEVENT
UID:62313333-6162-4830-b364-383062323136
DTSTAMP:20260423T042832Z
DESCRIPTION:7/19 Lanškroun - Nymburk
DTSTART;TZID=Europe/Berlin:20220122T183000
DTEND;TZID=Europe/Berlin:20220122T203000
LOCATION:SOŠ a SOU Lanškroun\, Sokolská 288 Lanškroun - Ostrovské Předměstí
SUMMARY:CP-JKY-2A: Lanškroun-Nymburk
END:VEVENT
BEGIN:VEVENT
UID:35303533-6433-4837-b139-353134386435
DTSTAMP:20260423T042832Z
DESCRIPTION:8/22 S V B C - Nymburk
DTSTART;TZID=Europe/Berlin:20220123T090000
DTEND;TZID=Europe/Berlin:20220123T110000
SUMMARY:CP-JKY-2A: S V B C-Nymburk
END:VEVENT
BEGIN:VEVENT
UID:62313134-3736-4934-b936-633733653265
DTSTAMP:20260423T042832Z
DESCRIPTION:3/6 Nymburk - Lanškroun 0:2 (-23\,-20)
DTSTART;TZID=Europe/Berlin:20220219T113000
DTEND;TZID=Europe/Berlin:20220219T133000
LOCATION:Zimní stadion\, U Stadionu 12 Nymburk
SUMMARY:CP-JKY-3A: Nymburk-Lanškroun
END:VEVENT
BEGIN:VEVENT
UID:39396539-3636-4762-a232-613762626538
DTSTAMP:20260423T042832Z
DESCRIPTION:6/11 Nymburk - S V B C 1:2 (-19\,15\,-5)
DTSTART;TZID=Europe/Berlin:20220219T151500
DTEND;TZID=Europe/Berlin:20220219T171500
LOCATION:Zimní stadion\, U Stadionu 12 Nymburk
SUMMARY:CP-JKY-3A: Nymburk-S V B C
END:VEVENT
BEGIN:VEVENT
UID:38663436-6461-4836-b430-376262363937
DTSTAMP:20260423T042832Z
DESCRIPTION:8/16 Nymburk - Kralupy 0:2 (-16\,-19)
DTSTART;TZID=Europe/Berlin:20220219T174500
DTEND;TZID=Europe/Berlin:20220219T194500
LOCATION:Zimní stadion\, U Stadionu 12 Nymburk
SUMMARY:CP-JKY-3A: Nymburk-Kralupy
END:VEVENT
BEGIN:VEVENT
UID:35326266-3566-4662-a163-363735656362
DTSTAMP:20260423T042832Z
DESCRIPTION:1/2 Střešovice - Nymburk 0:2 (-14\,-16)
DTSTART;TZID=Europe/Berlin:20220219T090000
DTEND;TZID=Europe/Berlin:20220219T110000
LOCATION:TJ Tatran Střešovice\, Sibeliova 368 Praha - Střešovice
SUMMARY:CP-JKY-3A: Střešovice-Nymburk
END:VEVENT
BEGIN:VEVENT
UID:31386238-6364-4434-b062-386236633665
DTSTAMP:20260423T042832Z
DESCRIPTION:11/21 Uh. Hradiště - Nymburk 0:2 (-24\,-12)
DTSTART;TZID=Europe/Berlin:20220220T091500
DTEND;TZID=Europe/Berlin:20220220T111500
LOCATION:Městská sportovní hala\, Stonky 860 Uherské Hradiště
SUMMARY:CP-JKY-3A: Uh. Hradiště-Nymburk
END:VEVENT
BEGIN:VEVENT
UID:38623735-6135-4535-b235-376230353664
DTSTAMP:20260423T042832Z
DESCRIPTION:12/24 Orion A - Nymburk 2:1 (18\,-19\,13)
DTSTART;TZID=Europe/Berlin:20220220T114500
DTEND;TZID=Europe/Berlin:20220220T134500
LOCATION:ZŠ Dolní Břežany\, Na Vršku 290 Dolní Břežany
SUMMARY:CP-JKY-3A: Orion A-Nymburk
END:VEVENT
BEGIN:VEVENT
UID:31656435-6362-4861-b536-313162313762
DTSTAMP:20260423T042832Z
DESCRIPTION:13/26 H. Králové - Nymburk 1:2 (25\,-23\,-14)
DTSTART;TZID=Europe/Berlin:20220220T174500
DTEND;TZID=Europe/Berlin:20220220T194500
LOCATION:TJ Slavia Hradec Králové\, Víta Nejedlého 1216 Hradec Králové
SUMMARY:CP-JKY-3A: H. Králové-Nymburk
END:VEVENT
BEGIN:VEVENT
UID:32353139-6331-4562-b936-656136663461
DTSTAMP:20260423T042832Z
DESCRIPTION:4/5 Nymburk - Kralupy 0:2 (-15\,-16)
DTSTART;TZID=Europe/Berlin:20220319T120000
DTEND;TZID=Europe/Berlin:20220319T140000
LOCATION:Zimní stadion\, U Stadionu 12 Nymburk
SUMMARY:CP-JKY-4A: Nymburk-Kralupy
END:VEVENT
BEGIN:VEVENT
UID:37623434-3439-4864-b732-313231626462
DTSTAMP:20260423T042832Z
DESCRIPTION:9/14 Nymburk - H. Králové 2:0 (17\,21)
DTSTART;TZID=Europe/Berlin:20220319T170000
DTEND;TZID=Europe/Berlin:20220319T190000
LOCATION:Zimní stadion\, U Stadionu 12 Nymburk
SUMMARY:CP-JKY-4A: Nymburk-H. Králové
END:VEVENT
BEGIN:VEVENT
UID:33363964-6237-4939-b066-346635343261
DTSTAMP:20260423T042832Z
DESCRIPTION:12/20 Nymburk - S V B C 0:2 (-20\,-24)
DTSTART;TZID=Europe/Berlin:20220320T093000
DTEND;TZID=Europe/Berlin:20220320T113000
LOCATION:Zimní stadion\, U Stadionu 12 Nymburk
SUMMARY:CP-JKY-4A: Nymburk-S V B C
END:VEVENT
BEGIN:VEVENT
UID:35323034-6238-4561-a636-316161316263
DTSTAMP:20260423T042832Z
DESCRIPTION:14/25 Nymburk - Rychnov n. K. 2:1 (14\,-20\,6)
DTSTART;TZID=Europe/Berlin:20220320T113000
DTEND;TZID=Europe/Berlin:20220320T133000
LOCATION:Zimní stadion\, U Stadionu 12 Nymburk
SUMMARY:CP-JKY-4A: Nymburk-Rychnov n. K.
END:VEVENT
BEGIN:VEVENT
UID:30323365-6462-4838-a436-383865663530
DTSTAMP:20260423T042832Z
DESCRIPTION:3/3 Uh. Hradiště - Nymburk 1:2 (-17\,17\,-2)
DTSTART;TZID=Europe/Berlin:20220319T110000
DTEND;TZID=Europe/Berlin:20220319T130000
LOCATION:Městská sportovní hala\, Stonky 860 Uherské Hradiště
SUMMARY:CP-JKY-4A: Uh. Hradiště-Nymburk
END:VEVENT
BEGIN:VEVENT
UID:63383737-6331-4436-b662-363162623965
DTSTAMP:20260423T042832Z
DESCRIPTION:7/10 Lanškroun - Nymburk 2:0 (19\,21)
DTSTART;TZID=Europe/Berlin:20220319T150000
DTEND;TZID=Europe/Berlin:20220319T170000
LOCATION:SOŠ a SOU Lanškroun\, Sokolská 288 Lanškroun - Ostrovské Předměstí
SUMMARY:CP-JKY-4A: Lanškroun-Nymburk
END:VEVENT
BEGIN:VEVENT
UID:65366334-3336-4661-b766-393162326364
DTSTAMP:20260423T042832Z
DESCRIPTION:13/23 Lvi - Nymburk 0:2 (-15\,-20)
DTSTART;TZID=Europe/Berlin:20220320T103000
DTEND;TZID=Europe/Berlin:20220320T123000
LOCATION:Sportovní hala ZŠ\, náměstí Českého povstání 511 Praha - Ruzyně
SUMMARY:CP-JKY-4A: Lvi-Nymburk
END:VEVENT
END:VCALENDAR
