BEGIN:VCALENDAR
VERSION:2.0
PRODID:-//TJ Sokol Pardubice I.76277//NONSGML kigkonsult.se iCalcreator 2.41.80//
CALSCALE:GREGORIAN
UID:63326466-6361-4465-a637-663161343035
BEGIN:VEVENT
UID:35306565-6131-4161-b539-373538613738
DTSTAMP:20260423T070856Z
DESCRIPTION:5/13 Pardubice - Žďár n. S. 3:0 (19\,23\,16)
DTSTART;TZID=Europe/Berlin:20211023T110000
DTEND;TZID=Europe/Berlin:20211023T130000
LOCATION:Sokolovna\, Jiráskova 29 Pardubice - Zelené Předměstí
SUMMARY:1-JKY-E: Pardubice-Žďár n. S.
END:VEVENT
BEGIN:VEVENT
UID:37373163-3264-4635-b830-626639373830
DTSTAMP:20260423T070856Z
DESCRIPTION:6/16 Pardubice - Žďár n. S. 3:0 (17\,19\,16)
DTSTART;TZID=Europe/Berlin:20211023T150000
DTEND;TZID=Europe/Berlin:20211023T170000
LOCATION:Sokolovna\, Jiráskova 29 Pardubice - Zelené Předměstí
SUMMARY:1-JKY-E: Pardubice-Žďár n. S.
END:VEVENT
BEGIN:VEVENT
UID:61313136-3863-4362-b330-383862366433
DTSTAMP:20260423T070856Z
DESCRIPTION:7/21 Pardubice - Nové Veselí 1:3 (-9\,-19\,23\,-22)
DTSTART;TZID=Europe/Berlin:20211120T110000
DTEND;TZID=Europe/Berlin:20211120T130000
LOCATION:Sokolovna\, Jiráskova 29 Pardubice - Zelené Předměstí
SUMMARY:1-JKY-E: Pardubice-Nové Veselí
END:VEVENT
BEGIN:VEVENT
UID:62333665-6662-4533-b564-336630363131
DTSTAMP:20260423T070856Z
DESCRIPTION:8/24 Pardubice - Nové Veselí 2:3 (24\,25\,-24\,-10\,-6)
DTSTART;TZID=Europe/Berlin:20211120T150000
DTEND;TZID=Europe/Berlin:20211120T170000
LOCATION:Sokolovna\, Jiráskova 29 Pardubice - Zelené Předměstí
SUMMARY:1-JKY-E: Pardubice-Nové Veselí
END:VEVENT
BEGIN:VEVENT
UID:61323064-3261-4666-a263-653835373538
DTSTAMP:20260423T070856Z
DESCRIPTION:13/39 Pardubice - Rychnov n. K. 2:3 (-22\,20\,16\,-14\,-13)\nPř
 eloženo COVID-19
DTSTART;TZID=Europe/Berlin:20211205T100000
DTEND;TZID=Europe/Berlin:20211205T120000
LOCATION:Sokolovna\, Jiráskova 29 Pardubice - Zelené Předměstí
SUMMARY:1-JKY-E: Pardubice-Rychnov n. K.
END:VEVENT
BEGIN:VEVENT
UID:32386462-3434-4131-a165-336562656261
DTSTAMP:20260423T070856Z
DESCRIPTION:14/42 Pardubice - Rychnov n. K. 3:1 (20\,27\,-14\,19)\nPřeložen
 o COVID-19
DTSTART;TZID=Europe/Berlin:20211205T140000
DTEND;TZID=Europe/Berlin:20211205T160000
LOCATION:Sokolovna\, Jiráskova 29 Pardubice - Zelené Předměstí
SUMMARY:1-JKY-E: Pardubice-Rychnov n. K.
END:VEVENT
BEGIN:VEVENT
UID:36613831-3662-4863-a631-656136316530
DTSTAMP:20260423T070856Z
DESCRIPTION:19/56 Pardubice - Jehnice 3:0 (14\,20\,19)
DTSTART;TZID=Europe/Berlin:20220116T100000
DTEND;TZID=Europe/Berlin:20220116T120000
LOCATION:Sokolovna\, Jiráskova 29 Pardubice - Zelené Předměstí
SUMMARY:1-JKY-E: Pardubice-Jehnice
END:VEVENT
BEGIN:VEVENT
UID:32616462-6533-4638-b932-343832323139
DTSTAMP:20260423T070856Z
DESCRIPTION:20/59 Pardubice - Jehnice 3:0 (19\,18\,17)
DTSTART;TZID=Europe/Berlin:20220116T140000
DTEND;TZID=Europe/Berlin:20220116T160000
LOCATION:Sokolovna\, Jiráskova 29 Pardubice - Zelené Předměstí
SUMMARY:1-JKY-E: Pardubice-Jehnice
END:VEVENT
BEGIN:VEVENT
UID:64326361-3765-4134-b365-653639356538
DTSTAMP:20260423T070856Z
DESCRIPTION:3/9 Rychnov n. K. - Pardubice 3:0 (12\,21\,17)
DTSTART;TZID=Europe/Berlin:20211009T100000
DTEND;TZID=Europe/Berlin:20211009T120000
LOCATION:Hala VOŠ a SPŠS\, U Stadionu 1166 Rychnov nad Kněžnou
SUMMARY:1-JKY-E: Rychnov n. K.-Pardubice
END:VEVENT
BEGIN:VEVENT
UID:36613764-6238-4632-a235-383362643235
DTSTAMP:20260423T070856Z
DESCRIPTION:4/12 Rychnov n. K. - Pardubice 3:1 (22\,-27\,16\,12)
DTSTART;TZID=Europe/Berlin:20211009T140000
DTEND;TZID=Europe/Berlin:20211009T160000
LOCATION:Hala VOŠ a SPŠS\, U Stadionu 1166 Rychnov nad Kněžnou
SUMMARY:1-JKY-E: Rychnov n. K.-Pardubice
END:VEVENT
BEGIN:VEVENT
UID:62613864-3963-4130-b030-393639653961
DTSTAMP:20260423T070856Z
DESCRIPTION:9/26 Jehnice - Pardubice 0:3 (-24\,-19\,-18)
DTSTART;TZID=Europe/Berlin:20211113T100000
DTEND;TZID=Europe/Berlin:20211113T120000
LOCATION:TJ Sokol Jehnice\, Blanenská 1 Brno - Jehnice
SUMMARY:1-JKY-E: Jehnice-Pardubice
END:VEVENT
BEGIN:VEVENT
UID:35306233-6231-4333-b362-623334353633
DTSTAMP:20260423T070856Z
DESCRIPTION:10/29 Jehnice - Pardubice 0:3 (-23\,-20\,-18)
DTSTART;TZID=Europe/Berlin:20211113T140000
DTEND;TZID=Europe/Berlin:20211113T160000
LOCATION:TJ Sokol Jehnice\, Blanenská 1 Brno - Jehnice
SUMMARY:1-JKY-E: Jehnice-Pardubice
END:VEVENT
BEGIN:VEVENT
UID:64343661-3964-4534-b162-613061656462
DTSTAMP:20260423T070856Z
DESCRIPTION:15/43 Žďár n. S. - Pardubice 0:3 (-17\,-13\,-23)
DTSTART;TZID=Europe/Berlin:20211211T090000
DTEND;TZID=Europe/Berlin:20211211T110000
LOCATION:Sportovní hala na Bouchalkách\, Jungmannova 1495 Žďár nad Sázavou 
 - Žďár nad Sázavou 1
SUMMARY:1-JKY-E: Žďár n. S.-Pardubice
END:VEVENT
BEGIN:VEVENT
UID:64333833-3032-4465-a532-653331313066
DTSTAMP:20260423T070856Z
DESCRIPTION:16/46 Žďár n. S. - Pardubice 1:3 (19\,-18\,-23\,-11)
DTSTART;TZID=Europe/Berlin:20211211T130000
DTEND;TZID=Europe/Berlin:20211211T150000
LOCATION:Sportovní hala na Bouchalkách\, Jungmannova 1495 Žďár nad Sázavou 
 - Žďár nad Sázavou 1
SUMMARY:1-JKY-E: Žďár n. S.-Pardubice
END:VEVENT
BEGIN:VEVENT
UID:32343537-3335-4530-b638-623765386239
DTSTAMP:20260423T070856Z
DESCRIPTION:17/51 Nové Veselí - Pardubice 3:0 (13\,13\,13)
DTSTART;TZID=Europe/Berlin:20220108T100000
DTEND;TZID=Europe/Berlin:20220108T120000
LOCATION:Víceúčelová sportovní hala Nové Veselí\, Žďárská 356 Nové Veselí
SUMMARY:1-JKY-E: Nové Veselí-Pardubice
END:VEVENT
BEGIN:VEVENT
UID:64323534-3061-4064-b165-396331663530
DTSTAMP:20260423T070856Z
DESCRIPTION:18/54 Nové Veselí - Pardubice 3:0 (14\,19\,11)
DTSTART;TZID=Europe/Berlin:20220108T140000
DTEND;TZID=Europe/Berlin:20220108T160000
LOCATION:Víceúčelová sportovní hala Nové Veselí\, Žďárská 356 Nové Veselí
SUMMARY:1-JKY-E: Nové Veselí-Pardubice
END:VEVENT
BEGIN:VEVENT
UID:35393335-3339-4964-a266-333830623237
DTSTAMP:20260423T070856Z
DESCRIPTION:1/2 Pardubice - Demlova 3:1 (13\,21\,-13\,17)
DTSTART;TZID=Europe/Berlin:20220205T100000
DTEND;TZID=Europe/Berlin:20220205T120000
LOCATION:Sokolovna\, Jiráskova 29 Pardubice - Zelené Předměstí
SUMMARY:1-JKY-III: Pardubice-Demlova
END:VEVENT
BEGIN:VEVENT
UID:39303334-6661-4135-a131-393262616164
DTSTAMP:20260423T070856Z
DESCRIPTION:2/4 Pardubice - Demlova 0:3 (-19\,-16\,-13)
DTSTART;TZID=Europe/Berlin:20220205T140000
DTEND;TZID=Europe/Berlin:20220205T160000
LOCATION:Sokolovna\, Jiráskova 29 Pardubice - Zelené Předměstí
SUMMARY:1-JKY-III: Pardubice-Demlova
END:VEVENT
BEGIN:VEVENT
UID:61356361-3333-4531-a561-666665356231
DTSTAMP:20260423T070856Z
DESCRIPTION:5/9 Pardubice - H. Brod 2:3 (-18\,16\,17\,-22\,-4)
DTSTART;TZID=Europe/Berlin:20220226T100000
DTEND;TZID=Europe/Berlin:20220226T120000
LOCATION:Sokolovna\, Jiráskova 29 Pardubice - Zelené Předměstí
SUMMARY:1-JKY-III: Pardubice-H. Brod
END:VEVENT
BEGIN:VEVENT
UID:38663061-6461-4431-b038-303131376531
DTSTAMP:20260423T070856Z
DESCRIPTION:6/11 Pardubice - H. Brod 0:3 (-20\,-24\,-22)
DTSTART;TZID=Europe/Berlin:20220226T140000
DTEND;TZID=Europe/Berlin:20220226T160000
LOCATION:Sokolovna\, Jiráskova 29 Pardubice - Zelené Předměstí
SUMMARY:1-JKY-III: Pardubice-H. Brod
END:VEVENT
BEGIN:VEVENT
UID:38333533-3837-4036-b962-333934643338
DTSTAMP:20260423T070856Z
DESCRIPTION:3/5 H. Brod - Pardubice 3:0 (23\,19\,23)
DTSTART;TZID=Europe/Berlin:20220212T090000
DTEND;TZID=Europe/Berlin:20220212T110000
LOCATION:Sportovní hala TJ Jiskra\, Ledečská 3028 Havlíčkův Brod
SUMMARY:1-JKY-III: H. Brod-Pardubice
END:VEVENT
BEGIN:VEVENT
UID:66646538-3432-4666-a631-303966643130
DTSTAMP:20260423T070856Z
DESCRIPTION:4/7 H. Brod - Pardubice 3:2 (13\,-22\,-21\,23\,10)
DTSTART;TZID=Europe/Berlin:20220212T130000
DTEND;TZID=Europe/Berlin:20220212T150000
LOCATION:Sportovní hala TJ Jiskra\, Ledečská 3028 Havlíčkův Brod
SUMMARY:1-JKY-III: H. Brod-Pardubice
END:VEVENT
BEGIN:VEVENT
UID:62363934-3636-4637-b432-303131313039
DTSTAMP:20260423T070856Z
DESCRIPTION:7/14 Demlova - Pardubice 3:0 (20\,19\,17)
DTSTART;TZID=Europe/Berlin:20220312T100000
DTEND;TZID=Europe/Berlin:20220312T120000
LOCATION:ZŠ Jihlava Demlova\, Demlova 4178 Jihlava
SUMMARY:1-JKY-III: Demlova-Pardubice
END:VEVENT
BEGIN:VEVENT
UID:62386136-3636-4638-a339-373434636466
DTSTAMP:20260423T070856Z
DESCRIPTION:8/16 Demlova - Pardubice 3:0 (13\,18\,20)
DTSTART;TZID=Europe/Berlin:20220312T140000
DTEND;TZID=Europe/Berlin:20220312T160000
LOCATION:ZŠ Jihlava Demlova\, Demlova 4178 Jihlava
SUMMARY:1-JKY-III: Demlova-Pardubice
END:VEVENT
END:VCALENDAR
