BEGIN:VCALENDAR
VERSION:2.0
PRODID:-//VK Univerzity Palackého v Olomouci76284//NONSGML kigkonsult.se iCalcreator 2.41.80//
CALSCALE:GREGORIAN
UID:34343166-3536-4638-b335-383566303365
BEGIN:VEVENT
UID:30616461-6633-4162-b536-623366623565
DTSTAMP:20260423T044305Z
DESCRIPTION:3/7 Olomouc - Vyškov 3:0 (14\,8\,14)
DTSTART;TZID=Europe/Berlin:20211010T100000
DTEND;TZID=Europe/Berlin:20211010T120000
LOCATION:UP Olomouc\, U sportovní haly 38 Olomouc - Lazce
SUMMARY:1-JKY-G: Olomouc-Vyškov
END:VEVENT
BEGIN:VEVENT
UID:37363463-3934-4131-a132-343037626531
DTSTAMP:20260423T044305Z
DESCRIPTION:4/10 Olomouc - Vyškov 3:0 (13\,4\,12)
DTSTART;TZID=Europe/Berlin:20211010T140000
DTEND;TZID=Europe/Berlin:20211010T160000
LOCATION:UP Olomouc\, U sportovní haly 38 Olomouc - Lazce
SUMMARY:1-JKY-G: Olomouc-Vyškov
END:VEVENT
BEGIN:VEVENT
UID:63303562-3238-4761-b662-626539396633
DTSTAMP:20260423T044305Z
DESCRIPTION:7/19 Olomouc - Frenštát p. R. 3:0 (16\,10\,8)
DTSTART;TZID=Europe/Berlin:20211030T100000
DTEND;TZID=Europe/Berlin:20211030T120000
LOCATION:UP Olomouc\, U sportovní haly 38 Olomouc - Lazce
SUMMARY:1-JKY-G: Olomouc-Frenštát p. R.
END:VEVENT
BEGIN:VEVENT
UID:39613034-3264-4965-a236-383130396265
DTSTAMP:20260423T044305Z
DESCRIPTION:8/22 Olomouc - Frenštát p. R. 3:0 (21\,20\,17)
DTSTART;TZID=Europe/Berlin:20211030T140000
DTEND;TZID=Europe/Berlin:20211030T160000
LOCATION:UP Olomouc\, U sportovní haly 38 Olomouc - Lazce
SUMMARY:1-JKY-G: Olomouc-Frenštát p. R.
END:VEVENT
BEGIN:VEVENT
UID:39616335-3632-4735-b964-366233323563
DTSTAMP:20260423T044305Z
DESCRIPTION:11/31 Olomouc - Uh. Hradiště 1:3 (-12\,-23\,22\,-12)
DTSTART;TZID=Europe/Berlin:20211128T100000
DTEND;TZID=Europe/Berlin:20211128T120000
LOCATION:UP Olomouc\, U sportovní haly 38 Olomouc - Lazce
SUMMARY:1-JKY-G: Olomouc-Uh. Hradiště
END:VEVENT
BEGIN:VEVENT
UID:37303334-3236-4732-b130-353931326430
DTSTAMP:20260423T044305Z
DESCRIPTION:12/34 Olomouc - Uh. Hradiště 0:3 (-14\,-19\,-13)
DTSTART;TZID=Europe/Berlin:20211128T140000
DTEND;TZID=Europe/Berlin:20211128T160000
LOCATION:UP Olomouc\, U sportovní haly 38 Olomouc - Lazce
SUMMARY:1-JKY-G: Olomouc-Uh. Hradiště
END:VEVENT
BEGIN:VEVENT
UID:63626163-3764-4336-b362-633930323265
DTSTAMP:20260423T044305Z
DESCRIPTION:15/43 Olomouc - Kroměříž 3:2 (-20\,22\,19\,-22\,7)\nPřeloženo C
 OVID-19
DTSTART;TZID=Europe/Berlin:20211218T090000
DTEND;TZID=Europe/Berlin:20211218T110000
LOCATION:UP Olomouc\, U sportovní haly 38 Olomouc - Lazce
SUMMARY:1-JKY-G: Olomouc-Kroměříž
END:VEVENT
BEGIN:VEVENT
UID:31663230-6638-4466-b266-653836323630
DTSTAMP:20260423T044305Z
DESCRIPTION:16/46 Olomouc - Kroměříž 3:0 (15\,15\,23)\nPřeloženo COVID-19
DTSTART;TZID=Europe/Berlin:20211218T130000
DTEND;TZID=Europe/Berlin:20211218T150000
LOCATION:UP Olomouc\, U sportovní haly 38 Olomouc - Lazce
SUMMARY:1-JKY-G: Olomouc-Kroměříž
END:VEVENT
BEGIN:VEVENT
UID:33303834-6335-4834-b430-636638363862
DTSTAMP:20260423T044305Z
DESCRIPTION:19/55 Olomouc - Zlín 3:0 (17\,17\,10)
DTSTART;TZID=Europe/Berlin:20220116T100000
DTEND;TZID=Europe/Berlin:20220116T120000
LOCATION:UP Olomouc\, U sportovní haly 38 Olomouc - Lazce
SUMMARY:1-JKY-G: Olomouc-Zlín
END:VEVENT
BEGIN:VEVENT
UID:65633631-3432-4832-b962-336633396138
DTSTAMP:20260423T044305Z
DESCRIPTION:20/58 Olomouc - Zlín 3:0 (22\,17\,15)
DTSTART;TZID=Europe/Berlin:20220116T140000
DTEND;TZID=Europe/Berlin:20220116T160000
LOCATION:UP Olomouc\, U sportovní haly 38 Olomouc - Lazce
SUMMARY:1-JKY-G: Olomouc-Zlín
END:VEVENT
BEGIN:VEVENT
UID:34666236-3964-4561-a339-656663313939
DTSTAMP:20260423T044305Z
DESCRIPTION:1/1 Uh. Hradiště - Olomouc 0:3 (-21\,-21\,-17)
DTSTART;TZID=Europe/Berlin:20211002T100000
DTEND;TZID=Europe/Berlin:20211002T120000
LOCATION:Městská sportovní hala\, Stonky 860 Uherské Hradiště
SUMMARY:1-JKY-G: Uh. Hradiště-Olomouc
END:VEVENT
BEGIN:VEVENT
UID:31346233-3862-4631-a666-353136666534
DTSTAMP:20260423T044305Z
DESCRIPTION:2/4 Uh. Hradiště - Olomouc 1:3 (-22\,16\,-17\,-19)
DTSTART;TZID=Europe/Berlin:20211002T140000
DTEND;TZID=Europe/Berlin:20211002T160000
LOCATION:Městská sportovní hala\, Stonky 860 Uherské Hradiště
SUMMARY:1-JKY-G: Uh. Hradiště-Olomouc
END:VEVENT
BEGIN:VEVENT
UID:35373964-3836-4964-b037-666433303136
DTSTAMP:20260423T044305Z
DESCRIPTION:5/13 Kroměříž - Olomouc 0:3 (-21\,-19\,-12)
DTSTART;TZID=Europe/Berlin:20211024T140000
DTEND;TZID=Europe/Berlin:20211024T160000
LOCATION:Městská sportovní hala\, Hanusíkova 1476 Kojetín - Kojetín I-Město
SUMMARY:1-JKY-G: Kroměříž-Olomouc
END:VEVENT
BEGIN:VEVENT
UID:31383866-3062-4265-b538-363761323633
DTSTAMP:20260423T044305Z
DESCRIPTION:6/16 Kroměříž - Olomouc 2:3 (-18\,22\,-15\,18\,-10)
DTSTART;TZID=Europe/Berlin:20211024T170000
DTEND;TZID=Europe/Berlin:20211024T190000
LOCATION:Městská sportovní hala\, Hanusíkova 1476 Kojetín - Kojetín I-Město
SUMMARY:1-JKY-G: Kroměříž-Olomouc
END:VEVENT
BEGIN:VEVENT
UID:62636262-3662-4631-b737-626337613939
DTSTAMP:20260423T044305Z
DESCRIPTION:9/25 Zlín - Olomouc 0:3 (-15\,-14\,-23)
DTSTART;TZID=Europe/Berlin:20211121T110000
DTEND;TZID=Europe/Berlin:20211121T130000
LOCATION:Sportovní hala Datart Zlín\, U Zimního stadionu 4286 Zlín
SUMMARY:1-JKY-G: Zlín-Olomouc
END:VEVENT
BEGIN:VEVENT
UID:38313231-6464-4136-b530-393035366265
DTSTAMP:20260423T044305Z
DESCRIPTION:10/28 Zlín - Olomouc 0:3 (-18\,-20\,-21)
DTSTART;TZID=Europe/Berlin:20211121T150000
DTEND;TZID=Europe/Berlin:20211121T170000
LOCATION:Sportovní hala Datart Zlín\, U Zimního stadionu 4286 Zlín
SUMMARY:1-JKY-G: Zlín-Olomouc
END:VEVENT
BEGIN:VEVENT
UID:65343333-6466-4534-a135-396632336535
DTSTAMP:20260423T044305Z
DESCRIPTION:13/37 Vyškov - Olomouc 0:3 (-20\,-11\,-12)\nPřeloženo COVID-19
DTSTART;TZID=Europe/Berlin:20220103T150000
DTEND;TZID=Europe/Berlin:20220103T170000
LOCATION:Tělocvična ZŠ Nádražní\, Nádražní 5 Vyškov - Vyškov-Město
SUMMARY:1-JKY-G: Vyškov-Olomouc
END:VEVENT
BEGIN:VEVENT
UID:65646232-6562-4531-a130-313766643934
DTSTAMP:20260423T044305Z
DESCRIPTION:14/40 Vyškov - Olomouc 0:3 (-15\,-13\,-16)\nPřeloženo COVID-19
DTSTART;TZID=Europe/Berlin:20220103T180000
DTEND;TZID=Europe/Berlin:20220103T200000
LOCATION:Tělocvična ZŠ Nádražní\, Nádražní 5 Vyškov - Vyškov-Město
SUMMARY:1-JKY-G: Vyškov-Olomouc
END:VEVENT
BEGIN:VEVENT
UID:62353336-6661-4561-b534-346436626439
DTSTAMP:20260423T044305Z
DESCRIPTION:17/49 Frenštát p. R. - Olomouc 0:3 (-14\,-15\,-21)
DTSTART;TZID=Europe/Berlin:20220108T100000
DTEND;TZID=Europe/Berlin:20220108T120000
LOCATION:Tělocvična ZŠ Tyršova\, Frenštát\, Tyršova 913 Frenštát pod Radhoš
 těm
SUMMARY:1-JKY-G: Frenštát p. R.-Olomouc
END:VEVENT
BEGIN:VEVENT
UID:64383939-6265-4134-b730-666366353965
DTSTAMP:20260423T044305Z
DESCRIPTION:18/52 Frenštát p. R. - Olomouc 3:1 (16\,-22\,18\,21)
DTSTART;TZID=Europe/Berlin:20220108T140000
DTEND;TZID=Europe/Berlin:20220108T160000
LOCATION:Tělocvična ZŠ Tyršova\, Frenštát\, Tyršova 913 Frenštát pod Radhoš
 těm
SUMMARY:1-JKY-G: Frenštát p. R.-Olomouc
END:VEVENT
BEGIN:VEVENT
UID:39376538-6265-4037-b135-666234343465
DTSTAMP:20260423T044305Z
DESCRIPTION:1/2 Olomouc - Nový Jičín 3:2 (13\,23\,-22\,-22\,8)
DTSTART;TZID=Europe/Berlin:20220219T100000
DTEND;TZID=Europe/Berlin:20220219T120000
LOCATION:UP Olomouc\, U sportovní haly 38 Olomouc - Lazce
SUMMARY:1-JKY-IV: Olomouc-Nový Jičín
END:VEVENT
BEGIN:VEVENT
UID:36646130-3632-4632-a233-373539623761
DTSTAMP:20260423T044305Z
DESCRIPTION:2/4 Olomouc - Nový Jičín 0:3 (-16\,-22\,-21)
DTSTART;TZID=Europe/Berlin:20220219T140000
DTEND;TZID=Europe/Berlin:20220219T160000
LOCATION:UP Olomouc\, U sportovní haly 38 Olomouc - Lazce
SUMMARY:1-JKY-IV: Olomouc-Nový Jičín
END:VEVENT
BEGIN:VEVENT
UID:64353330-6136-4663-a236-613466633533
DTSTAMP:20260423T044305Z
DESCRIPTION:5/9 Olomouc - Ostrava C 3:1 (20\,-22\,17\,13)
DTSTART;TZID=Europe/Berlin:20220306T110000
DTEND;TZID=Europe/Berlin:20220306T130000
LOCATION:UP Olomouc\, U sportovní haly 38 Olomouc - Lazce
SUMMARY:1-JKY-IV: Olomouc-Ostrava C
END:VEVENT
BEGIN:VEVENT
UID:33356434-3663-4230-b663-396237303332
DTSTAMP:20260423T044305Z
DESCRIPTION:6/11 Olomouc - Ostrava C 3:0 (24\,19\,22)
DTSTART;TZID=Europe/Berlin:20220306T150000
DTEND;TZID=Europe/Berlin:20220306T170000
LOCATION:UP Olomouc\, U sportovní haly 38 Olomouc - Lazce
SUMMARY:1-JKY-IV: Olomouc-Ostrava C
END:VEVENT
BEGIN:VEVENT
UID:38383435-6563-4762-b162-623238326133
DTSTAMP:20260423T044305Z
DESCRIPTION:3/5 Ostrava C - Olomouc 0:3 (-17\,-28\,-18)
DTSTART;TZID=Europe/Berlin:20220213T120000
DTEND;TZID=Europe/Berlin:20220213T140000
LOCATION:Hala mládeže\, Gajdošova 1893 Ostrava - Moravská Ostrava
SUMMARY:1-JKY-IV: Ostrava C-Olomouc
END:VEVENT
BEGIN:VEVENT
UID:39643163-3738-4932-b261-383334613566
DTSTAMP:20260423T044305Z
DESCRIPTION:4/7 Ostrava C - Olomouc 1:3 (21\,-23\,-16\,-13)
DTSTART;TZID=Europe/Berlin:20220213T160000
DTEND;TZID=Europe/Berlin:20220213T180000
LOCATION:Hala mládeže\, Gajdošova 1893 Ostrava - Moravská Ostrava
SUMMARY:1-JKY-IV: Ostrava C-Olomouc
END:VEVENT
BEGIN:VEVENT
UID:31306333-3933-4538-a535-343635333862
DTSTAMP:20260423T044305Z
DESCRIPTION:7/14 Nový Jičín - Olomouc 0:3 (-8\,-9\,-6)
DTSTART;TZID=Europe/Berlin:20220312T100000
DTEND;TZID=Europe/Berlin:20220312T120000
LOCATION:Hala ABC\, Purkyňova 116 Nový Jičín
SUMMARY:1-JKY-IV: Nový Jičín-Olomouc
END:VEVENT
BEGIN:VEVENT
UID:35323332-6533-4734-a366-646234656334
DTSTAMP:20260423T044305Z
DESCRIPTION:8/16 Nový Jičín - Olomouc 0:3 (-11\,-4\,-14)
DTSTART;TZID=Europe/Berlin:20220312T140000
DTEND;TZID=Europe/Berlin:20220312T160000
LOCATION:Hala ABC\, Purkyňova 116 Nový Jičín
SUMMARY:1-JKY-IV: Nový Jičín-Olomouc
END:VEVENT
END:VCALENDAR
