BEGIN:VCALENDAR
VERSION:2.0
PRODID:-//SK Kometa Praha76287//NONSGML kigkonsult.se iCalcreator 2.41.80//
CALSCALE:GREGORIAN
UID:35363137-6363-4235-b936-633132336535
BEGIN:VEVENT
UID:34333933-6465-4231-a437-346161616333
DTSTAMP:20260423T024708Z
DESCRIPTION:1/1 Kometa - Orion A 3:0 (22\,14\,25)\nPřeloženo COVID-19
DTSTART;TZID=Europe/Berlin:20220114T160000
DTEND;TZID=Europe/Berlin:20220114T180000
LOCATION:Tělocvična ZŠ Na Šutce\, Na Šutce 440 Praha - Troja
SUMMARY:1-JKY-C: Kometa-Orion A
END:VEVENT
BEGIN:VEVENT
UID:32323135-3238-4033-b063-636461643336
DTSTAMP:20260423T024708Z
DESCRIPTION:2/4 Kometa - Orion A 0:3 (-16\,-20\,-18)\nPřeloženo COVID-19
DTSTART;TZID=Europe/Berlin:20220114T180000
DTEND;TZID=Europe/Berlin:20220114T200000
LOCATION:Tělocvična ZŠ Na Šutce\, Na Šutce 440 Praha - Troja
SUMMARY:1-JKY-C: Kometa-Orion A
END:VEVENT
BEGIN:VEVENT
UID:65346666-3661-4734-b331-303630353861
DTSTAMP:20260423T024708Z
DESCRIPTION:3/9 Kometa - Žatec 3:2 (-23\,25\,26\,-19\,15)
DTSTART;TZID=Europe/Berlin:20211010T100000
DTEND;TZID=Europe/Berlin:20211010T120000
LOCATION:Tělocvična ZŠ Na Šutce\, Na Šutce 440 Praha - Troja
SUMMARY:1-JKY-C: Kometa-Žatec
END:VEVENT
BEGIN:VEVENT
UID:37363561-3362-4436-b039-373439316165
DTSTAMP:20260423T024708Z
DESCRIPTION:4/12 Kometa - Žatec 2:3 (-15\,-21\,25\,26\,-12)
DTSTART;TZID=Europe/Berlin:20211010T140000
DTEND;TZID=Europe/Berlin:20211010T160000
LOCATION:Tělocvična ZŠ Na Šutce\, Na Šutce 440 Praha - Troja
SUMMARY:1-JKY-C: Kometa-Žatec
END:VEVENT
BEGIN:VEVENT
UID:32386632-6436-4433-b035-383264653265
DTSTAMP:20260423T024708Z
DESCRIPTION:7/20 Kometa - Karlovy Vary 3:0 (22\,12\,19)
DTSTART;TZID=Europe/Berlin:20211107T100000
DTEND;TZID=Europe/Berlin:20211107T120000
LOCATION:Tělocvična ZŠ Na Šutce\, Na Šutce 440 Praha - Troja
SUMMARY:1-JKY-C: Kometa-Karlovy Vary
END:VEVENT
BEGIN:VEVENT
UID:64303936-6435-4632-b034-333137653230
DTSTAMP:20260423T024708Z
DESCRIPTION:8/23 Kometa - Karlovy Vary 3:0 (20\,17\,17)
DTSTART;TZID=Europe/Berlin:20211107T140000
DTEND;TZID=Europe/Berlin:20211107T160000
LOCATION:Tělocvična ZŠ Na Šutce\, Na Šutce 440 Praha - Troja
SUMMARY:1-JKY-C: Kometa-Karlovy Vary
END:VEVENT
BEGIN:VEVENT
UID:62303861-6361-4466-b332-643564656463
DTSTAMP:20260423T024708Z
DESCRIPTION:15/44 Kometa - Kladno 3:0 (21\,21\,16)
DTSTART;TZID=Europe/Berlin:20211211T090000
DTEND;TZID=Europe/Berlin:20211211T110000
LOCATION:Tělocvična ZŠ Na Šutce\, Na Šutce 440 Praha - Troja
SUMMARY:1-JKY-C: Kometa-Kladno
END:VEVENT
BEGIN:VEVENT
UID:61646663-3161-4366-b233-626134623663
DTSTAMP:20260423T024708Z
DESCRIPTION:16/47 Kometa - Kladno 3:2 (-19\,21\,25\,-19\,15)
DTSTART;TZID=Europe/Berlin:20211211T130000
DTEND;TZID=Europe/Berlin:20211211T150000
LOCATION:Tělocvična ZŠ Na Šutce\, Na Šutce 440 Praha - Troja
SUMMARY:1-JKY-C: Kometa-Kladno
END:VEVENT
BEGIN:VEVENT
UID:39633466-3133-4234-b662-343162383361
DTSTAMP:20260423T024708Z
DESCRIPTION:5/14 Kladno - Kometa 1:3 (-22\,23\,-19\,-22)
DTSTART;TZID=Europe/Berlin:20211023T090000
DTEND;TZID=Europe/Berlin:20211023T110000
LOCATION:Kladenská sportovní hala\, Sportovců 817 Kladno - Rozdělov
SUMMARY:1-JKY-C: Kladno-Kometa
END:VEVENT
BEGIN:VEVENT
UID:34393730-6261-4231-b838-366363636161
DTSTAMP:20260423T024708Z
DESCRIPTION:6/17 Kladno - Kometa 1:3 (-21\,24\,-17\,-19)
DTSTART;TZID=Europe/Berlin:20211023T130000
DTEND;TZID=Europe/Berlin:20211023T150000
LOCATION:Kladenská sportovní hala\, Sportovců 817 Kladno - Rozdělov
SUMMARY:1-JKY-C: Kladno-Kometa
END:VEVENT
BEGIN:VEVENT
UID:33643431-6166-4366-a232-353432663030
DTSTAMP:20260423T024708Z
DESCRIPTION:11/31 Orion A - Kometa 1:3 (-20\,-21\,26\,-18)
DTSTART;TZID=Europe/Berlin:20210925T090000
DTEND;TZID=Europe/Berlin:20210925T110000
LOCATION:ZŠ Dolní Břežany\, Na Vršku 290 Dolní Břežany
SUMMARY:1-JKY-C: Orion A-Kometa
END:VEVENT
BEGIN:VEVENT
UID:63623932-3632-4733-a364-366162333834
DTSTAMP:20260423T024708Z
DESCRIPTION:12/34 Orion A - Kometa 1:3 (-14\,-21\,22\,-17)
DTSTART;TZID=Europe/Berlin:20210925T130000
DTEND;TZID=Europe/Berlin:20210925T150000
LOCATION:ZŠ Dolní Břežany\, Na Vršku 290 Dolní Břežany
SUMMARY:1-JKY-C: Orion A-Kometa
END:VEVENT
BEGIN:VEVENT
UID:37376233-3431-4735-a163-653562346232
DTSTAMP:20260423T024708Z
DESCRIPTION:13/39 Žatec - Kometa 1:3 (17\,-24\,-19\,-19)
DTSTART;TZID=Europe/Berlin:20211205T100000
DTEND;TZID=Europe/Berlin:20211205T120000
LOCATION:Sportovní hala TJ Sever Žatec\, Plzeňská 2787 Žatec
SUMMARY:1-JKY-C: Žatec-Kometa
END:VEVENT
BEGIN:VEVENT
UID:33396332-6134-4663-a561-633761656631
DTSTAMP:20260423T024708Z
DESCRIPTION:14/42 Žatec - Kometa 1:3 (-22\,22\,-21\,-18)
DTSTART;TZID=Europe/Berlin:20211205T140000
DTEND;TZID=Europe/Berlin:20211205T160000
LOCATION:Sportovní hala TJ Sever Žatec\, Plzeňská 2787 Žatec
SUMMARY:1-JKY-C: Žatec-Kometa
END:VEVENT
BEGIN:VEVENT
UID:30646132-3165-4136-b830-646337633163
DTSTAMP:20260423T024708Z
DESCRIPTION:17/50 Karlovy Vary - Kometa 3:1 (-19\,16\,19\,16)
DTSTART;TZID=Europe/Berlin:20220109T100000
DTEND;TZID=Europe/Berlin:20220109T120000
LOCATION:Mattoni Arena Hala míčových sportů\, Západní 1812 Karlovy Vary
SUMMARY:1-JKY-C: Karlovy Vary-Kometa
END:VEVENT
BEGIN:VEVENT
UID:63633232-3432-4737-b632-366230353236
DTSTAMP:20260423T024708Z
DESCRIPTION:18/53 Karlovy Vary - Kometa 3:0 (23\,26\,21)
DTSTART;TZID=Europe/Berlin:20220109T130000
DTEND;TZID=Europe/Berlin:20220109T150000
LOCATION:Mattoni Arena Hala míčových sportů\, Západní 1812 Karlovy Vary
SUMMARY:1-JKY-C: Karlovy Vary-Kometa
END:VEVENT
BEGIN:VEVENT
UID:62613664-6531-4437-b962-313364383530
DTSTAMP:20260423T024708Z
DESCRIPTION:1/1 Kometa - Plzeň B 3:0 (21\,21\,19)
DTSTART;TZID=Europe/Berlin:20220205T100000
DTEND;TZID=Europe/Berlin:20220205T120000
LOCATION:Tělocvična ZŠ Na Šutce\, Na Šutce 440 Praha - Troja
SUMMARY:1-JKY-II: Kometa-Plzeň B
END:VEVENT
BEGIN:VEVENT
UID:32353439-3733-4366-b433-333136373331
DTSTAMP:20260423T024708Z
DESCRIPTION:2/3 Kometa - Plzeň B 3:1 (15\,-22\,17\,23)
DTSTART;TZID=Europe/Berlin:20220205T140000
DTEND;TZID=Europe/Berlin:20220205T160000
LOCATION:Tělocvična ZŠ Na Šutce\, Na Šutce 440 Praha - Troja
SUMMARY:1-JKY-II: Kometa-Plzeň B
END:VEVENT
BEGIN:VEVENT
UID:66303439-3364-4166-b330-316262386433
DTSTAMP:20260423T024708Z
DESCRIPTION:5/10 Kometa - Hlincovka 2:3 (-16\,23\,19\,-19\,-11)
DTSTART;TZID=Europe/Berlin:20220219T110000
DTEND;TZID=Europe/Berlin:20220219T130000
LOCATION:Tělocvična ZŠ Na Šutce\, Na Šutce 440 Praha - Troja
SUMMARY:1-JKY-II: Kometa-Hlincovka
END:VEVENT
BEGIN:VEVENT
UID:32653862-3631-4830-a637-343735646133
DTSTAMP:20260423T024708Z
DESCRIPTION:6/12 Kometa - Hlincovka 2:3 (-14\,-20\,22\,16\,-11)
DTSTART;TZID=Europe/Berlin:20220219T150000
DTEND;TZID=Europe/Berlin:20220219T170000
LOCATION:Tělocvična ZŠ Na Šutce\, Na Šutce 440 Praha - Troja
SUMMARY:1-JKY-II: Kometa-Hlincovka
END:VEVENT
BEGIN:VEVENT
UID:38633637-3766-4066-a530-633033353163
DTSTAMP:20260423T024708Z
DESCRIPTION:3/6 Hlincovka - Kometa 3:0 (19\,14\,20)
DTSTART;TZID=Europe/Berlin:20220226T110000
DTEND;TZID=Europe/Berlin:20220226T130000
LOCATION:Sportovní hala Rudolfov\, Adamovská 511 Rudolfov
SUMMARY:1-JKY-II: Hlincovka-Kometa
END:VEVENT
BEGIN:VEVENT
UID:39386664-6235-4638-b631-363662386165
DTSTAMP:20260423T024708Z
DESCRIPTION:4/8 Hlincovka - Kometa 3:0 (22\,15\,17)
DTSTART;TZID=Europe/Berlin:20220226T150000
DTEND;TZID=Europe/Berlin:20220226T170000
LOCATION:Sportovní hala Rudolfov\, Adamovská 511 Rudolfov
SUMMARY:1-JKY-II: Hlincovka-Kometa
END:VEVENT
BEGIN:VEVENT
UID:61363233-6238-4561-a335-656261613736
DTSTAMP:20260423T024708Z
DESCRIPTION:7/13 Plzeň B - Kometa 0:3 (-21\,-17\,-21)
DTSTART;TZID=Europe/Berlin:20220313T110000
DTEND;TZID=Europe/Berlin:20220313T130000
LOCATION:Městská sportovní hala  -  hala 2\, Úslavská 2357 Plzeň - Východní
  Předměstí
SUMMARY:1-JKY-II: Plzeň B-Kometa
END:VEVENT
BEGIN:VEVENT
UID:62643036-6361-4261-a663-396362383466
DTSTAMP:20260423T024708Z
DESCRIPTION:8/15 Plzeň B - Kometa 1:3 (-9\,18\,-22\,-19)
DTSTART;TZID=Europe/Berlin:20220313T150000
DTEND;TZID=Europe/Berlin:20220313T170000
LOCATION:Městská sportovní hala  -  hala 2\, Úslavská 2357 Plzeň - Východní
  Předměstí
SUMMARY:1-JKY-II: Plzeň B-Kometa
END:VEVENT
END:VCALENDAR
