BEGIN:VCALENDAR
VERSION:2.0
PRODID:-//VK Jirkov-Ervěnice76313//NONSGML kigkonsult.se iCalcreator 2.41.80//
CALSCALE:GREGORIAN
UID:64376563-3763-4763-b734-373963356465
BEGIN:VEVENT
UID:61343739-6163-4234-b965-383936313138
DTSTAMP:20260422T014832Z
DESCRIPTION:1/2 Jirkov - SKV Ústí n. L. 3:1 (13\,16\,-22\,11)
DTSTART;TZID=Europe/Berlin:20211003T100000
DTEND;TZID=Europe/Berlin:20211003T120000
LOCATION:Sportovní hala MG a ZŠ Jirkov\, Krušnohorská 1675 Jirkov
SUMMARY:1-KKY-A: Jirkov-SKV Ústí n. L.
END:VEVENT
BEGIN:VEVENT
UID:30363737-6631-4163-a433-326261326639
DTSTAMP:20260422T014832Z
DESCRIPTION:2/5 Jirkov - SKV Ústí n. L. 3:2 (-22\,-16\,18\,17\,9)
DTSTART;TZID=Europe/Berlin:20211003T140000
DTEND;TZID=Europe/Berlin:20211003T160000
LOCATION:Sportovní hala MG a ZŠ Jirkov\, Krušnohorská 1675 Jirkov
SUMMARY:1-KKY-A: Jirkov-SKV Ústí n. L.
END:VEVENT
BEGIN:VEVENT
UID:63313631-3330-4436-a238-386563343132
DTSTAMP:20260422T014832Z
DESCRIPTION:5/13 Jirkov - Volejbal Ústí n. L. 3:X
DTSTART;TZID=Europe/Berlin:20211024T100000
DTEND;TZID=Europe/Berlin:20211024T120000
LOCATION:Sportovní hala MG a ZŠ Jirkov\, Krušnohorská 1675 Jirkov
SUMMARY:1-KKY-A: Jirkov-Volejbal Ústí n. L.
END:VEVENT
BEGIN:VEVENT
UID:64333337-3637-4631-b433-623438643431
DTSTAMP:20260422T014832Z
DESCRIPTION:6/16 Jirkov - Volejbal Ústí n. L. 3:X
DTSTART;TZID=Europe/Berlin:20211024T140000
DTEND;TZID=Europe/Berlin:20211024T160000
LOCATION:Sportovní hala MG a ZŠ Jirkov\, Krušnohorská 1675 Jirkov
SUMMARY:1-KKY-A: Jirkov-Volejbal Ústí n. L.
END:VEVENT
BEGIN:VEVENT
UID:34383736-3339-4463-a166-373437363937
DTSTAMP:20260422T014832Z
DESCRIPTION:7/21 Jirkov - Chodov B 3:0 (11\,17\,19)
DTSTART;TZID=Europe/Berlin:20211107T100000
DTEND;TZID=Europe/Berlin:20211107T120000
LOCATION:Sportovní hala MG a ZŠ Jirkov\, Krušnohorská 1675 Jirkov
SUMMARY:1-KKY-A: Jirkov-Chodov B
END:VEVENT
BEGIN:VEVENT
UID:38653462-3761-4134-a365-663139613934
DTSTAMP:20260422T014832Z
DESCRIPTION:8/24 Jirkov - Chodov B 3:0 (12\,16\,16)
DTSTART;TZID=Europe/Berlin:20211107T140000
DTEND;TZID=Europe/Berlin:20211107T160000
LOCATION:Sportovní hala MG a ZŠ Jirkov\, Krušnohorská 1675 Jirkov
SUMMARY:1-KKY-A: Jirkov-Chodov B
END:VEVENT
BEGIN:VEVENT
UID:66326236-3134-4030-b366-353234386664
DTSTAMP:20260422T014832Z
DESCRIPTION:13/39 Jirkov - Sokolov 3:0 (12\,11\,13)
DTSTART;TZID=Europe/Berlin:20211205T100000
DTEND;TZID=Europe/Berlin:20211205T120000
LOCATION:Sportovní hala MG a ZŠ Jirkov\, Krušnohorská 1675 Jirkov
SUMMARY:1-KKY-A: Jirkov-Sokolov
END:VEVENT
BEGIN:VEVENT
UID:31643332-3230-4161-a164-656335393535
DTSTAMP:20260422T014832Z
DESCRIPTION:14/42 Jirkov - Sokolov 3:0 (21\,12\,9)
DTSTART;TZID=Europe/Berlin:20211205T140000
DTEND;TZID=Europe/Berlin:20211205T160000
LOCATION:Sportovní hala MG a ZŠ Jirkov\, Krušnohorská 1675 Jirkov
SUMMARY:1-KKY-A: Jirkov-Sokolov
END:VEVENT
BEGIN:VEVENT
UID:35653131-3130-4663-b934-393136393365
DTSTAMP:20260422T014832Z
DESCRIPTION:19/56 Jirkov - Karlovy Vary 0:3 (-14\,-13\,-23)
DTSTART;TZID=Europe/Berlin:20211218T100000
DTEND;TZID=Europe/Berlin:20211218T120000
LOCATION:Sportovní hala MG a ZŠ Jirkov\, Krušnohorská 1675 Jirkov
SUMMARY:1-KKY-A: Jirkov-Karlovy Vary
END:VEVENT
BEGIN:VEVENT
UID:61633831-6439-4064-b630-633039646134
DTSTAMP:20260422T014832Z
DESCRIPTION:20/59 Jirkov - Karlovy Vary 1:3 (-15\,21\,-8\,-14)
DTSTART;TZID=Europe/Berlin:20211218T140000
DTEND;TZID=Europe/Berlin:20211218T160000
LOCATION:Sportovní hala MG a ZŠ Jirkov\, Krušnohorská 1675 Jirkov
SUMMARY:1-KKY-A: Jirkov-Karlovy Vary
END:VEVENT
BEGIN:VEVENT
UID:36326465-3530-4136-b364-373561653833
DTSTAMP:20260422T014832Z
DESCRIPTION:3/9 Sokolov - Jirkov 0:3 (-10\,-10\,-11)
DTSTART;TZID=Europe/Berlin:20211010T100000
DTEND;TZID=Europe/Berlin:20211010T120000
LOCATION:Jiskra\, Maxima Gorkého 280 Sokolov
SUMMARY:1-KKY-A: Sokolov-Jirkov
END:VEVENT
BEGIN:VEVENT
UID:39343236-3439-4535-b231-316462636564
DTSTAMP:20260422T014832Z
DESCRIPTION:4/12 Sokolov - Jirkov 0:3 (-21\,-11\,-15)
DTSTART;TZID=Europe/Berlin:20211010T140000
DTEND;TZID=Europe/Berlin:20211010T160000
LOCATION:Jiskra\, Maxima Gorkého 280 Sokolov
SUMMARY:1-KKY-A: Sokolov-Jirkov
END:VEVENT
BEGIN:VEVENT
UID:36613365-3534-4663-b936-666236396161
DTSTAMP:20260422T014832Z
DESCRIPTION:9/26 Karlovy Vary - Jirkov 3:1 (-21\,16\,21\,21)
DTSTART;TZID=Europe/Berlin:20211114T100000
DTEND;TZID=Europe/Berlin:20211114T120000
LOCATION:Mattoni Arena Hala míčových sportů\, Západní 1812 Karlovy Vary
SUMMARY:1-KKY-A: Karlovy Vary-Jirkov
END:VEVENT
BEGIN:VEVENT
UID:34373539-3864-4330-b366-396438663163
DTSTAMP:20260422T014832Z
DESCRIPTION:10/29 Karlovy Vary - Jirkov 0:3 (-22\,-20\,-21)
DTSTART;TZID=Europe/Berlin:20211114T130000
DTEND;TZID=Europe/Berlin:20211114T150000
LOCATION:Mattoni Arena Hala míčových sportů\, Západní 1812 Karlovy Vary
SUMMARY:1-KKY-A: Karlovy Vary-Jirkov
END:VEVENT
BEGIN:VEVENT
UID:31636338-6230-4631-b330-636361666565
DTSTAMP:20260422T014832Z
DESCRIPTION:11/32 SKV Ústí n. L. - Jirkov 3:0 (16\,12\,15)
DTSTART;TZID=Europe/Berlin:20220115T100000
DTEND;TZID=Europe/Berlin:20220115T120000
LOCATION:Střední průmyslová škola strojní a elektro\, Resslova 210 Ústí nad
  Labem - Klíše
SUMMARY:1-KKY-A: SKV Ústí n. L.-Jirkov
END:VEVENT
BEGIN:VEVENT
UID:36343234-3736-4261-b730-613630363438
DTSTAMP:20260422T014832Z
DESCRIPTION:12/35 SKV Ústí n. L. - Jirkov 3:0 (16\,23\,14)
DTSTART;TZID=Europe/Berlin:20220115T140000
DTEND;TZID=Europe/Berlin:20220115T160000
LOCATION:Střední průmyslová škola strojní a elektro\, Resslova 210 Ústí nad
  Labem - Klíše
SUMMARY:1-KKY-A: SKV Ústí n. L.-Jirkov
END:VEVENT
BEGIN:VEVENT
UID:39306138-3266-4337-b764-643066346337
DTSTAMP:20260422T014832Z
DESCRIPTION:15/43 Volejbal Ústí n. L. - Jirkov X:3
DTSTART;TZID=Europe/Berlin:20211212T100000
DTEND;TZID=Europe/Berlin:20211212T120000
LOCATION:Gymnázium dr. Václava Šmejkala\, Ústí nad Labem\, Stavbařů 2857 Ús
 tí nad Labem - Severní Terasa
SUMMARY:1-KKY-A: Volejbal Ústí n. L.-Jirkov
END:VEVENT
BEGIN:VEVENT
UID:61323435-3766-4334-a233-393031653762
DTSTAMP:20260422T014832Z
DESCRIPTION:16/46 Volejbal Ústí n. L. - Jirkov X:3
DTSTART;TZID=Europe/Berlin:20211212T140000
DTEND;TZID=Europe/Berlin:20211212T160000
LOCATION:Gymnázium dr. Václava Šmejkala\, Ústí nad Labem\, Stavbařů 2857 Ús
 tí nad Labem - Severní Terasa
SUMMARY:1-KKY-A: Volejbal Ústí n. L.-Jirkov
END:VEVENT
BEGIN:VEVENT
UID:34386464-6635-4531-b634-616566386666
DTSTAMP:20260422T014832Z
DESCRIPTION:17/51 Chodov B - Jirkov 0:3 (-12\,-23\,-19)
DTSTART;TZID=Europe/Berlin:20220109T100000
DTEND;TZID=Europe/Berlin:20220109T120000
LOCATION:Městská sportovní hala Chodov\, Tyršova 1201 Chodov
SUMMARY:1-KKY-A: Chodov B-Jirkov
END:VEVENT
BEGIN:VEVENT
UID:39326566-6532-4365-a139-623439623437
DTSTAMP:20260422T014832Z
DESCRIPTION:18/54 Chodov B - Jirkov 1:3 (-14\,16\,-16\,-20)
DTSTART;TZID=Europe/Berlin:20220109T140000
DTEND;TZID=Europe/Berlin:20220109T160000
LOCATION:Městská sportovní hala Chodov\, Tyršova 1201 Chodov
SUMMARY:1-KKY-A: Chodov B-Jirkov
END:VEVENT
BEGIN:VEVENT
UID:30353062-3838-4637-b435-306430343165
DTSTAMP:20260422T014832Z
DESCRIPTION:1/1 Jirkov - Příbram 3:1 (17\,-22\,17\,19)
DTSTART;TZID=Europe/Berlin:20220205T100000
DTEND;TZID=Europe/Berlin:20220205T120000
LOCATION:Sportovní hala MG a ZŠ Jirkov\, Krušnohorská 1675 Jirkov
SUMMARY:1-KKY-I: Jirkov-Příbram
END:VEVENT
BEGIN:VEVENT
UID:63363966-3265-4362-a363-333832633635
DTSTAMP:20260422T014832Z
DESCRIPTION:2/3 Jirkov - Příbram 3:1 (-21\,19\,19\,15)
DTSTART;TZID=Europe/Berlin:20220205T140000
DTEND;TZID=Europe/Berlin:20220205T160000
LOCATION:Sportovní hala MG a ZŠ Jirkov\, Krušnohorská 1675 Jirkov
SUMMARY:1-KKY-I: Jirkov-Příbram
END:VEVENT
BEGIN:VEVENT
UID:32633461-6365-4432-a635-373362636630
DTSTAMP:20260422T014832Z
DESCRIPTION:5/9 Jirkov - Hlincovka 2:3 (-19\,22\,-22\,22\,-7)
DTSTART;TZID=Europe/Berlin:20220306T140000
DTEND;TZID=Europe/Berlin:20220306T160000
LOCATION:Sportovní hala MG a ZŠ Jirkov\, Krušnohorská 1675 Jirkov
SUMMARY:1-KKY-I: Jirkov-Hlincovka
END:VEVENT
BEGIN:VEVENT
UID:65633431-6234-4363-b939-656139336134
DTSTAMP:20260422T014832Z
DESCRIPTION:6/11 Jirkov - Hlincovka 3:0 (22\,20\,24)
DTSTART;TZID=Europe/Berlin:20220306T170000
DTEND;TZID=Europe/Berlin:20220306T190000
LOCATION:Sportovní hala MG a ZŠ Jirkov\, Krušnohorská 1675 Jirkov
SUMMARY:1-KKY-I: Jirkov-Hlincovka
END:VEVENT
BEGIN:VEVENT
UID:63303737-6539-4231-b164-343764656364
DTSTAMP:20260422T014832Z
DESCRIPTION:3/6 Hlincovka - Jirkov 3:0 (5\,7\,23)
DTSTART;TZID=Europe/Berlin:20220212T110000
DTEND;TZID=Europe/Berlin:20220212T130000
LOCATION:Sportovní hala Rudolfov\, Adamovská 511 Rudolfov
SUMMARY:1-KKY-I: Hlincovka-Jirkov
END:VEVENT
BEGIN:VEVENT
UID:38623966-6234-4233-a362-653161653038
DTSTAMP:20260422T014832Z
DESCRIPTION:4/8 Hlincovka - Jirkov 3:0 (19\,4\,6)
DTSTART;TZID=Europe/Berlin:20220212T150000
DTEND;TZID=Europe/Berlin:20220212T170000
LOCATION:Sportovní hala Rudolfov\, Adamovská 511 Rudolfov
SUMMARY:1-KKY-I: Hlincovka-Jirkov
END:VEVENT
BEGIN:VEVENT
UID:36326638-3336-4937-b666-626163333261
DTSTAMP:20260422T014832Z
DESCRIPTION:7/13 Příbram - Jirkov 3:0 (18\,15\,18)
DTSTART;TZID=Europe/Berlin:20220313T100000
DTEND;TZID=Europe/Berlin:20220313T120000
LOCATION:Tělocvična ZŠ Balbínova\, Balbínova 328 Příbram - Příbram II
SUMMARY:1-KKY-I: Příbram-Jirkov
END:VEVENT
BEGIN:VEVENT
UID:31643966-6538-4339-a233-663265336433
DTSTAMP:20260422T014832Z
DESCRIPTION:8/15 Příbram - Jirkov 3:1 (9\,20\,-23\,16)
DTSTART;TZID=Europe/Berlin:20220313T140000
DTEND;TZID=Europe/Berlin:20220313T160000
LOCATION:Tělocvična ZŠ Balbínova\, Balbínova 328 Příbram - Příbram II
SUMMARY:1-KKY-I: Příbram-Jirkov
END:VEVENT
END:VCALENDAR
