BEGIN:VCALENDAR
VERSION:2.0
PRODID:-//TJ Energetik Chvaletice A76333//NONSGML kigkonsult.se iCalcreator 2.41.80//
CALSCALE:GREGORIAN
UID:39366265-3934-4432-a666-363631306365
BEGIN:VEVENT
UID:39336566-3332-4933-b164-633139373730
DTSTAMP:20260422T211507Z
DESCRIPTION:3/7 Energetik Chvaletice A - Sokol Česká Třebová B 1:3 (-22\,16
 \,-21\,-21)
DTSTART;TZID=Europe/Berlin:20211024T100000
DTEND;TZID=Europe/Berlin:20211024T120000
LOCATION:ZŠ Chvaletice\, Spojovací 431 Chvaletice
SUMMARY:PA-JKY: Energetik Chvaletice A-Sokol Česká Třebová B
END:VEVENT
BEGIN:VEVENT
UID:34643137-6535-4661-b365-623433393531
DTSTAMP:20260422T211507Z
DESCRIPTION:4/10 Energetik Chvaletice A - Sokol Česká Třebová B 1:3 (-22\,1
 3\,-20\,-20)
DTSTART;TZID=Europe/Berlin:20211024T130000
DTEND;TZID=Europe/Berlin:20211024T150000
LOCATION:ZŠ Chvaletice\, Spojovací 431 Chvaletice
SUMMARY:PA-JKY: Energetik Chvaletice A-Sokol Česká Třebová B
END:VEVENT
BEGIN:VEVENT
UID:62313639-3166-4531-b535-316131356361
DTSTAMP:20260422T211507Z
DESCRIPTION:7/19 Energetik Chvaletice A - VK Litomyšl 1:3 (19\,-21\,-14\,-1
 0)
DTSTART;TZID=Europe/Berlin:20220313T100000
DTEND;TZID=Europe/Berlin:20220313T120000
LOCATION:ZŠ Chvaletice\, Spojovací 431 Chvaletice
SUMMARY:PA-JKY: Energetik Chvaletice A-VK Litomyšl
END:VEVENT
BEGIN:VEVENT
UID:66646133-6334-4533-a436-323637343534
DTSTAMP:20260422T211507Z
DESCRIPTION:8/22 Energetik Chvaletice A - VK Litomyšl 0:3 (-18\,-25\,-21)
DTSTART;TZID=Europe/Berlin:20220313T130000
DTEND;TZID=Europe/Berlin:20220313T150000
LOCATION:ZŠ Chvaletice\, Spojovací 431 Chvaletice
SUMMARY:PA-JKY: Energetik Chvaletice A-VK Litomyšl
END:VEVENT
BEGIN:VEVENT
UID:63386637-6262-4763-b561-356334653266
DTSTAMP:20260422T211507Z
DESCRIPTION:11/31 Energetik Chvaletice A - Dolní Újezd 0:3 (-14\,-8\,-18)
DTSTART;TZID=Europe/Berlin:20220116T100000
DTEND;TZID=Europe/Berlin:20220116T120000
LOCATION:ZŠ Chvaletice\, Spojovací 431 Chvaletice
SUMMARY:PA-JKY: Energetik Chvaletice A-Dolní Újezd
END:VEVENT
BEGIN:VEVENT
UID:33666639-6163-4134-a232-313831333839
DTSTAMP:20260422T211507Z
DESCRIPTION:12/34 Energetik Chvaletice A - Dolní Újezd 0:3 (-3\,-11\,-16)
DTSTART;TZID=Europe/Berlin:20220116T130000
DTEND;TZID=Europe/Berlin:20220116T150000
LOCATION:ZŠ Chvaletice\, Spojovací 431 Chvaletice
SUMMARY:PA-JKY: Energetik Chvaletice A-Dolní Újezd
END:VEVENT
BEGIN:VEVENT
UID:34623832-3561-4565-b531-376233346336
DTSTAMP:20260422T211507Z
DESCRIPTION:15/43 Energetik Chvaletice A - VK Choceň A 0:3 (-10\,-11\,-20)
DTSTART;TZID=Europe/Berlin:20220213T100000
DTEND;TZID=Europe/Berlin:20220213T120000
LOCATION:ZŠ Chvaletice\, Spojovací 431 Chvaletice
SUMMARY:PA-JKY: Energetik Chvaletice A-VK Choceň A
END:VEVENT
BEGIN:VEVENT
UID:31653938-3539-4639-b437-616638613361
DTSTAMP:20260422T211507Z
DESCRIPTION:16/46 Energetik Chvaletice A - VK Choceň A 0:3 (-8\,-19\,-12)
DTSTART;TZID=Europe/Berlin:20220213T130000
DTEND;TZID=Europe/Berlin:20220213T150000
LOCATION:ZŠ Chvaletice\, Spojovací 431 Chvaletice
SUMMARY:PA-JKY: Energetik Chvaletice A-VK Choceň A
END:VEVENT
BEGIN:VEVENT
UID:32626166-6533-4463-a564-616136613130
DTSTAMP:20260422T211507Z
DESCRIPTION:1/1 Dolní Újezd - Energetik Chvaletice A 3:0 (11\,7\,7)
DTSTART;TZID=Europe/Berlin:20211010T100000
DTEND;TZID=Europe/Berlin:20211010T120000
LOCATION:tělocvična Základní školy\,  Dolní Újezd342
SUMMARY:PA-JKY: Dolní Újezd-Energetik Chvaletice A
END:VEVENT
BEGIN:VEVENT
UID:30353734-6438-4434-a533-626335623037
DTSTAMP:20260422T211507Z
DESCRIPTION:2/4 Dolní Újezd - Energetik Chvaletice A 3:0 (15\,14\,18)
DTSTART;TZID=Europe/Berlin:20211010T130000
DTEND;TZID=Europe/Berlin:20211010T150000
LOCATION:tělocvična Základní školy\,  Dolní Újezd342
SUMMARY:PA-JKY: Dolní Újezd-Energetik Chvaletice A
END:VEVENT
BEGIN:VEVENT
UID:66373564-3530-4436-b066-333061623838
DTSTAMP:20260422T211507Z
DESCRIPTION:5/13 VK Choceň A - Energetik Chvaletice A 3:2 (-26\,-23\,15\,18
 \,13)
DTSTART;TZID=Europe/Berlin:20211107T100000
DTEND;TZID=Europe/Berlin:20211107T120000
LOCATION:Volejbalová hala \, U Koupaliště 1734 Choceň
SUMMARY:PA-JKY: VK Choceň A-Energetik Chvaletice A
END:VEVENT
BEGIN:VEVENT
UID:64326161-6238-4639-a130-393430643233
DTSTAMP:20260422T211507Z
DESCRIPTION:6/16 VK Choceň A - Energetik Chvaletice A 3:0 (22\,19\,11)
DTSTART;TZID=Europe/Berlin:20211107T130000
DTEND;TZID=Europe/Berlin:20211107T150000
LOCATION:Volejbalová hala \, U Koupaliště 1734 Choceň
SUMMARY:PA-JKY: VK Choceň A-Energetik Chvaletice A
END:VEVENT
BEGIN:VEVENT
UID:31663266-3632-4237-b536-373034346439
DTSTAMP:20260422T211507Z
DESCRIPTION:13/37 Sokol Česká Třebová B - Energetik Chvaletice A 0:3 (-0\,-
 0\,-0)
DTSTART;TZID=Europe/Berlin:20220130T090000
DTEND;TZID=Europe/Berlin:20220130T110000
LOCATION:Základní škola Česká Třebová Habrmanova\, Na Skále\, Na Skále 566 
 Česká Třebová
SUMMARY:PA-JKY: Sokol Česká Třebová B-Energetik Chvaletice A
END:VEVENT
BEGIN:VEVENT
UID:34356138-3431-4064-b833-613664663830
DTSTAMP:20260422T211507Z
DESCRIPTION:14/40 Sokol Česká Třebová B - Energetik Chvaletice A 0:3 (-0\,-
 0\,-0)
DTSTART;TZID=Europe/Berlin:20220130T130000
DTEND;TZID=Europe/Berlin:20220130T150000
LOCATION:Základní škola Česká Třebová Habrmanova\, Na Skále\, Na Skále 566 
 Česká Třebová
SUMMARY:PA-JKY: Sokol Česká Třebová B-Energetik Chvaletice A
END:VEVENT
BEGIN:VEVENT
UID:35376661-6361-4862-b538-373966306564
DTSTAMP:20260422T211507Z
DESCRIPTION:17/49 VK Litomyšl - Energetik Chvaletice A 3:0 (20\,19\,15)
DTSTART;TZID=Europe/Berlin:20220312T090000
DTEND;TZID=Europe/Berlin:20220312T110000
LOCATION:Městská sportovní hala\, T. G. Masaryka 1145 Litomyšl - Litomyšl-M
 ěsto
SUMMARY:PA-JKY: VK Litomyšl-Energetik Chvaletice A
END:VEVENT
BEGIN:VEVENT
UID:63383335-6465-4239-a164-336234373465
DTSTAMP:20260422T211507Z
DESCRIPTION:18/52 VK Litomyšl - Energetik Chvaletice A 3:0 (19\,17\,23)
DTSTART;TZID=Europe/Berlin:20220312T110000
DTEND;TZID=Europe/Berlin:20220312T130000
LOCATION:Městská sportovní hala\, T. G. Masaryka 1145 Litomyšl - Litomyšl-M
 ěsto
SUMMARY:PA-JKY: VK Litomyšl-Energetik Chvaletice A
END:VEVENT
END:VCALENDAR
