BEGIN:VCALENDAR
VERSION:2.0
PRODID:-//Tělocvičná jednota Sokol Kerhartice76349//NONSGML kigkonsult.se iCalcreator 2.41.80//
CALSCALE:GREGORIAN
UID:32366538-6236-4264-b563-373166373561
BEGIN:VEVENT
UID:32323935-3339-4539-a430-326232373539
DTSTAMP:20260425T173114Z
DESCRIPTION:5/25 TJ Sokol Kerhartice - Sokol Česká Třebová II 3:1 (21\,-22\
 ,13\,14)
DTSTART;TZID=Europe/Berlin:20211106T100000
DTEND;TZID=Europe/Berlin:20211106T120000
LOCATION:Střední škola automobilní\, Dukelská 313 Ústí nad Orlicí - Hylváty
SUMMARY:PA-M-1: TJ Sokol Kerhartice-Sokol Česká Třebová II
END:VEVENT
BEGIN:VEVENT
UID:33393763-6139-4533-b435-376130376332
DTSTAMP:20260425T173114Z
DESCRIPTION:6/30 TJ Sokol Kerhartice - Sokol Česká Třebová II 3:0 (16\,16\,
 22)
DTSTART;TZID=Europe/Berlin:20211106T130000
DTEND;TZID=Europe/Berlin:20211106T150000
LOCATION:Střední škola automobilní\, Dukelská 313 Ústí nad Orlicí - Hylváty
SUMMARY:PA-M-1: TJ Sokol Kerhartice-Sokol Česká Třebová II
END:VEVENT
BEGIN:VEVENT
UID:34333538-3439-4561-b862-623638313936
DTSTAMP:20260425T173114Z
DESCRIPTION:13/63 TJ Sokol Kerhartice - VK Litomyšl 3:1 (25\,20\,-20\,18)
DTSTART;TZID=Europe/Berlin:20220226T100000
DTEND;TZID=Europe/Berlin:20220226T120000
LOCATION:Střední škola automobilní\, Dukelská 313 Ústí nad Orlicí - Hylváty
SUMMARY:PA-M-1: TJ Sokol Kerhartice-VK Litomyšl
END:VEVENT
BEGIN:VEVENT
UID:39366565-3634-4364-a634-636239383432
DTSTAMP:20260425T173114Z
DESCRIPTION:14/68 TJ Sokol Kerhartice - VK Litomyšl 2:3 (20\,19\,-24\,-23\,
 -13)
DTSTART;TZID=Europe/Berlin:20220226T130000
DTEND;TZID=Europe/Berlin:20220226T150000
LOCATION:Střední škola automobilní\, Dukelská 313 Ústí nad Orlicí - Hylváty
SUMMARY:PA-M-1: TJ Sokol Kerhartice-VK Litomyšl
END:VEVENT
BEGIN:VEVENT
UID:62633933-3863-4430-b832-383962313466
DTSTAMP:20260425T173114Z
DESCRIPTION:17/82 TJ Sokol Kerhartice - Chvaletice 3:1 (-23\,16\,15\,20)
DTSTART;TZID=Europe/Berlin:20211218T100000
DTEND;TZID=Europe/Berlin:20211218T120000
LOCATION:Střední škola automobilní\, Dukelská 313 Ústí nad Orlicí - Hylváty
SUMMARY:PA-M-1: TJ Sokol Kerhartice-Chvaletice
END:VEVENT
BEGIN:VEVENT
UID:66623063-3634-4230-b639-653339646339
DTSTAMP:20260425T173114Z
DESCRIPTION:18/87 TJ Sokol Kerhartice - Chvaletice 1:3 (-20\,16\,-19\,-23)
DTSTART;TZID=Europe/Berlin:20211218T130000
DTEND;TZID=Europe/Berlin:20211218T150000
LOCATION:Střední škola automobilní\, Dukelská 313 Ústí nad Orlicí - Hylváty
SUMMARY:PA-M-1: TJ Sokol Kerhartice-Chvaletice
END:VEVENT
BEGIN:VEVENT
UID:32376364-3136-4138-b537-623732376261
DTSTAMP:20260425T173114Z
DESCRIPTION:19/95 TJ Sokol Kerhartice - SK Rybník 3:2 (20\,-19\,17\,-18\,13
 )
DTSTART;TZID=Europe/Berlin:20220305T100000
DTEND;TZID=Europe/Berlin:20220305T120000
LOCATION:Střední škola automobilní\, Dukelská 313 Ústí nad Orlicí - Hylváty
SUMMARY:PA-M-1: TJ Sokol Kerhartice-SK Rybník
END:VEVENT
BEGIN:VEVENT
UID:33303234-3461-4430-b865-303838306132
DTSTAMP:20260425T173114Z
DESCRIPTION:20/100 TJ Sokol Kerhartice - SK Rybník 0:3 (-26\,-30\,-21)
DTSTART;TZID=Europe/Berlin:20220305T130000
DTEND;TZID=Europe/Berlin:20220305T150000
LOCATION:Střední škola automobilní\, Dukelská 313 Ústí nad Orlicí - Hylváty
SUMMARY:PA-M-1: TJ Sokol Kerhartice-SK Rybník
END:VEVENT
BEGIN:VEVENT
UID:65633866-3135-4731-b561-333635643465
DTSTAMP:20260425T173114Z
DESCRIPTION:25/122 TJ Sokol Kerhartice - TJ Svitavy A 1:3 (19\,-20\,-19\,-2
 0)
DTSTART;TZID=Europe/Berlin:20220129T100000
DTEND;TZID=Europe/Berlin:20220129T120000
LOCATION:Střední škola automobilní\, Dukelská 313 Ústí nad Orlicí - Hylváty
SUMMARY:PA-M-1: TJ Sokol Kerhartice-TJ Svitavy A
END:VEVENT
BEGIN:VEVENT
UID:61666265-6138-4163-a166-323166336166
DTSTAMP:20260425T173114Z
DESCRIPTION:26/127 TJ Sokol Kerhartice - TJ Svitavy A 3:0 (18\,24\,23)
DTSTART;TZID=Europe/Berlin:20220129T130000
DTEND;TZID=Europe/Berlin:20220129T150000
LOCATION:Střední škola automobilní\, Dukelská 313 Ústí nad Orlicí - Hylváty
SUMMARY:PA-M-1: TJ Sokol Kerhartice-TJ Svitavy A
END:VEVENT
BEGIN:VEVENT
UID:62303339-3630-4330-a564-326566383564
DTSTAMP:20260425T173114Z
DESCRIPTION:29/143 TJ Sokol Kerhartice - Volejbal Červený Kostelec 2:3 (19\
 ,-23\,-21\,19\,-13)
DTSTART;TZID=Europe/Berlin:20220219T100000
DTEND;TZID=Europe/Berlin:20220219T120000
LOCATION:Střední škola automobilní\, Dukelská 313 Ústí nad Orlicí - Hylváty
SUMMARY:PA-M-1: TJ Sokol Kerhartice-Volejbal Červený Kostelec
END:VEVENT
BEGIN:VEVENT
UID:31343363-6433-4031-b763-646239316239
DTSTAMP:20260425T173114Z
DESCRIPTION:30/148 TJ Sokol Kerhartice - Volejbal Červený Kostelec 3:0 (14\
 ,14\,21)
DTSTART;TZID=Europe/Berlin:20220219T130000
DTEND;TZID=Europe/Berlin:20220219T150000
LOCATION:Střední škola automobilní\, Dukelská 313 Ústí nad Orlicí - Hylváty
SUMMARY:PA-M-1: TJ Sokol Kerhartice-Volejbal Červený Kostelec
END:VEVENT
BEGIN:VEVENT
UID:62633939-3933-4465-a434-656635303265
DTSTAMP:20260425T173114Z
DESCRIPTION:33/164 TJ Sokol Kerhartice - SKO Hlinsko 3:0 (20\,20\,19)
DTSTART;TZID=Europe/Berlin:20220319T100000
DTEND;TZID=Europe/Berlin:20220319T120000
LOCATION:Střední škola automobilní\, Dukelská 313 Ústí nad Orlicí - Hylváty
SUMMARY:PA-M-1: TJ Sokol Kerhartice-SKO Hlinsko
END:VEVENT
BEGIN:VEVENT
UID:32313036-3766-4863-b962-313430656430
DTSTAMP:20260425T173114Z
DESCRIPTION:34/169 TJ Sokol Kerhartice - SKO Hlinsko 3:0 (13\,7\,17)
DTSTART;TZID=Europe/Berlin:20220319T130000
DTEND;TZID=Europe/Berlin:20220319T150000
LOCATION:Střední škola automobilní\, Dukelská 313 Ústí nad Orlicí - Hylváty
SUMMARY:PA-M-1: TJ Sokol Kerhartice-SKO Hlinsko
END:VEVENT
BEGIN:VEVENT
UID:37353738-3735-4761-b239-616232366266
DTSTAMP:20260425T173114Z
DESCRIPTION:1/5 SK Rybník - TJ Sokol Kerhartice 2:3 (-21\,-19\,22\,20\,-10)
DTSTART;TZID=Europe/Berlin:20211016T100000
DTEND;TZID=Europe/Berlin:20211016T120000
LOCATION:Střední škola uměleckoprůmyslová - textilka\, Zahradní 541 Ústí na
 d Orlicí
SUMMARY:PA-M-1: SK Rybník-TJ Sokol Kerhartice
END:VEVENT
BEGIN:VEVENT
UID:38613838-3633-4633-b666-366135373165
DTSTAMP:20260425T173114Z
DESCRIPTION:2/10 SK Rybník - TJ Sokol Kerhartice 1:3 (-20\,-23\,17\,-19)
DTSTART;TZID=Europe/Berlin:20211016T130000
DTEND;TZID=Europe/Berlin:20211016T150000
LOCATION:Střední škola uměleckoprůmyslová - textilka\, Zahradní 541 Ústí na
 d Orlicí
SUMMARY:PA-M-1: SK Rybník-TJ Sokol Kerhartice
END:VEVENT
BEGIN:VEVENT
UID:38353435-3861-4133-b132-333134633437
DTSTAMP:20260425T173114Z
DESCRIPTION:7/32 TJ Svitavy A - TJ Sokol Kerhartice 3:1 (23\,-17\,20\,19)
DTSTART;TZID=Europe/Berlin:20211113T100000
DTEND;TZID=Europe/Berlin:20211113T120000
LOCATION:Sportovní hala Na Střelnici\, Pražská 2162 Svitavy - Předměstí
SUMMARY:PA-M-1: TJ Svitavy A-TJ Sokol Kerhartice
END:VEVENT
BEGIN:VEVENT
UID:30303265-3231-4736-a330-376531316366
DTSTAMP:20260425T173114Z
DESCRIPTION:8/37 TJ Svitavy A - TJ Sokol Kerhartice 2:3 (-19\,-22\,17\,23\,
 -15)
DTSTART;TZID=Europe/Berlin:20211113T130000
DTEND;TZID=Europe/Berlin:20211113T150000
LOCATION:Sportovní hala Na Střelnici\, Pražská 2162 Svitavy - Předměstí
SUMMARY:PA-M-1: TJ Svitavy A-TJ Sokol Kerhartice
END:VEVENT
BEGIN:VEVENT
UID:30623932-3964-4331-a437-313537623730
DTSTAMP:20260425T173114Z
DESCRIPTION:11/53 Volejbal Červený Kostelec - TJ Sokol Kerhartice 0:3 (-15\
 ,-25\,-20)
DTSTART;TZID=Europe/Berlin:20220108T110000
DTEND;TZID=Europe/Berlin:20220108T130000
LOCATION:Sportovní hala\, Palackého 1234 Červený Kostelec
SUMMARY:PA-M-1: Volejbal Červený Kostelec-TJ Sokol Kerhartice
END:VEVENT
BEGIN:VEVENT
UID:63626465-3161-4261-a634-623032623437
DTSTAMP:20260425T173114Z
DESCRIPTION:12/58 Volejbal Červený Kostelec - TJ Sokol Kerhartice 0:3 (-20\
 ,-19\,-13)
DTSTART;TZID=Europe/Berlin:20220108T150000
DTEND;TZID=Europe/Berlin:20220108T170000
LOCATION:Sportovní hala\, Palackého 1234 Červený Kostelec
SUMMARY:PA-M-1: Volejbal Červený Kostelec-TJ Sokol Kerhartice
END:VEVENT
BEGIN:VEVENT
UID:65323336-3463-4461-a634-643439636539
DTSTAMP:20260425T173114Z
DESCRIPTION:15/74 SKO Hlinsko - TJ Sokol Kerhartice 1:3 (-24\,17\,-19\,-22)
DTSTART;TZID=Europe/Berlin:20220212T100000
DTEND;TZID=Europe/Berlin:20220212T120000
LOCATION:Tělocvična Gymnázium\, Adámkova třída 55 Hlinsko
SUMMARY:PA-M-1: SKO Hlinsko-TJ Sokol Kerhartice
END:VEVENT
BEGIN:VEVENT
UID:61333632-6661-4631-a235-633866353336
DTSTAMP:20260425T173114Z
DESCRIPTION:16/79 SKO Hlinsko - TJ Sokol Kerhartice 0:3 (-21\,-14\,-17)
DTSTART;TZID=Europe/Berlin:20220212T130000
DTEND;TZID=Europe/Berlin:20220212T150000
LOCATION:Tělocvična Gymnázium\, Adámkova třída 55 Hlinsko
SUMMARY:PA-M-1: SKO Hlinsko-TJ Sokol Kerhartice
END:VEVENT
BEGIN:VEVENT
UID:38626164-3435-4039-b433-666661393038
DTSTAMP:20260425T173114Z
DESCRIPTION:23/115 Sokol Česká Třebová II - TJ Sokol Kerhartice 1:3 (20\,-2
 0\,-17\,-18)
DTSTART;TZID=Europe/Berlin:20220122T100000
DTEND;TZID=Europe/Berlin:20220122T120000
LOCATION:ZŠ Nádražní\, Nádražní 200 Česká Třebová
SUMMARY:PA-M-1: Sokol Česká Třebová II-TJ Sokol Kerhartice
END:VEVENT
BEGIN:VEVENT
UID:62323739-3235-4234-a362-393765613161
DTSTAMP:20260425T173114Z
DESCRIPTION:24/120 Sokol Česká Třebová II - TJ Sokol Kerhartice 2:3 (-17\,2
 6\,24\,-14\,-9)
DTSTART;TZID=Europe/Berlin:20220122T130000
DTEND;TZID=Europe/Berlin:20220122T150000
LOCATION:ZŠ Nádražní\, Nádražní 200 Česká Třebová
SUMMARY:PA-M-1: Sokol Česká Třebová II-TJ Sokol Kerhartice
END:VEVENT
BEGIN:VEVENT
UID:38373861-3430-4638-a233-636463376465
DTSTAMP:20260425T173114Z
DESCRIPTION:31/153 VK Litomyšl - TJ Sokol Kerhartice 2:3 (20\,-20\,28\,-22\
 ,-4)
DTSTART;TZID=Europe/Berlin:20220312T110000
DTEND;TZID=Europe/Berlin:20220312T130000
LOCATION:Městská sportovní hala\, T. G. Masaryka 1145 Litomyšl - Litomyšl-M
 ěsto
SUMMARY:PA-M-1: VK Litomyšl-TJ Sokol Kerhartice
END:VEVENT
BEGIN:VEVENT
UID:61613831-6531-4863-b931-376539623564
DTSTAMP:20260425T173114Z
DESCRIPTION:32/158 VK Litomyšl - TJ Sokol Kerhartice 0:3 (-17\,-25\,-22)
DTSTART;TZID=Europe/Berlin:20220312T140000
DTEND;TZID=Europe/Berlin:20220312T160000
LOCATION:Městská sportovní hala\, T. G. Masaryka 1145 Litomyšl - Litomyšl-M
 ěsto
SUMMARY:PA-M-1: VK Litomyšl-TJ Sokol Kerhartice
END:VEVENT
BEGIN:VEVENT
UID:36326437-3565-4538-a636-393265633533
DTSTAMP:20260425T173114Z
DESCRIPTION:35/172 Chvaletice - TJ Sokol Kerhartice 1:3 (-17\,19\,-20\,-11)
DTSTART;TZID=Europe/Berlin:20220326T100000
DTEND;TZID=Europe/Berlin:20220326T120000
LOCATION:ZŠ Chvaletice\, Spojovací 431 Chvaletice
SUMMARY:PA-M-1: Chvaletice-TJ Sokol Kerhartice
END:VEVENT
BEGIN:VEVENT
UID:63613933-3931-4566-b630-346133623465
DTSTAMP:20260425T173114Z
DESCRIPTION:36/177 Chvaletice - TJ Sokol Kerhartice 3:0 (22\,16\,22)
DTSTART;TZID=Europe/Berlin:20220326T130000
DTEND;TZID=Europe/Berlin:20220326T150000
LOCATION:ZŠ Chvaletice\, Spojovací 431 Chvaletice
SUMMARY:PA-M-1: Chvaletice-TJ Sokol Kerhartice
END:VEVENT
END:VCALENDAR
