BEGIN:VCALENDAR
VERSION:2.0
PRODID:-//Tělovýchovná jednota Spartak Pelhřimov, z.s.76401//NONSGML kigkonsult.se iCalcreator 2.41.80//
CALSCALE:GREGORIAN
UID:35316334-6362-4562-a462-666335613862
BEGIN:VEVENT
UID:61323739-3833-4539-a463-383732376630
DTSTAMP:20260423T130511Z
DESCRIPTION:5/20 Tělovýchovná jednota Spartak Pelhřimov\, z.s. - Školní spo
 rtovní klub Demlova Jihlava\, z.s. 3:0 (16\,23\,15)
DTSTART;TZID=Europe/Berlin:20211016T100000
DTEND;TZID=Europe/Berlin:20211016T120000
LOCATION:Základní škola Pelhřimov\, Osvobození\, Osvobození 1881 Pelhřimov
SUMMARY:VY-Z: Tělovýchovná jednota Spartak Pelhřimov\, z.s.-Školní sportovn
 í klub Demlova Jihlava\, z.s.
END:VEVENT
BEGIN:VEVENT
UID:31353666-3335-4539-b837-313833366663
DTSTAMP:20260423T130511Z
DESCRIPTION:6/24 Tělovýchovná jednota Spartak Pelhřimov\, z.s. - Školní spo
 rtovní klub Demlova Jihlava\, z.s. 3:1 (20\,-24\,20\,13)
DTSTART;TZID=Europe/Berlin:20211016T130000
DTEND;TZID=Europe/Berlin:20211016T150000
LOCATION:Základní škola Pelhřimov\, Osvobození\, Osvobození 1881 Pelhřimov
SUMMARY:VY-Z: Tělovýchovná jednota Spartak Pelhřimov\, z.s.-Školní sportovn
 í klub Demlova Jihlava\, z.s.
END:VEVENT
BEGIN:VEVENT
UID:32653836-6435-4965-b232-353366663163
DTSTAMP:20260423T130511Z
DESCRIPTION:9/35 Tělovýchovná jednota Spartak Pelhřimov\, z.s. - Tělocvičná
  jednota Sokol Havlíčkův Brod 3:0 (16\,20\,22)
DTSTART;TZID=Europe/Berlin:20211120T090000
DTEND;TZID=Europe/Berlin:20211120T110000
LOCATION:Základní škola Pelhřimov\, Osvobození\, Osvobození 1881 Pelhřimov
SUMMARY:VY-Z: Tělovýchovná jednota Spartak Pelhřimov\, z.s.-Tělocvičná jedn
 ota Sokol Havlíčkův Brod
END:VEVENT
BEGIN:VEVENT
UID:65646339-3230-4538-b966-363030396539
DTSTAMP:20260423T130511Z
DESCRIPTION:10/39 Tělovýchovná jednota Spartak Pelhřimov\, z.s. - Tělocvičn
 á jednota Sokol Havlíčkův Brod 3:1 (-21\,15\,22\,11)
DTSTART;TZID=Europe/Berlin:20211120T130000
DTEND;TZID=Europe/Berlin:20211120T150000
LOCATION:Základní škola Pelhřimov\, Osvobození\, Osvobození 1881 Pelhřimov
SUMMARY:VY-Z: Tělovýchovná jednota Spartak Pelhřimov\, z.s.-Tělocvičná jedn
 ota Sokol Havlíčkův Brod
END:VEVENT
BEGIN:VEVENT
UID:34646537-3333-4433-b337-393731363336
DTSTAMP:20260423T130511Z
DESCRIPTION:13/50 Tělovýchovná jednota Spartak Pelhřimov\, z.s. - Nové Vese
 lí 0:3 (-12\,-20\,-23)
DTSTART;TZID=Europe/Berlin:20211218T100000
DTEND;TZID=Europe/Berlin:20211218T120000
LOCATION:Základní škola Pelhřimov\, Osvobození\, Osvobození 1881 Pelhřimov
SUMMARY:VY-Z: Tělovýchovná jednota Spartak Pelhřimov\, z.s.-Nové Veselí
END:VEVENT
BEGIN:VEVENT
UID:33306532-3764-4665-b366-393234303732
DTSTAMP:20260423T130511Z
DESCRIPTION:14/54 Tělovýchovná jednota Spartak Pelhřimov\, z.s. - Nové Vese
 lí 0:3 (-22\,-18\,-21)
DTSTART;TZID=Europe/Berlin:20211218T130000
DTEND;TZID=Europe/Berlin:20211218T150000
LOCATION:Základní škola Pelhřimov\, Osvobození\, Osvobození 1881 Pelhřimov
SUMMARY:VY-Z: Tělovýchovná jednota Spartak Pelhřimov\, z.s.-Nové Veselí
END:VEVENT
BEGIN:VEVENT
UID:35396264-3738-4831-a363-313661363636
DTSTAMP:20260423T130511Z
DESCRIPTION:15/60 Tělovýchovná jednota Spartak Pelhřimov\, z.s. - SLAVOJ PO
 LNÁ z.s. 3:0 (24\,23\,22)
DTSTART;TZID=Europe/Berlin:20220108T090000
DTEND;TZID=Europe/Berlin:20220108T110000
LOCATION:Základní škola Pelhřimov\, Osvobození\, Osvobození 1881 Pelhřimov
SUMMARY:VY-Z: Tělovýchovná jednota Spartak Pelhřimov\, z.s.-SLAVOJ POLNÁ z.
 s.
END:VEVENT
BEGIN:VEVENT
UID:38333336-3261-4164-b466-376637366135
DTSTAMP:20260423T130511Z
DESCRIPTION:16/64 Tělovýchovná jednota Spartak Pelhřimov\, z.s. - SLAVOJ PO
 LNÁ z.s. 1:3 (-24\,-23\,19\,-15)
DTSTART;TZID=Europe/Berlin:20220108T130000
DTEND;TZID=Europe/Berlin:20220108T150000
LOCATION:Základní škola Pelhřimov\, Osvobození\, Osvobození 1881 Pelhřimov
SUMMARY:VY-Z: Tělovýchovná jednota Spartak Pelhřimov\, z.s.-SLAVOJ POLNÁ z.
 s.
END:VEVENT
BEGIN:VEVENT
UID:33663736-3733-4535-a266-333439323962
DTSTAMP:20260423T130511Z
DESCRIPTION:17/65 Tělovýchovná jednota Spartak Pelhřimov\, z.s. - TJ Náměšť
  nad Oslavou z.s. 3:0 (14\,18\,18)
DTSTART;TZID=Europe/Berlin:20220122T100000
DTEND;TZID=Europe/Berlin:20220122T120000
LOCATION:Základní škola Pelhřimov\, Osvobození\, Osvobození 1881 Pelhřimov
SUMMARY:VY-Z: Tělovýchovná jednota Spartak Pelhřimov\, z.s.-TJ Náměšť nad O
 slavou z.s.
END:VEVENT
BEGIN:VEVENT
UID:65373237-3432-4539-b861-636366646431
DTSTAMP:20260423T130511Z
DESCRIPTION:18/69 Tělovýchovná jednota Spartak Pelhřimov\, z.s. - TJ Náměšť
  nad Oslavou z.s. 3:0 (13\,11\,19)
DTSTART;TZID=Europe/Berlin:20220122T130000
DTEND;TZID=Europe/Berlin:20220122T150000
LOCATION:Základní škola Pelhřimov\, Osvobození\, Osvobození 1881 Pelhřimov
SUMMARY:VY-Z: Tělovýchovná jednota Spartak Pelhřimov\, z.s.-TJ Náměšť nad O
 slavou z.s.
END:VEVENT
BEGIN:VEVENT
UID:31366462-3164-4266-b136-396434383238
DTSTAMP:20260423T130511Z
DESCRIPTION:21/82 Tělovýchovná jednota Spartak Pelhřimov\, z.s. - Volejbalo
 vý klub Třebíč 3:0 (12\,17\,15)\ncovid - PE
DTSTART;TZID=Europe/Berlin:20220315T173000
DTEND;TZID=Europe/Berlin:20220315T193000
LOCATION:Základní škola Pelhřimov\, Osvobození\, Osvobození 1881 Pelhřimov
SUMMARY:VY-Z: Tělovýchovná jednota Spartak Pelhřimov\, z.s.-Volejbalový klu
 b Třebíč
END:VEVENT
BEGIN:VEVENT
UID:65643836-6131-4637-a438-316238366164
DTSTAMP:20260423T130511Z
DESCRIPTION:22/86 Tělovýchovná jednota Spartak Pelhřimov\, z.s. - Volejbalo
 vý klub Třebíč 3:0 (20\,10\,13)\ncovid - PE
DTSTART;TZID=Europe/Berlin:20220315T190000
DTEND;TZID=Europe/Berlin:20220315T210000
LOCATION:Základní škola Pelhřimov\, Osvobození\, Osvobození 1881 Pelhřimov
SUMMARY:VY-Z: Tělovýchovná jednota Spartak Pelhřimov\, z.s.-Volejbalový klu
 b Třebíč
END:VEVENT
BEGIN:VEVENT
UID:64636234-3063-4762-a263-323864663531
DTSTAMP:20260423T130511Z
DESCRIPTION:25/99 Tělovýchovná jednota Spartak Pelhřimov\, z.s. - TJ Jiskra
  Humpolec\, z.s. 3:0 (17\,13\,14)
DTSTART;TZID=Europe/Berlin:20220319T100000
DTEND;TZID=Europe/Berlin:20220319T120000
LOCATION:Základní škola Pelhřimov\, Osvobození\, Osvobození 1881 Pelhřimov
SUMMARY:VY-Z: Tělovýchovná jednota Spartak Pelhřimov\, z.s.-TJ Jiskra Humpo
 lec\, z.s.
END:VEVENT
BEGIN:VEVENT
UID:36366534-3032-4830-b033-353163326432
DTSTAMP:20260423T130511Z
DESCRIPTION:26/103 Tělovýchovná jednota Spartak Pelhřimov\, z.s. - TJ Jiskr
 a Humpolec\, z.s. 3:0 (20\,13\,20)
DTSTART;TZID=Europe/Berlin:20220319T130000
DTEND;TZID=Europe/Berlin:20220319T150000
LOCATION:Základní škola Pelhřimov\, Osvobození\, Osvobození 1881 Pelhřimov
SUMMARY:VY-Z: Tělovýchovná jednota Spartak Pelhřimov\, z.s.-TJ Jiskra Humpo
 lec\, z.s.
END:VEVENT
BEGIN:VEVENT
UID:31303162-3033-4637-a364-366631303630
DTSTAMP:20260423T130511Z
DESCRIPTION:1/4 SLAVOJ POLNÁ z.s. - Tělovýchovná jednota Spartak Pelhřimov\
 , z.s. 0:3 (-16\,-22\,-23)
DTSTART;TZID=Europe/Berlin:20210918T100000
DTEND;TZID=Europe/Berlin:20210918T120000
LOCATION:Školní tělocvična\, Poděbradova 76 Polná
SUMMARY:VY-Z: SLAVOJ POLNÁ z.s.-Tělovýchovná jednota Spartak Pelhřimov\, z.
 s.
END:VEVENT
BEGIN:VEVENT
UID:33363364-3638-4566-b732-663864626339
DTSTAMP:20260423T130511Z
DESCRIPTION:2/8 SLAVOJ POLNÁ z.s. - Tělovýchovná jednota Spartak Pelhřimov\
 , z.s. 2:3 (18\,16\,-23\,-11\,-13)
DTSTART;TZID=Europe/Berlin:20210918T130000
DTEND;TZID=Europe/Berlin:20210918T150000
LOCATION:Školní tělocvična\, Poděbradova 76 Polná
SUMMARY:VY-Z: SLAVOJ POLNÁ z.s.-Tělovýchovná jednota Spartak Pelhřimov\, z.
 s.
END:VEVENT
BEGIN:VEVENT
UID:30363130-3262-4136-b435-353461366163
DTSTAMP:20260423T130511Z
DESCRIPTION:3/9 TJ Náměšť nad Oslavou z.s. - Tělovýchovná jednota Spartak P
 elhřimov\, z.s. 0:3 (-14\,-21\,-23)
DTSTART;TZID=Europe/Berlin:20211002T100000
DTEND;TZID=Europe/Berlin:20211002T120000
LOCATION:ZŠ Komenského\, Komenského nám. 53 Náměšť nad Oslavou
SUMMARY:VY-Z: TJ Náměšť nad Oslavou z.s.-Tělovýchovná jednota Spartak Pelhř
 imov\, z.s.
END:VEVENT
BEGIN:VEVENT
UID:37393533-3731-4666-b434-323437616236
DTSTAMP:20260423T130511Z
DESCRIPTION:4/13 TJ Náměšť nad Oslavou z.s. - Tělovýchovná jednota Spartak 
 Pelhřimov\, z.s. 0:3 (-13\,-17\,-25)
DTSTART;TZID=Europe/Berlin:20211002T130000
DTEND;TZID=Europe/Berlin:20211002T150000
LOCATION:ZŠ Komenského\, Komenského nám. 53 Náměšť nad Oslavou
SUMMARY:VY-Z: TJ Náměšť nad Oslavou z.s.-Tělovýchovná jednota Spartak Pelhř
 imov\, z.s.
END:VEVENT
BEGIN:VEVENT
UID:33323430-3761-4936-b864-656131613664
DTSTAMP:20260423T130511Z
DESCRIPTION:7/26 Volejbalový klub Třebíč - Tělovýchovná jednota Spartak Pel
 hřimov\, z.s. 0:3 (-9\,-18\,-11)
DTSTART;TZID=Europe/Berlin:20211106T090000
DTEND;TZID=Europe/Berlin:20211106T110000
LOCATION:hala ZŠ TGM\, Komenského nám. 61 Třebíč - Horka-Domky
SUMMARY:VY-Z: Volejbalový klub Třebíč-Tělovýchovná jednota Spartak Pelhřimo
 v\, z.s.
END:VEVENT
BEGIN:VEVENT
UID:61393136-3131-4132-b239-643730616461
DTSTAMP:20260423T130511Z
DESCRIPTION:8/30 Volejbalový klub Třebíč - Tělovýchovná jednota Spartak Pel
 hřimov\, z.s. 0:3 (-21\,-9\,-16)
DTSTART;TZID=Europe/Berlin:20211106T130000
DTEND;TZID=Europe/Berlin:20211106T150000
LOCATION:hala ZŠ TGM\, Komenského nám. 61 Třebíč - Horka-Domky
SUMMARY:VY-Z: Volejbalový klub Třebíč-Tělovýchovná jednota Spartak Pelhřimo
 v\, z.s.
END:VEVENT
BEGIN:VEVENT
UID:64363734-3630-4165-b565-373630326364
DTSTAMP:20260423T130511Z
DESCRIPTION:11/43 TJ Jiskra Humpolec\, z.s. - Tělovýchovná jednota Spartak 
 Pelhřimov\, z.s. 2:3 (-18\,21\,-13\,22\,-11)
DTSTART;TZID=Europe/Berlin:20211204T090000
DTEND;TZID=Europe/Berlin:20211204T110000
LOCATION:TJ Jiskra Humpolec\, Tyršovo náměstí 745 Humpolec
SUMMARY:VY-Z: TJ Jiskra Humpolec\, z.s.-Tělovýchovná jednota Spartak Pelhři
 mov\, z.s.
END:VEVENT
BEGIN:VEVENT
UID:66313263-6330-4431-b930-666365343465
DTSTAMP:20260423T130511Z
DESCRIPTION:12/47 TJ Jiskra Humpolec\, z.s. - Tělovýchovná jednota Spartak 
 Pelhřimov\, z.s. 3:2 (21\,-24\,20\,-11\,8)
DTSTART;TZID=Europe/Berlin:20211204T120000
DTEND;TZID=Europe/Berlin:20211204T140000
LOCATION:TJ Jiskra Humpolec\, Tyršovo náměstí 745 Humpolec
SUMMARY:VY-Z: TJ Jiskra Humpolec\, z.s.-Tělovýchovná jednota Spartak Pelhři
 mov\, z.s.
END:VEVENT
BEGIN:VEVENT
UID:64653565-3764-4464-b231-306265353061
DTSTAMP:20260423T130511Z
DESCRIPTION:19/76 Školní sportovní klub Demlova Jihlava\, z.s. - Tělovýchov
 ná jednota Spartak Pelhřimov\, z.s. 0:3 (-21\,-16\,-23)
DTSTART;TZID=Europe/Berlin:20220311T173000
DTEND;TZID=Europe/Berlin:20220311T193000
LOCATION:Gymnázium Jihlava\, Jana Masaryka 1560 Jihlava
SUMMARY:VY-Z: Školní sportovní klub Demlova Jihlava\, z.s.-Tělovýchovná jed
 nota Spartak Pelhřimov\, z.s.
END:VEVENT
BEGIN:VEVENT
UID:38353331-6465-4366-b332-373638336231
DTSTAMP:20260423T130511Z
DESCRIPTION:20/80 Školní sportovní klub Demlova Jihlava\, z.s. - Tělovýchov
 ná jednota Spartak Pelhřimov\, z.s. 2:3 (-21\,-17\,19\,23\,-11)
DTSTART;TZID=Europe/Berlin:20220311T193000
DTEND;TZID=Europe/Berlin:20220311T213000
LOCATION:Gymnázium Jihlava\, Jana Masaryka 1560 Jihlava
SUMMARY:VY-Z: Školní sportovní klub Demlova Jihlava\, z.s.-Tělovýchovná jed
 nota Spartak Pelhřimov\, z.s.
END:VEVENT
BEGIN:VEVENT
UID:61623833-3334-4864-b836-616631336339
DTSTAMP:20260423T130511Z
DESCRIPTION:23/91 Tělocvičná jednota Sokol Havlíčkův Brod - Tělovýchovná je
 dnota Spartak Pelhřimov\, z.s. 3:0 (14\,10\,5)
DTSTART;TZID=Europe/Berlin:20220305T090000
DTEND;TZID=Europe/Berlin:20220305T110000
LOCATION:Střední zdravotnická škola Havlíčkův Brod\, Masarykova 2033 Havlíč
 kův Brod
SUMMARY:VY-Z: Tělocvičná jednota Sokol Havlíčkův Brod-Tělovýchovná jednota 
 Spartak Pelhřimov\, z.s.
END:VEVENT
BEGIN:VEVENT
UID:63336666-3635-4339-b463-333431653230
DTSTAMP:20260423T130511Z
DESCRIPTION:24/95 Tělocvičná jednota Sokol Havlíčkův Brod - Tělovýchovná je
 dnota Spartak Pelhřimov\, z.s. 3:0 (18\,22\,6)
DTSTART;TZID=Europe/Berlin:20220305T130000
DTEND;TZID=Europe/Berlin:20220305T150000
LOCATION:Střední zdravotnická škola Havlíčkův Brod\, Masarykova 2033 Havlíč
 kův Brod
SUMMARY:VY-Z: Tělocvičná jednota Sokol Havlíčkův Brod-Tělovýchovná jednota 
 Spartak Pelhřimov\, z.s.
END:VEVENT
BEGIN:VEVENT
UID:35663034-3230-4362-b736-643134643032
DTSTAMP:20260423T130511Z
DESCRIPTION:27/106 Nové Veselí - Tělovýchovná jednota Spartak Pelhřimov\, z
 .s. 3:0 (17\,18\,16)
DTSTART;TZID=Europe/Berlin:20220326T100000
DTEND;TZID=Europe/Berlin:20220326T120000
LOCATION:Víceúčelová sportovní hala Nové Veselí\, Žďárská 356 Nové Veselí
SUMMARY:VY-Z: Nové Veselí-Tělovýchovná jednota Spartak Pelhřimov\, z.s.
END:VEVENT
BEGIN:VEVENT
UID:37363566-3830-4231-b636-653230653932
DTSTAMP:20260423T130511Z
DESCRIPTION:28/110 Nové Veselí - Tělovýchovná jednota Spartak Pelhřimov\, z
 .s. 3:0 (19\,21\,20)
DTSTART;TZID=Europe/Berlin:20220326T130000
DTEND;TZID=Europe/Berlin:20220326T150000
LOCATION:Víceúčelová sportovní hala Nové Veselí\, Žďárská 356 Nové Veselí
SUMMARY:VY-Z: Nové Veselí-Tělovýchovná jednota Spartak Pelhřimov\, z.s.
END:VEVENT
END:VCALENDAR
