BEGIN:VCALENDAR
VERSION:2.0
PRODID:-//SK Volejbal Klatovy76405//NONSGML kigkonsult.se iCalcreator 2.41.80//
CALSCALE:GREGORIAN
UID:63366235-6138-4566-b561-643632336161
BEGIN:VEVENT
UID:63343061-3931-4663-b332-636566343662
DTSTAMP:20260425T232021Z
DESCRIPTION:3/11 Klatovy - Union 3:1 (-22\,16\,21\,18)
DTSTART;TZID=Europe/Berlin:20211023T110000
DTEND;TZID=Europe/Berlin:20211023T130000
LOCATION:Sportovní hala ZŠ Čapkova\, Čapkova 136 Klatovy - Klatovy V
SUMMARY:P-M-1: Klatovy-Union
END:VEVENT
BEGIN:VEVENT
UID:31383332-3263-4762-b765-393432303134
DTSTAMP:20260425T232021Z
DESCRIPTION:4/15 Klatovy - Union 1:3 (17\,-18\,-9\,-16)
DTSTART;TZID=Europe/Berlin:20211023T150000
DTEND;TZID=Europe/Berlin:20211023T170000
LOCATION:Sportovní hala ZŠ Čapkova\, Čapkova 136 Klatovy - Klatovy V
SUMMARY:P-M-1: Klatovy-Union
END:VEVENT
BEGIN:VEVENT
UID:35663565-6166-4063-a437-323962373164
DTSTAMP:20260425T232021Z
DESCRIPTION:13/52 Klatovy - Skvrňany 3:2 (-14\,-15\,22\,20\,11)
DTSTART;TZID=Europe/Berlin:20211211T110000
DTEND;TZID=Europe/Berlin:20211211T130000
LOCATION:Sportovní hala ZŠ Čapkova\, Čapkova 136 Klatovy - Klatovy V
SUMMARY:P-M-1: Klatovy-Skvrňany
END:VEVENT
BEGIN:VEVENT
UID:62343130-6435-4236-b537-373861623763
DTSTAMP:20260425T232021Z
DESCRIPTION:14/56 Klatovy - Skvrňany 3:1 (-22\,23\,13\,22)
DTSTART;TZID=Europe/Berlin:20211211T150000
DTEND;TZID=Europe/Berlin:20211211T170000
LOCATION:Sportovní hala ZŠ Čapkova\, Čapkova 136 Klatovy - Klatovy V
SUMMARY:P-M-1: Klatovy-Skvrňany
END:VEVENT
BEGIN:VEVENT
UID:62313930-3131-4539-a234-383064353535
DTSTAMP:20260425T232021Z
DESCRIPTION:15/58 Klatovy - Domažlice B 3:1 (21\,16\,-20\,19)
DTSTART;TZID=Europe/Berlin:20220116T090000
DTEND;TZID=Europe/Berlin:20220116T110000
LOCATION:Sportovní hala ZŠ Čapkova\, Čapkova 136 Klatovy - Klatovy V
SUMMARY:P-M-1: Klatovy-Domažlice B
END:VEVENT
BEGIN:VEVENT
UID:63613066-6539-4466-b830-366439333834
DTSTAMP:20260425T232021Z
DESCRIPTION:16/62 Klatovy - Domažlice B 3:1 (-23\,15\,18\,22)
DTSTART;TZID=Europe/Berlin:20220116T130000
DTEND;TZID=Europe/Berlin:20220116T150000
LOCATION:Sportovní hala ZŠ Čapkova\, Čapkova 136 Klatovy - Klatovy V
SUMMARY:P-M-1: Klatovy-Domažlice B
END:VEVENT
BEGIN:VEVENT
UID:62633266-3339-4961-a534-393561313433
DTSTAMP:20260425T232021Z
DESCRIPTION:19/75 Klatovy - USK Slavia C 3:1 (20\,18\,-16\,20)
DTSTART;TZID=Europe/Berlin:20220129T110000
DTEND;TZID=Europe/Berlin:20220129T130000
LOCATION:Sportovní hala ZŠ Čapkova\, Čapkova 136 Klatovy - Klatovy V
SUMMARY:P-M-1: Klatovy-USK Slavia C
END:VEVENT
BEGIN:VEVENT
UID:33336534-3533-4063-b162-656262663332
DTSTAMP:20260425T232021Z
DESCRIPTION:20/79 Klatovy - USK Slavia C 3:1 (-22\,21\,21\,18)
DTSTART;TZID=Europe/Berlin:20220129T150000
DTEND;TZID=Europe/Berlin:20220129T170000
LOCATION:Sportovní hala ZŠ Čapkova\, Čapkova 136 Klatovy - Klatovy V
SUMMARY:P-M-1: Klatovy-USK Slavia C
END:VEVENT
BEGIN:VEVENT
UID:33356637-3536-4537-b466-313030323831
DTSTAMP:20260425T232021Z
DESCRIPTION:23/92 Klatovy - Mirošov 3:1 (23\,20\,-21\,14)
DTSTART;TZID=Europe/Berlin:20220403T090000
DTEND;TZID=Europe/Berlin:20220403T110000
LOCATION:Hala Střední průmyslová škola\, nábř. Kpt. Nálepky 362 Klatovy - K
 latovy III
SUMMARY:P-M-1: Klatovy-Mirošov
END:VEVENT
BEGIN:VEVENT
UID:31353364-3930-4062-b865-663638623539
DTSTAMP:20260425T232021Z
DESCRIPTION:24/96 Klatovy - Mirošov 1:3 (-23\,12\,-12\,-22)
DTSTART;TZID=Europe/Berlin:20220403T120000
DTEND;TZID=Europe/Berlin:20220403T140000
LOCATION:Hala Střední průmyslová škola\, nábř. Kpt. Nálepky 362 Klatovy - K
 latovy III
SUMMARY:P-M-1: Klatovy-Mirošov
END:VEVENT
BEGIN:VEVENT
UID:35303266-6533-4339-b037-313332363737
DTSTAMP:20260425T232021Z
DESCRIPTION:25/97 Klatovy - USK Slavia B 3:2 (16\,-19\,14\,-17\,9)
DTSTART;TZID=Europe/Berlin:20220312T110000
DTEND;TZID=Europe/Berlin:20220312T130000
LOCATION:Sportovní hala ZŠ Čapkova\, Čapkova 136 Klatovy - Klatovy V
SUMMARY:P-M-1: Klatovy-USK Slavia B
END:VEVENT
BEGIN:VEVENT
UID:32313832-3037-4531-b666-336362653937
DTSTAMP:20260425T232021Z
DESCRIPTION:26/101 Klatovy - USK Slavia B 3:0 (20\,19\,22)
DTSTART;TZID=Europe/Berlin:20220312T150000
DTEND;TZID=Europe/Berlin:20220312T170000
LOCATION:Sportovní hala ZŠ Čapkova\, Čapkova 136 Klatovy - Klatovy V
SUMMARY:P-M-1: Klatovy-USK Slavia B
END:VEVENT
BEGIN:VEVENT
UID:35386533-6231-4437-b361-636130613130
DTSTAMP:20260425T232021Z
DESCRIPTION:1/2 Domažlice B - Klatovy 0:3 (-20\,-18\,-21)
DTSTART;TZID=Europe/Berlin:20211016T100000
DTEND;TZID=Europe/Berlin:20211016T120000
LOCATION:, Komenského 17 Domažlice - Týnské Předměstí
SUMMARY:P-M-1: Domažlice B-Klatovy
END:VEVENT
BEGIN:VEVENT
UID:33313163-3465-4364-b837-353265656337
DTSTAMP:20260425T232021Z
DESCRIPTION:2/6 Domažlice B - Klatovy 2:3 (-18\,-18\,18\,24\,-9)
DTSTART;TZID=Europe/Berlin:20211016T140000
DTEND;TZID=Europe/Berlin:20211016T160000
LOCATION:, Komenského 17 Domažlice - Týnské Předměstí
SUMMARY:P-M-1: Domažlice B-Klatovy
END:VEVENT
BEGIN:VEVENT
UID:62313132-3633-4262-b833-646332393730
DTSTAMP:20260425T232021Z
DESCRIPTION:5/19 USK Slavia C - Klatovy 0:3 (-21\,-14\,-18)
DTSTART;TZID=Europe/Berlin:20211106T100000
DTEND;TZID=Europe/Berlin:20211106T120000
LOCATION:Tělocvična 15.ZŠ\, Terezie Brzkové 863 Plzeň - Skvrňany
SUMMARY:P-M-1: USK Slavia C-Klatovy
END:VEVENT
BEGIN:VEVENT
UID:65393530-3565-4136-a637-386536393864
DTSTAMP:20260425T232021Z
DESCRIPTION:6/23 USK Slavia C - Klatovy 0:3 (-13\,-18\,-13)
DTSTART;TZID=Europe/Berlin:20211106T140000
DTEND;TZID=Europe/Berlin:20211106T160000
LOCATION:Tělocvična 15.ZŠ\, Terezie Brzkové 863 Plzeň - Skvrňany
SUMMARY:P-M-1: USK Slavia C-Klatovy
END:VEVENT
BEGIN:VEVENT
UID:36633964-3930-4332-b365-663061356135
DTSTAMP:20260425T232021Z
DESCRIPTION:9/36 Mirošov - Klatovy 1:3 (-20\,-24\,18\,-25)
DTSTART;TZID=Europe/Berlin:20211120T100000
DTEND;TZID=Europe/Berlin:20211120T120000
LOCATION:Sokolovna Mirošov\, Skořická 86 Mirošov
SUMMARY:P-M-1: Mirošov-Klatovy
END:VEVENT
BEGIN:VEVENT
UID:61373065-3531-4831-b339-643633316266
DTSTAMP:20260425T232021Z
DESCRIPTION:10/40 Mirošov - Klatovy 3:0 (16\,16\,23)
DTSTART;TZID=Europe/Berlin:20211120T140000
DTEND;TZID=Europe/Berlin:20211120T160000
LOCATION:Sokolovna Mirošov\, Skořická 86 Mirošov
SUMMARY:P-M-1: Mirošov-Klatovy
END:VEVENT
BEGIN:VEVENT
UID:63323966-6230-4131-b339-316638353535
DTSTAMP:20260425T232021Z
DESCRIPTION:11/41 USK Slavia B - Klatovy 3:1 (20\,22\,-20\,13)
DTSTART;TZID=Europe/Berlin:20211205T100000
DTEND;TZID=Europe/Berlin:20211205T120000
LOCATION:Hala PF ZČU Plzeň\, Klatovská třída 1736 Plzeň - Jižní Předměstí
SUMMARY:P-M-1: USK Slavia B-Klatovy
END:VEVENT
BEGIN:VEVENT
UID:33343165-6433-4435-a437-383839376262
DTSTAMP:20260425T232021Z
DESCRIPTION:12/45 USK Slavia B - Klatovy 0:3 (-23\,-21\,-23)
DTSTART;TZID=Europe/Berlin:20211205T140000
DTEND;TZID=Europe/Berlin:20211205T160000
LOCATION:Hala PF ZČU Plzeň\, Klatovská třída 1736 Plzeň - Jižní Předměstí
SUMMARY:P-M-1: USK Slavia B-Klatovy
END:VEVENT
BEGIN:VEVENT
UID:65633466-3634-4530-b764-316361366363
DTSTAMP:20260425T232021Z
DESCRIPTION:17/67 Union - Klatovy 1:3 (-22\,23\,-21\,-10)
DTSTART;TZID=Europe/Berlin:20220122T100000
DTEND;TZID=Europe/Berlin:20220122T120000
LOCATION:TJ Union\, Radčická 2861 Plzeň - Jižní Předměstí
SUMMARY:P-M-1: Union-Klatovy
END:VEVENT
BEGIN:VEVENT
UID:39393062-6563-4265-b262-646134343437
DTSTAMP:20260425T232021Z
DESCRIPTION:18/71 Union - Klatovy 0:3 (-17\,-22\,-22)
DTSTART;TZID=Europe/Berlin:20220122T140000
DTEND;TZID=Europe/Berlin:20220122T160000
LOCATION:TJ Union\, Radčická 2861 Plzeň - Jižní Předměstí
SUMMARY:P-M-1: Union-Klatovy
END:VEVENT
BEGIN:VEVENT
UID:63326132-6435-4633-b530-356662653666
DTSTAMP:20260425T232021Z
DESCRIPTION:27/108 Skvrňany - Klatovy 3:2 (20\,20\,-22\,-18\,14)
DTSTART;TZID=Europe/Berlin:20220319T100000
DTEND;TZID=Europe/Berlin:20220319T120000
LOCATION:Sokolovna Skvrňany\, Emingerova 308 Plzeň - Skvrňany
SUMMARY:P-M-1: Skvrňany-Klatovy
END:VEVENT
BEGIN:VEVENT
UID:34313162-6263-4331-a130-383935373536
DTSTAMP:20260425T232021Z
DESCRIPTION:28/112 Skvrňany - Klatovy 2:3 (-19\,14\,-22\,19\,-9)
DTSTART;TZID=Europe/Berlin:20220319T140000
DTEND;TZID=Europe/Berlin:20220319T160000
LOCATION:Sokolovna Skvrňany\, Emingerova 308 Plzeň - Skvrňany
SUMMARY:P-M-1: Skvrňany-Klatovy
END:VEVENT
BEGIN:VEVENT
UID:32333936-6136-4938-b334-376234346561
DTSTAMP:20260425T232021Z
DESCRIPTION:2/3 Klatovy - Tuchlovice 0:3 (-20\,-21\,-22)
DTSTART;TZID=Europe/Berlin:20220423T160000
DTEND;TZID=Europe/Berlin:20220423T180000
LOCATION:Sportovní hala TJ Netolice\, Tyršova 226 Netolice
SUMMARY:2-M-KA: Klatovy-Tuchlovice
END:VEVENT
BEGIN:VEVENT
UID:33333961-6564-4132-b235-303963633063
DTSTAMP:20260425T232021Z
DESCRIPTION:1/1 Netolice - Klatovy 3:1 (17\,-23\,14\,17)
DTSTART;TZID=Europe/Berlin:20220423T100000
DTEND;TZID=Europe/Berlin:20220423T120000
LOCATION:Sportovní hala TJ Netolice\, Tyršova 226 Netolice
SUMMARY:2-M-KA: Netolice-Klatovy
END:VEVENT
BEGIN:VEVENT
UID:35346261-3330-4535-a630-313538623366
DTSTAMP:20260425T232021Z
DESCRIPTION:3/5 Hostivař - Klatovy 3:0 (11\,13\,16)
DTSTART;TZID=Europe/Berlin:20220424T100000
DTEND;TZID=Europe/Berlin:20220424T120000
LOCATION:Sportovní hala TJ Netolice\, Tyršova 226 Netolice
SUMMARY:2-M-KA: Hostivař-Klatovy
END:VEVENT
END:VCALENDAR
