BEGIN:VCALENDAR
VERSION:2.0
PRODID:-//TJ Sokol Vejprnice B76439//NONSGML kigkonsult.se iCalcreator 2.41.80//
CALSCALE:GREGORIAN
UID:66663938-3065-4533-a632-633630303263
BEGIN:VEVENT
UID:65636531-3763-4130-b364-343833646462
DTSTAMP:20260422T070123Z
DESCRIPTION:1/3 Vejprnice B - Košutka 0:3 (-10\,-16\,-6)
DTSTART;TZID=Europe/Berlin:20211010T110000
DTEND;TZID=Europe/Berlin:20211010T130000
LOCATION:Tělocvična ZŠ Vejprnice\, Jakuba Husníka 527 Vejprnice
SUMMARY:P-KKY: Vejprnice B-Košutka
END:VEVENT
BEGIN:VEVENT
UID:34353032-6666-4633-b465-616431633531
DTSTAMP:20260422T070123Z
DESCRIPTION:1/5 Vejprnice B - Letná 3:2 (13\,11\,-16\,-18\,11)
DTSTART;TZID=Europe/Berlin:20211010T130000
DTEND;TZID=Europe/Berlin:20211010T150000
LOCATION:Tělocvična ZŠ Vejprnice\, Jakuba Husníka 527 Vejprnice
SUMMARY:P-KKY: Vejprnice B-Letná
END:VEVENT
BEGIN:VEVENT
UID:34306466-3137-4463-b765-663730373238
DTSTAMP:20260422T070123Z
DESCRIPTION:4/15 Vejprnice B - Košutka 0:3 (-7\,-14\,-16)
DTSTART;TZID=Europe/Berlin:20211212T110000
DTEND;TZID=Europe/Berlin:20211212T130000
LOCATION:Tělocvična ZŠ Vejprnice\, Jakuba Husníka 527 Vejprnice
SUMMARY:P-KKY: Vejprnice B-Košutka
END:VEVENT
BEGIN:VEVENT
UID:64656562-3265-4562-a565-323162306135
DTSTAMP:20260422T070123Z
DESCRIPTION:5/19 Vejprnice B - Letná 2:3 (-23\,-24\,22\,21\,-13)\npořadatel
  Vejprnice
DTSTART;TZID=Europe/Berlin:20220129T090000
DTEND;TZID=Europe/Berlin:20220129T110000
LOCATION:Tělocvična ZŠ Vejprnice\, Jakuba Husníka 527 Vejprnice
SUMMARY:P-KKY: Vejprnice B-Letná
END:VEVENT
BEGIN:VEVENT
UID:33666163-3331-4638-a131-383834313066
DTSTAMP:20260422T070123Z
DESCRIPTION:2/7 Rokycany - Vejprnice B 3:0 (14\,9\,13)\npořadatel Vejprnice
DTSTART;TZID=Europe/Berlin:20211114T090000
DTEND;TZID=Europe/Berlin:20211114T110000
LOCATION:Hala Gymnázia Rokycany\, Mládežníků 1115 Rokycany - Nové Město
SUMMARY:P-KKY: Rokycany-Vejprnice B
END:VEVENT
BEGIN:VEVENT
UID:36383630-3430-4436-b730-343338656433
DTSTAMP:20260422T070123Z
DESCRIPTION:2/9 Domažlice - Vejprnice B 3:0 (18\,22\,22)
DTSTART;TZID=Europe/Berlin:20211114T130000
DTEND;TZID=Europe/Berlin:20211114T150000
LOCATION:Sportovní hala ZŠ Komenského Domažlice\, Komenského 17 Domažlice -
  Týnské Předměstí
SUMMARY:P-KKY: Domažlice-Vejprnice B
END:VEVENT
BEGIN:VEVENT
UID:62613030-3532-4962-a236-646532643035
DTSTAMP:20260422T070123Z
DESCRIPTION:4/18 Klatovy - Vejprnice B 3:0 (14\,23\,26)
DTSTART;TZID=Europe/Berlin:20211212T130000
DTEND;TZID=Europe/Berlin:20211212T150000
LOCATION:Sportovní hala ZŠ Čapkova\, Čapkova 136 Klatovy - Klatovy V
SUMMARY:P-KKY: Klatovy-Vejprnice B
END:VEVENT
BEGIN:VEVENT
UID:38353463-3865-4932-a138-303363626430
DTSTAMP:20260422T070123Z
DESCRIPTION:5/20 Klatovy - Vejprnice B 3:0 (14\,7\,23)
DTSTART;TZID=Europe/Berlin:20220129T110000
DTEND;TZID=Europe/Berlin:20220129T130000
LOCATION:Sportovní hala ZŠ Čapkova\, Čapkova 136 Klatovy - Klatovy V
SUMMARY:P-KKY: Klatovy-Vejprnice B
END:VEVENT
BEGIN:VEVENT
UID:33353065-6630-4731-b663-616431306535
DTSTAMP:20260422T070123Z
DESCRIPTION:7/25 Rokycany - Vejprnice B 3:0 (10\,21\,15)\npořadatel Rokycan
 y
DTSTART;TZID=Europe/Berlin:20220313T090000
DTEND;TZID=Europe/Berlin:20220313T110000
LOCATION:Hala Gymnázia Rokycany\, Mládežníků 1115 Rokycany - Nové Město
SUMMARY:P-KKY: Rokycany-Vejprnice B
END:VEVENT
BEGIN:VEVENT
UID:36386432-6537-4662-a565-366139386336
DTSTAMP:20260422T070123Z
DESCRIPTION:7/27 Domažlice - Vejprnice B 3:2 (22\,-22\,18\,-18\,9)
DTSTART;TZID=Europe/Berlin:20220313T110000
DTEND;TZID=Europe/Berlin:20220313T130000
LOCATION:Sportovní hala ZŠ Komenského Domažlice\, Komenského 17 Domažlice -
  Týnské Předměstí
SUMMARY:P-KKY: Domažlice-Vejprnice B
END:VEVENT
END:VCALENDAR
