BEGIN:VCALENDAR
VERSION:2.0
PRODID:-//Tělovýchovná jednota Sokol Újezd u Brna76575//NONSGML kigkonsult.se iCalcreator 2.41.80//
CALSCALE:GREGORIAN
UID:34643637-3930-4731-b037-303964613035
BEGIN:VEVENT
UID:30653261-3031-4232-b461-316139623531
DTSTAMP:20260423T133521Z
DESCRIPTION:1/2 Tělovýchovná jednota Sokol Újezd u Brna - Šlapanice B 3:0 (
 23\,15\,19)
DTSTART;TZID=Europe/Berlin:20210912T100000
DTEND;TZID=Europe/Berlin:20210912T120000
LOCATION:Hala ZŠ Újezd u Brna\, Školní 284 Újezd u Brna
SUMMARY:JM-JKY-B: Tělovýchovná jednota Sokol Újezd u Brna-Šlapanice B
END:VEVENT
BEGIN:VEVENT
UID:64306137-6139-4232-a537-366136373265
DTSTAMP:20260423T133521Z
DESCRIPTION:2/5 Tělovýchovná jednota Sokol Újezd u Brna - Šlapanice B 3:0 (
 10\,9\,12)
DTSTART;TZID=Europe/Berlin:20210912T130000
DTEND;TZID=Europe/Berlin:20210912T150000
LOCATION:Hala ZŠ Újezd u Brna\, Školní 284 Újezd u Brna
SUMMARY:JM-JKY-B: Tělovýchovná jednota Sokol Újezd u Brna-Šlapanice B
END:VEVENT
BEGIN:VEVENT
UID:38656430-3061-4435-b136-666466306264
DTSTAMP:20260423T133521Z
DESCRIPTION:5/13 Tělovýchovná jednota Sokol Újezd u Brna - Tělocvičná jedno
 ta Sokol Předklášteří 3:0 (7\,15\,19)
DTSTART;TZID=Europe/Berlin:20211003T100000
DTEND;TZID=Europe/Berlin:20211003T120000
LOCATION:Hala ZŠ Újezd u Brna\, Školní 284 Újezd u Brna
SUMMARY:JM-JKY-B: Tělovýchovná jednota Sokol Újezd u Brna-Tělocvičná jednot
 a Sokol Předklášteří
END:VEVENT
BEGIN:VEVENT
UID:32666234-6434-4835-b337-373564633731
DTSTAMP:20260423T133521Z
DESCRIPTION:6/16 Tělovýchovná jednota Sokol Újezd u Brna - Tělocvičná jedno
 ta Sokol Předklášteří 3:1 (-16\,17\,10\,13)
DTSTART;TZID=Europe/Berlin:20211003T130000
DTEND;TZID=Europe/Berlin:20211003T150000
LOCATION:Hala ZŠ Újezd u Brna\, Školní 284 Újezd u Brna
SUMMARY:JM-JKY-B: Tělovýchovná jednota Sokol Újezd u Brna-Tělocvičná jednot
 a Sokol Předklášteří
END:VEVENT
BEGIN:VEVENT
UID:37376333-3830-4634-b334-343163396533
DTSTAMP:20260423T133521Z
DESCRIPTION:7/21 Tělovýchovná jednota Sokol Újezd u Brna - TJ SOKOL LETOVIC
 E\, z.s. 3:0 (12\,3\,17)
DTSTART;TZID=Europe/Berlin:20211010T100000
DTEND;TZID=Europe/Berlin:20211010T120000
LOCATION:Hala ZŠ Újezd u Brna\, Školní 284 Újezd u Brna
SUMMARY:JM-JKY-B: Tělovýchovná jednota Sokol Újezd u Brna-TJ SOKOL LETOVICE
 \, z.s.
END:VEVENT
BEGIN:VEVENT
UID:32653037-3931-4736-b734-313637373336
DTSTAMP:20260423T133521Z
DESCRIPTION:8/24 Tělovýchovná jednota Sokol Újezd u Brna - TJ SOKOL LETOVIC
 E\, z.s. 3:0 (13\,18\,11)
DTSTART;TZID=Europe/Berlin:20211010T130000
DTEND;TZID=Europe/Berlin:20211010T150000
LOCATION:Hala ZŠ Újezd u Brna\, Školní 284 Újezd u Brna
SUMMARY:JM-JKY-B: Tělovýchovná jednota Sokol Újezd u Brna-TJ SOKOL LETOVICE
 \, z.s.
END:VEVENT
BEGIN:VEVENT
UID:34393537-6132-4734-a633-333034326431
DTSTAMP:20260423T133521Z
DESCRIPTION:13/39 Tělovýchovná jednota Sokol Újezd u Brna - TJ JUNIOR Brno 
 0:3 (-12\,-17\,-24)
DTSTART;TZID=Europe/Berlin:20211114T100000
DTEND;TZID=Europe/Berlin:20211114T120000
LOCATION:Hala ZŠ Újezd u Brna\, Školní 284 Újezd u Brna
SUMMARY:JM-JKY-B: Tělovýchovná jednota Sokol Újezd u Brna-TJ JUNIOR Brno
END:VEVENT
BEGIN:VEVENT
UID:32333262-6231-4131-a433-383964666262
DTSTAMP:20260423T133521Z
DESCRIPTION:14/42 Tělovýchovná jednota Sokol Újezd u Brna - TJ JUNIOR Brno 
 1:3 (-22\,21\,-21\,-22)
DTSTART;TZID=Europe/Berlin:20211114T130000
DTEND;TZID=Europe/Berlin:20211114T150000
LOCATION:Hala ZŠ Újezd u Brna\, Školní 284 Újezd u Brna
SUMMARY:JM-JKY-B: Tělovýchovná jednota Sokol Újezd u Brna-TJ JUNIOR Brno
END:VEVENT
BEGIN:VEVENT
UID:64623265-3935-4536-b338-393230613331
DTSTAMP:20260423T133521Z
DESCRIPTION:19/56 Tělovýchovná jednota Sokol Újezd u Brna - TJ Sokol Jehnic
 e 3:2 (12\,-8\,-15\,11\,9)
DTSTART;TZID=Europe/Berlin:20220109T100000
DTEND;TZID=Europe/Berlin:20220109T120000
LOCATION:Hala ZŠ Újezd u Brna\, Školní 284 Újezd u Brna
SUMMARY:JM-JKY-B: Tělovýchovná jednota Sokol Újezd u Brna-TJ Sokol Jehnice
END:VEVENT
BEGIN:VEVENT
UID:61623362-6138-4136-a239-646565666233
DTSTAMP:20260423T133521Z
DESCRIPTION:20/59 Tělovýchovná jednota Sokol Újezd u Brna - TJ Sokol Jehnic
 e 1:3 (-24\,17\,-19\,-13)
DTSTART;TZID=Europe/Berlin:20220109T130000
DTEND;TZID=Europe/Berlin:20220109T150000
LOCATION:Hala ZŠ Újezd u Brna\, Školní 284 Újezd u Brna
SUMMARY:JM-JKY-B: Tělovýchovná jednota Sokol Újezd u Brna-TJ Sokol Jehnice
END:VEVENT
BEGIN:VEVENT
UID:33666363-3836-4661-a535-373933646234
DTSTAMP:20260423T133521Z
DESCRIPTION:3/9 TJ JUNIOR Brno - Tělovýchovná jednota Sokol Újezd u Brna 3:
 0 (10\,18\,22)
DTSTART;TZID=Europe/Berlin:20210919T100000
DTEND;TZID=Europe/Berlin:20210919T120000
LOCATION:ZŠ Holzova 1\, Holzova 1461 Brno - Líšeň
SUMMARY:JM-JKY-B: TJ JUNIOR Brno-Tělovýchovná jednota Sokol Újezd u Brna
END:VEVENT
BEGIN:VEVENT
UID:39336534-6333-4131-b064-643131393039
DTSTAMP:20260423T133521Z
DESCRIPTION:4/12 TJ JUNIOR Brno - Tělovýchovná jednota Sokol Újezd u Brna 3
 :0 (28\,16\,23)
DTSTART;TZID=Europe/Berlin:20210919T130000
DTEND;TZID=Europe/Berlin:20210919T150000
LOCATION:ZŠ Holzova 1\, Holzova 1461 Brno - Líšeň
SUMMARY:JM-JKY-B: TJ JUNIOR Brno-Tělovýchovná jednota Sokol Újezd u Brna
END:VEVENT
BEGIN:VEVENT
UID:31373466-3266-4132-a363-323838306432
DTSTAMP:20260423T133521Z
DESCRIPTION:9/26 TJ Sokol Jehnice - Tělovýchovná jednota Sokol Újezd u Brna
  2:3 (-17\,22\,25\,-25\,-10)
DTSTART;TZID=Europe/Berlin:20211024T100000
DTEND;TZID=Europe/Berlin:20211024T120000
LOCATION:TJ Sokol Jehnice\, Blanenská 1 Brno - Jehnice
SUMMARY:JM-JKY-B: TJ Sokol Jehnice-Tělovýchovná jednota Sokol Újezd u Brna
END:VEVENT
BEGIN:VEVENT
UID:63653661-3939-4135-b936-636337653734
DTSTAMP:20260423T133521Z
DESCRIPTION:10/29 TJ Sokol Jehnice - Tělovýchovná jednota Sokol Újezd u Brn
 a 0:3 (-15\,-17\,-21)
DTSTART;TZID=Europe/Berlin:20211024T130000
DTEND;TZID=Europe/Berlin:20211024T150000
LOCATION:TJ Sokol Jehnice\, Blanenská 1 Brno - Jehnice
SUMMARY:JM-JKY-B: TJ Sokol Jehnice-Tělovýchovná jednota Sokol Újezd u Brna
END:VEVENT
BEGIN:VEVENT
UID:36633636-3965-4662-b062-353765383163
DTSTAMP:20260423T133521Z
DESCRIPTION:11/32 Šlapanice B - Tělovýchovná jednota Sokol Újezd u Brna 0:3
  (-12\,-10\,-15)
DTSTART;TZID=Europe/Berlin:20211107T090000
DTEND;TZID=Europe/Berlin:20211107T110000
LOCATION:Tělocvična ZŠ Šlapanice\, Masarykovo náměstí 1594 Šlapanice
SUMMARY:JM-JKY-B: Šlapanice B-Tělovýchovná jednota Sokol Újezd u Brna
END:VEVENT
BEGIN:VEVENT
UID:35623737-3966-4338-b437-306366336530
DTSTAMP:20260423T133521Z
DESCRIPTION:12/35 Šlapanice B - Tělovýchovná jednota Sokol Újezd u Brna 0:3
  (-19\,-19\,-16)
DTSTART;TZID=Europe/Berlin:20211107T120000
DTEND;TZID=Europe/Berlin:20211107T140000
LOCATION:Tělocvična ZŠ Šlapanice\, Masarykovo náměstí 1594 Šlapanice
SUMMARY:JM-JKY-B: Šlapanice B-Tělovýchovná jednota Sokol Újezd u Brna
END:VEVENT
BEGIN:VEVENT
UID:30613533-6534-4266-b032-646165616534
DTSTAMP:20260423T133521Z
DESCRIPTION:15/43 Tělocvičná jednota Sokol Předklášteří - Tělovýchovná jedn
 ota Sokol Újezd u Brna 0:3 (-11\,-27\,-21)\nPřeloženo COVID-19
DTSTART;TZID=Europe/Berlin:20211219T100000
DTEND;TZID=Europe/Berlin:20211219T120000
LOCATION:ZŠ Předklášteří\, Komenského 1097 Předklášteří
SUMMARY:JM-JKY-B: Tělocvičná jednota Sokol Předklášteří-Tělovýchovná jednot
 a Sokol Újezd u Brna
END:VEVENT
BEGIN:VEVENT
UID:63656135-3539-4636-b838-383862633464
DTSTAMP:20260423T133521Z
DESCRIPTION:16/46 Tělocvičná jednota Sokol Předklášteří - Tělovýchovná jedn
 ota Sokol Újezd u Brna 0:3 (-22\,-15\,-14)\nPřeloženo COVID-19
DTSTART;TZID=Europe/Berlin:20211219T130000
DTEND;TZID=Europe/Berlin:20211219T150000
LOCATION:ZŠ Předklášteří\, Komenského 1097 Předklášteří
SUMMARY:JM-JKY-B: Tělocvičná jednota Sokol Předklášteří-Tělovýchovná jednot
 a Sokol Újezd u Brna
END:VEVENT
BEGIN:VEVENT
UID:64313261-6339-4839-b061-383366323630
DTSTAMP:20260423T133521Z
DESCRIPTION:17/51 TJ SOKOL LETOVICE\, z.s. - Tělovýchovná jednota Sokol Úje
 zd u Brna 0:3 (-15\,-9\,-17)
DTSTART;TZID=Europe/Berlin:20211205T100000
DTEND;TZID=Europe/Berlin:20211205T120000
LOCATION:Sportovní hala Letovice\, V zahradách 831 Letovice
SUMMARY:JM-JKY-B: TJ SOKOL LETOVICE\, z.s.-Tělovýchovná jednota Sokol Újezd
  u Brna
END:VEVENT
BEGIN:VEVENT
UID:66326438-3361-4135-b436-666565353463
DTSTAMP:20260423T133521Z
DESCRIPTION:18/54 TJ SOKOL LETOVICE\, z.s. - Tělovýchovná jednota Sokol Úje
 zd u Brna 0:3 (-14\,-12\,-17)
DTSTART;TZID=Europe/Berlin:20211205T130000
DTEND;TZID=Europe/Berlin:20211205T150000
LOCATION:Sportovní hala Letovice\, V zahradách 831 Letovice
SUMMARY:JM-JKY-B: TJ SOKOL LETOVICE\, z.s.-Tělovýchovná jednota Sokol Újezd
  u Brna
END:VEVENT
BEGIN:VEVENT
UID:37393161-3262-4630-b533-646531653265
DTSTAMP:20260423T133521Z
DESCRIPTION:3/7 Tělovýchovná jednota Sokol Újezd u Brna - KP Brno 3:0 (14\,
 16\,25)
DTSTART;TZID=Europe/Berlin:20220130T100000
DTEND;TZID=Europe/Berlin:20220130T120000
LOCATION:Hala ZŠ Újezd u Brna\, Školní 284 Újezd u Brna
SUMMARY:JM-JKY-I: Tělovýchovná jednota Sokol Újezd u Brna-KP Brno
END:VEVENT
BEGIN:VEVENT
UID:31303036-3661-4561-b533-356636306237
DTSTAMP:20260423T133521Z
DESCRIPTION:4/10 Tělovýchovná jednota Sokol Újezd u Brna - KP Brno 3:1 (19\
 ,22\,-18\,21)
DTSTART;TZID=Europe/Berlin:20220130T130000
DTEND;TZID=Europe/Berlin:20220130T150000
LOCATION:Hala ZŠ Újezd u Brna\, Školní 284 Újezd u Brna
SUMMARY:JM-JKY-I: Tělovýchovná jednota Sokol Újezd u Brna-KP Brno
END:VEVENT
BEGIN:VEVENT
UID:33316331-3334-4634-b436-376562636531
DTSTAMP:20260423T133521Z
DESCRIPTION:5/15 Tělovýchovná jednota Sokol Újezd u Brna - VS Drásov 0:3 (-
 21\,-17\,-23)
DTSTART;TZID=Europe/Berlin:20220313T130000
DTEND;TZID=Europe/Berlin:20220313T150000
LOCATION:Hala ZŠ Újezd u Brna\, Školní 284 Újezd u Brna
SUMMARY:JM-JKY-I: Tělovýchovná jednota Sokol Újezd u Brna-VS Drásov
END:VEVENT
BEGIN:VEVENT
UID:38616636-6563-4861-a631-383736373338
DTSTAMP:20260423T133521Z
DESCRIPTION:6/18 Tělovýchovná jednota Sokol Újezd u Brna - VS Drásov 3:2 (-
 24\,-24\,22\,18\,5)
DTSTART;TZID=Europe/Berlin:20220313T150000
DTEND;TZID=Europe/Berlin:20220313T170000
LOCATION:Hala ZŠ Újezd u Brna\, Školní 284 Újezd u Brna
SUMMARY:JM-JKY-I: Tělovýchovná jednota Sokol Újezd u Brna-VS Drásov
END:VEVENT
BEGIN:VEVENT
UID:34646634-3931-4436-b566-623062383838
DTSTAMP:20260423T133521Z
DESCRIPTION:7/20 Tělovýchovná jednota Sokol Újezd u Brna - DDM Kuřim 3:0 (1
 2\,24\,22)
DTSTART;TZID=Europe/Berlin:20220204T100000
DTEND;TZID=Europe/Berlin:20220204T120000
LOCATION:Hala ZŠ Újezd u Brna\, Školní 284 Újezd u Brna
SUMMARY:JM-JKY-I: Tělovýchovná jednota Sokol Újezd u Brna-DDM Kuřim
END:VEVENT
BEGIN:VEVENT
UID:35373064-3764-4963-a661-663262613366
DTSTAMP:20260423T133521Z
DESCRIPTION:8/23 Tělovýchovná jednota Sokol Újezd u Brna - DDM Kuřim 3:0 (1
 8\,18\,24)
DTSTART;TZID=Europe/Berlin:20220204T130000
DTEND;TZID=Europe/Berlin:20220204T150000
LOCATION:Hala ZŠ Újezd u Brna\, Školní 284 Újezd u Brna
SUMMARY:JM-JKY-I: Tělovýchovná jednota Sokol Újezd u Brna-DDM Kuřim
END:VEVENT
BEGIN:VEVENT
UID:62613961-3162-4136-a630-303134366530
DTSTAMP:20260423T133521Z
DESCRIPTION:1/2 DDM Kuřim - Tělovýchovná jednota Sokol Újezd u Brna 3:1 (-2
 2\,13\,23\,23)
DTSTART;TZID=Europe/Berlin:20220220T100000
DTEND;TZID=Europe/Berlin:20220220T120000
LOCATION:ZŠ Jungmannova Kuřim\, Jungmannova 813 Kuřim
SUMMARY:JM-JKY-I: DDM Kuřim-Tělovýchovná jednota Sokol Újezd u Brna
END:VEVENT
BEGIN:VEVENT
UID:61623137-3561-4634-a130-653632373038
DTSTAMP:20260423T133521Z
DESCRIPTION:2/5 DDM Kuřim - Tělovýchovná jednota Sokol Újezd u Brna 3:0 (18
 \,19\,26)
DTSTART;TZID=Europe/Berlin:20220220T130000
DTEND;TZID=Europe/Berlin:20220220T150000
LOCATION:ZŠ Jungmannova Kuřim\, Jungmannova 813 Kuřim
SUMMARY:JM-JKY-I: DDM Kuřim-Tělovýchovná jednota Sokol Újezd u Brna
END:VEVENT
BEGIN:VEVENT
UID:61636263-6139-4461-a435-313739343833
DTSTAMP:20260423T133521Z
DESCRIPTION:9/25 KP Brno - Tělovýchovná jednota Sokol Újezd u Brna 0:3 (-19
 \,-17\,-18)
DTSTART;TZID=Europe/Berlin:20220317T163000
DTEND;TZID=Europe/Berlin:20220317T183000
LOCATION:Sportovní gymnázium Ludvíka Daňka\, Botanická 63 Brno - Ponava
SUMMARY:JM-JKY-I: KP Brno-Tělovýchovná jednota Sokol Újezd u Brna
END:VEVENT
BEGIN:VEVENT
UID:30623530-3035-4633-a666-343436303534
DTSTAMP:20260423T133521Z
DESCRIPTION:10/28 KP Brno - Tělovýchovná jednota Sokol Újezd u Brna 3:0 (16
 \,17\,21)
DTSTART;TZID=Europe/Berlin:20220317T180000
DTEND;TZID=Europe/Berlin:20220317T200000
LOCATION:Sportovní gymnázium Ludvíka Daňka\, Botanická 63 Brno - Ponava
SUMMARY:JM-JKY-I: KP Brno-Tělovýchovná jednota Sokol Újezd u Brna
END:VEVENT
BEGIN:VEVENT
UID:35373161-3863-4636-b233-643335613066
DTSTAMP:20260423T133521Z
DESCRIPTION:11/33 VS Drásov - Tělovýchovná jednota Sokol Újezd u Brna 3:0 (
 17\,18\,21)
DTSTART;TZID=Europe/Berlin:20220320T100000
DTEND;TZID=Europe/Berlin:20220320T120000
LOCATION:Hala u ZŠ TGM Drásov\, Školní 167 Drásov
SUMMARY:JM-JKY-I: VS Drásov-Tělovýchovná jednota Sokol Újezd u Brna
END:VEVENT
BEGIN:VEVENT
UID:33353436-3064-4238-a233-633163336435
DTSTAMP:20260423T133521Z
DESCRIPTION:12/36 VS Drásov - Tělovýchovná jednota Sokol Újezd u Brna 0:3 (
 -20\,-15\,-15)
DTSTART;TZID=Europe/Berlin:20220320T130000
DTEND;TZID=Europe/Berlin:20220320T150000
LOCATION:Hala u ZŠ TGM Drásov\, Školní 167 Drásov
SUMMARY:JM-JKY-I: VS Drásov-Tělovýchovná jednota Sokol Újezd u Brna
END:VEVENT
END:VCALENDAR
