BEGIN:VCALENDAR
VERSION:2.0
PRODID:-//START B6, z.s.76581//NONSGML kigkonsult.se iCalcreator 2.41.80//
CALSCALE:GREGORIAN
UID:35393035-3131-4666-b764-356336393234
BEGIN:VEVENT
UID:36633939-3165-4166-a637-353431376364
DTSTAMP:20260422T230034Z
DESCRIPTION:2/2 START B6\, z.s. - TJ Sokol Šlapanice 2:0 (9\,14)
DTSTART;TZID=Europe/Berlin:20210904T103000
DTEND;TZID=Europe/Berlin:20210904T123000
LOCATION:ZŠ Novoměstská\, Novoměstská 1887 Brno - Řečkovice
SUMMARY:JM-KKY-KVA: START B6\, z.s.-TJ Sokol Šlapanice
END:VEVENT
BEGIN:VEVENT
UID:36383335-6237-4332-b330-636138383866
DTSTAMP:20260422T230034Z
DESCRIPTION:1/1 TJ SOKOL LETOVICE\, z.s. - START B6\, z.s. 0:2 (-8\,-18)
DTSTART;TZID=Europe/Berlin:20210904T090000
DTEND;TZID=Europe/Berlin:20210904T110000
LOCATION:Sportovní hala Letovice\, V zahradách 831 Letovice
SUMMARY:JM-KKY-KVA: TJ SOKOL LETOVICE\, z.s.-START B6\, z.s.
END:VEVENT
BEGIN:VEVENT
UID:65616664-6464-4764-b734-623564326432
DTSTAMP:20260422T230034Z
DESCRIPTION:3/3 START B6\, z.s. - TJ JUNIOR Brno 2:1 (-19\,24\,11)\n1A vs 1
 B\, Kurt 1
DTSTART;TZID=Europe/Berlin:20210904T141500
DTEND;TZID=Europe/Berlin:20210904T161500
LOCATION:ZŠ Novoměstská\, Novoměstská 1887 Brno - Řečkovice
SUMMARY:JM-KKY-KVAB: START B6\, z.s.-TJ JUNIOR Brno
END:VEVENT
BEGIN:VEVENT
UID:31626564-3539-4661-b163-323564343537
DTSTAMP:20260422T230034Z
DESCRIPTION:1/1 START B6\, z.s. - KP Brno D 0:2 (-16\,-13)
DTSTART;TZID=Europe/Berlin:20211016T090000
DTEND;TZID=Europe/Berlin:20211016T110000
LOCATION:ZŠ Novoměstská\, Novoměstská 1887 Brno - Řečkovice
SUMMARY:JM-KKY-IA: START B6\, z.s.-KP Brno D
END:VEVENT
BEGIN:VEVENT
UID:36653238-3236-4564-b163-623861663632
DTSTAMP:20260422T230034Z
DESCRIPTION:4/4 START B6\, z.s. - TJ Spartak Velká Bíteš\, z.s. 2:X
DTSTART;TZID=Europe/Berlin:20211016T130000
DTEND;TZID=Europe/Berlin:20211016T150000
LOCATION:ZŠ Novoměstská\, Novoměstská 1887 Brno - Řečkovice
SUMMARY:JM-KKY-IA: START B6\, z.s.-TJ Spartak Velká Bíteš\, z.s.
END:VEVENT
BEGIN:VEVENT
UID:32393830-3364-4131-a237-303164656139
DTSTAMP:20260422T230034Z
DESCRIPTION:6/6 Tělovýchovná jednota Sokol Újezd u Brna - START B6\, z.s. 1
 :2 (-22\,20\,-10)
DTSTART;TZID=Europe/Berlin:20211016T114500
DTEND;TZID=Europe/Berlin:20211016T134500
LOCATION:Hala ZŠ Újezd u Brna\, Školní 284 Újezd u Brna
SUMMARY:JM-KKY-IA: Tělovýchovná jednota Sokol Újezd u Brna-START B6\, z.s.
END:VEVENT
BEGIN:VEVENT
UID:61646138-3736-4136-a261-333836653739
DTSTAMP:20260422T230034Z
DESCRIPTION:6/6 START B6\, z.s. - Tělovýchovná jednota Sokol Újezd u Brna 2
 :0 (14\,16)
DTSTART;TZID=Europe/Berlin:20211106T153000
DTEND;TZID=Europe/Berlin:20211106T173000
LOCATION:ZŠ Novoměstská\, Novoměstská 1887 Brno - Řečkovice
SUMMARY:JM-KKY-IIA: START B6\, z.s.-Tělovýchovná jednota Sokol Újezd u Brna
END:VEVENT
BEGIN:VEVENT
UID:39373263-6266-4838-a438-376366313162
DTSTAMP:20260422T230034Z
DESCRIPTION:2/2 KP Brno D - START B6\, z.s. 2:0 (23\,12)
DTSTART;TZID=Europe/Berlin:20211106T103000
DTEND;TZID=Europe/Berlin:20211106T123000
LOCATION:Sportovní gymnázium Ludvíka Daňka\, Botanická 63 Brno - Ponava
SUMMARY:JM-KKY-IIA: KP Brno D-START B6\, z.s.
END:VEVENT
BEGIN:VEVENT
UID:62346235-6435-4833-b535-616562653665
DTSTAMP:20260422T230034Z
DESCRIPTION:3/3 TJ Sokol Jehnice - START B6\, z.s. 0:2 (-15\,-9)
DTSTART;TZID=Europe/Berlin:20211106T114500
DTEND;TZID=Europe/Berlin:20211106T134500
LOCATION:TJ Sokol Jehnice\, Blanenská 1 Brno - Jehnice
SUMMARY:JM-KKY-IIA: TJ Sokol Jehnice-START B6\, z.s.
END:VEVENT
BEGIN:VEVENT
UID:36353336-3566-4231-a433-636261623864
DTSTAMP:20260422T230034Z
DESCRIPTION:2/3 START B6\, z.s. - KP Brno D 0:2 (-16\,-17)
DTSTART;TZID=Europe/Berlin:20211211T103000
DTEND;TZID=Europe/Berlin:20211211T123000
LOCATION:ZŠ Novoměstská\, Novoměstská 1887 Brno - Řečkovice
SUMMARY:JM-KKY-IIIA: START B6\, z.s.-KP Brno D
END:VEVENT
BEGIN:VEVENT
UID:64656465-3436-4565-b433-313339656566
DTSTAMP:20260422T230034Z
DESCRIPTION:1/1 KP Brno D - START B6\, z.s. 0:2 (-20\,-8)
DTSTART;TZID=Europe/Berlin:20211211T090000
DTEND;TZID=Europe/Berlin:20211211T110000
LOCATION:Sportovní gymnázium Ludvíka Daňka\, Botanická 63 Brno - Ponava
SUMMARY:JM-KKY-IIIA: KP Brno D-START B6\, z.s.
END:VEVENT
BEGIN:VEVENT
UID:32653136-6235-4535-a638-653631373563
DTSTAMP:20260422T230034Z
DESCRIPTION:3/5 Tělovýchovná jednota Sokol Újezd u Brna - START B6\, z.s. 2
 :1 (24\,-20\,6)
DTSTART;TZID=Europe/Berlin:20211211T114500
DTEND;TZID=Europe/Berlin:20211211T134500
LOCATION:Hala ZŠ Újezd u Brna\, Školní 284 Újezd u Brna
SUMMARY:JM-KKY-IIIA: Tělovýchovná jednota Sokol Újezd u Brna-START B6\, z.s
 .
END:VEVENT
BEGIN:VEVENT
UID:39613665-3732-4964-b562-393566373534
DTSTAMP:20260422T230034Z
DESCRIPTION:3/6 START B6\, z.s. - TJ JUNIOR Brno 1:2 (21\,-23\,-12)
DTSTART;TZID=Europe/Berlin:20220108T114500
DTEND;TZID=Europe/Berlin:20220108T134500
LOCATION:ZŠ Novoměstská\, Novoměstská 1887 Brno - Řečkovice
SUMMARY:JM-KKY-IVA: START B6\, z.s.-TJ JUNIOR Brno
END:VEVENT
BEGIN:VEVENT
UID:64393132-6164-4263-b939-336361313130
DTSTAMP:20260422T230034Z
DESCRIPTION:1/2 Tělovýchovná jednota Sokol Újezd u Brna - START B6\, z.s. 2
 :1 (-17\,20\,13)
DTSTART;TZID=Europe/Berlin:20220108T090000
DTEND;TZID=Europe/Berlin:20220108T110000
LOCATION:Hala ZŠ Újezd u Brna\, Školní 284 Újezd u Brna
SUMMARY:JM-KKY-IVA: Tělovýchovná jednota Sokol Újezd u Brna-START B6\, z.s.
END:VEVENT
BEGIN:VEVENT
UID:64663261-3665-4161-a133-373737346434
DTSTAMP:20260422T230034Z
DESCRIPTION:2/3 KP Brno D - START B6\, z.s. 1:2 (19\,-18\,-13)
DTSTART;TZID=Europe/Berlin:20220108T103000
DTEND;TZID=Europe/Berlin:20220108T123000
LOCATION:Sportovní gymnázium Ludvíka Daňka\, Botanická 63 Brno - Ponava
SUMMARY:JM-KKY-IVA: KP Brno D-START B6\, z.s.
END:VEVENT
BEGIN:VEVENT
UID:61633331-3136-4866-b035-626663363339
DTSTAMP:20260422T230034Z
DESCRIPTION:6/6 START B6\, z.s. - TJ Sokol Jehnice 1:2 (13\,-18\,-11)
DTSTART;TZID=Europe/Berlin:20220129T153000
DTEND;TZID=Europe/Berlin:20220129T173000
LOCATION:ZŠ Novoměstská\, Novoměstská 1887 Brno - Řečkovice
SUMMARY:JM-KKY-VA: START B6\, z.s.-TJ Sokol Jehnice
END:VEVENT
BEGIN:VEVENT
UID:66343639-3664-4635-b538-386437326363
DTSTAMP:20260422T230034Z
DESCRIPTION:2/2 Tělovýchovná jednota Sokol Újezd u Brna - START B6\, z.s. 2
 :1 (15\,-19\,9)
DTSTART;TZID=Europe/Berlin:20220129T103000
DTEND;TZID=Europe/Berlin:20220129T123000
LOCATION:Hala ZŠ Újezd u Brna\, Školní 284 Újezd u Brna
SUMMARY:JM-KKY-VA: Tělovýchovná jednota Sokol Újezd u Brna-START B6\, z.s.
END:VEVENT
BEGIN:VEVENT
UID:38346461-6461-4333-a638-326134313664
DTSTAMP:20260422T230034Z
DESCRIPTION:3/3 KP Brno D - START B6\, z.s. 2:0 (15\,11)
DTSTART;TZID=Europe/Berlin:20220129T114500
DTEND;TZID=Europe/Berlin:20220129T134500
LOCATION:Sportovní gymnázium Ludvíka Daňka\, Botanická 63 Brno - Ponava
SUMMARY:JM-KKY-VA: KP Brno D-START B6\, z.s.
END:VEVENT
BEGIN:VEVENT
UID:37333332-3131-4566-b532-393232626466
DTSTAMP:20260422T230034Z
DESCRIPTION:2/3 START B6\, z.s. - KP Brno D 2:1 (-23\,16\,16)\n3. vs 6. Kur
 t 1
DTSTART;TZID=Europe/Berlin:20220326T100000
DTEND;TZID=Europe/Berlin:20220326T120000
LOCATION:ZŠ Novoměstská\, Novoměstská 1887 Brno - Řečkovice
SUMMARY:JM-KKY-F: START B6\, z.s.-KP Brno D
END:VEVENT
BEGIN:VEVENT
UID:37333362-3264-4536-a162-323335363532
DTSTAMP:20260422T230034Z
DESCRIPTION:4/8 Tělovýchovná jednota Sokol Újezd u Brna - START B6\, z.s. 1
 :2 (10\,-21\,-12)\nW2 vs W3 Kurt 2
DTSTART;TZID=Europe/Berlin:20220326T123000
DTEND;TZID=Europe/Berlin:20220326T143000
LOCATION:Hala ZŠ Újezd u Brna\, Školní 284 Újezd u Brna
SUMMARY:JM-KKY-F: Tělovýchovná jednota Sokol Újezd u Brna-START B6\, z.s.
END:VEVENT
BEGIN:VEVENT
UID:65336665-6263-4530-b637-336463653065
DTSTAMP:20260422T230034Z
DESCRIPTION:6/12 KP Brno D - START B6\, z.s. 2:0 (15\,14)\nW7 vs W8 Kurt 1
DTSTART;TZID=Europe/Berlin:20220326T150000
DTEND;TZID=Europe/Berlin:20220326T170000
LOCATION:Sportovní gymnázium Ludvíka Daňka\, Botanická 63 Brno - Ponava
SUMMARY:JM-KKY-F: KP Brno D-START B6\, z.s.
END:VEVENT
BEGIN:VEVENT
UID:64323031-6361-4565-a432-373966343039
DTSTAMP:20260422T230034Z
DESCRIPTION:6/6 START B6\, z.s. - DDM Kuřim 2:0 (6\,14)
DTSTART;TZID=Europe/Berlin:20220219T153000
DTEND;TZID=Europe/Berlin:20220219T173000
LOCATION:ZŠ Novoměstská\, Novoměstská 1887 Brno - Řečkovice
SUMMARY:JM-KKY-VIB: START B6\, z.s.-DDM Kuřim
END:VEVENT
BEGIN:VEVENT
UID:34323866-3637-4939-b862-613865336536
DTSTAMP:20260422T230034Z
DESCRIPTION:2/2 VOLLEYBALL CLUB VESELÍ z.s. - START B6\, z.s. 0:2 (-17\,-4)
DTSTART;TZID=Europe/Berlin:20220219T103000
DTEND;TZID=Europe/Berlin:20220219T123000
LOCATION:Městská sportovní hala\, Kollárova 1660 Veselí nad Moravou
SUMMARY:JM-KKY-VIB: VOLLEYBALL CLUB VESELÍ z.s.-START B6\, z.s.
END:VEVENT
BEGIN:VEVENT
UID:35613534-3734-4532-b934-363035393535
DTSTAMP:20260422T230034Z
DESCRIPTION:3/3 KP Brno D - START B6\, z.s. 0:2 (-10\,-18)
DTSTART;TZID=Europe/Berlin:20220219T114500
DTEND;TZID=Europe/Berlin:20220219T134500
LOCATION:Sportovní gymnázium Ludvíka Daňka\, Botanická 63 Brno - Ponava
SUMMARY:JM-KKY-VIB: KP Brno D-START B6\, z.s.
END:VEVENT
END:VCALENDAR
