BEGIN:VCALENDAR
VERSION:2.0
PRODID:-//VK PFN Znojmo76583//NONSGML kigkonsult.se iCalcreator 2.41.80//
CALSCALE:GREGORIAN
UID:37353337-3362-4139-a262-623031373564
BEGIN:VEVENT
UID:33643963-3032-4031-b133-623738366135
DTSTAMP:20260421T125054Z
DESCRIPTION:3/3 PFN Znojmo - VOLEJBAL VYŠKOV\, z.s. C 2:0 (18\,17)
DTSTART;TZID=Europe/Berlin:20210911T114500
DTEND;TZID=Europe/Berlin:20210911T134500
LOCATION:Tělocvična ZŠ Prokopa Diviše a MŠ\, Ke Škole 569 Znojmo - Přímětic
 e
SUMMARY:JM-ZKY-KVE: PFN Znojmo-VOLEJBAL VYŠKOV\, z.s. C
END:VEVENT
BEGIN:VEVENT
UID:30343734-3439-4161-a436-303536333865
DTSTAMP:20260421T125054Z
DESCRIPTION:2/2 VOLEJBAL VYŠKOV - PFN Znojmo 2:0 (16\,16)
DTSTART;TZID=Europe/Berlin:20210911T103000
DTEND;TZID=Europe/Berlin:20210911T123000
LOCATION:Tělocvična ZŠ Nádražní\, Nádražní 5 Vyškov - Vyškov-Město
SUMMARY:JM-ZKY-KVE: VOLEJBAL VYŠKOV-PFN Znojmo
END:VEVENT
BEGIN:VEVENT
UID:66636437-6334-4330-a336-366233356233
DTSTAMP:20260421T125054Z
DESCRIPTION:2/2 PFN Znojmo - VS Drásov 0:2 (-9\,-20)\n2E vs 2F\, Kurt 2
DTSTART;TZID=Europe/Berlin:20210911T130000
DTEND;TZID=Europe/Berlin:20210911T150000
LOCATION:Tělocvična ZŠ Prokopa Diviše a MŠ\, Ke Škole 569 Znojmo - Přímětic
 e
SUMMARY:JM-ZKY-KVEF: PFN Znojmo-VS Drásov
END:VEVENT
BEGIN:VEVENT
UID:30643632-6638-4132-a532-646134303236
DTSTAMP:20260421T125054Z
DESCRIPTION:2/5 PFN Znojmo - Hronov 0:2 (-8\,-9)
DTSTART;TZID=Europe/Berlin:20210918T124500
DTEND;TZID=Europe/Berlin:20210918T144500
LOCATION:Tělocvična ZŠ Prokopa Diviše a MŠ\, Ke Škole 569 Znojmo - Přímětic
 e
SUMMARY:CP-ZKY-F: PFN Znojmo-Hronov
END:VEVENT
BEGIN:VEVENT
UID:32633632-6532-4638-b733-326338323332
DTSTAMP:20260421T125054Z
DESCRIPTION:4/13 PFN Znojmo - Lanškroun 0:2 (-13\,-15)
DTSTART;TZID=Europe/Berlin:20210918T174500
DTEND;TZID=Europe/Berlin:20210918T194500
LOCATION:Tělocvična ZŠ Prokopa Diviše a MŠ\, Ke Škole 569 Znojmo - Přímětic
 e
SUMMARY:CP-ZKY-F: PFN Znojmo-Lanškroun
END:VEVENT
BEGIN:VEVENT
UID:30633062-6630-4132-b739-643363373765
DTSTAMP:20260421T125054Z
DESCRIPTION:1/3 TJ Turnov 'B' - PFN Znojmo 2:0 (13\,12)
DTSTART;TZID=Europe/Berlin:20210918T101500
DTEND;TZID=Europe/Berlin:20210918T121500
LOCATION:TJ Turnov\, Skálova 207 Turnov
SUMMARY:CP-ZKY-F: TJ Turnov 'B'-PFN Znojmo
END:VEVENT
BEGIN:VEVENT
UID:31373335-3132-4130-b030-653930636433
DTSTAMP:20260421T125054Z
DESCRIPTION:3/9 VK Litomyšl - PFN Znojmo 0:2 (-15\,-24)
DTSTART;TZID=Europe/Berlin:20210918T151500
DTEND;TZID=Europe/Berlin:20210918T171500
LOCATION:Městská sportovní hala\, T. G. Masaryka 1145 Litomyšl - Litomyšl-M
 ěsto
SUMMARY:CP-ZKY-F: VK Litomyšl-PFN Znojmo
END:VEVENT
BEGIN:VEVENT
UID:33303962-3435-4239-a436-613930333863
DTSTAMP:20260421T125054Z
DESCRIPTION:5/19 Chlumec - PFN Znojmo 2:1 (-16\,16\,13)
DTSTART;TZID=Europe/Berlin:20210919T090000
DTEND;TZID=Europe/Berlin:20210919T110000
LOCATION:Slavíčkova hala\, Sokolská 795 Chlumec nad Cidlinou - Chlumec nad 
 Cidlinou IV
SUMMARY:CP-ZKY-F: Chlumec-PFN Znojmo
END:VEVENT
BEGIN:VEVENT
UID:34373230-3939-4239-b666-343063643931
DTSTAMP:20260421T125054Z
DESCRIPTION:6/23 Kolín - PFN Znojmo 2:0 (16\,15)
DTSTART;TZID=Europe/Berlin:20210919T110000
DTEND;TZID=Europe/Berlin:20210919T130000
LOCATION:hala STAV\, SOŠ Kolín\, Brankovická 1417 Kolín - Kolín V
SUMMARY:CP-ZKY-F: Kolín-PFN Znojmo
END:VEVENT
BEGIN:VEVENT
UID:63636635-3136-4433-b131-343931356436
DTSTAMP:20260421T125054Z
DESCRIPTION:7/28 Svitavy - PFN Znojmo 2:0 (15\,18)
DTSTART;TZID=Europe/Berlin:20210919T130000
DTEND;TZID=Europe/Berlin:20210919T150000
LOCATION:Tělocvična ZŠ\, Felberova 669 Svitavy - Lány
SUMMARY:CP-ZKY-F: Svitavy-PFN Znojmo
END:VEVENT
BEGIN:VEVENT
UID:61653335-6563-4663-a666-346132663561
DTSTAMP:20260421T125054Z
DESCRIPTION:2/3 PFN Znojmo - VK Brno\, z.s. 2:0 (13\,13)
DTSTART;TZID=Europe/Berlin:20210925T103000
DTEND;TZID=Europe/Berlin:20210925T123000
LOCATION:Tělocvična ZŠ Prokopa Diviše a MŠ\, Ke Škole 569 Znojmo - Přímětic
 e
SUMMARY:JM-ZKY-ID: PFN Znojmo-VK Brno\, z.s.
END:VEVENT
BEGIN:VEVENT
UID:64323030-3466-4433-a234-653537656561
DTSTAMP:20260421T125054Z
DESCRIPTION:1/1 TJ Agrotec Hustopeče z.s. - PFN Znojmo 1:2 (23\,-8\,-10)
DTSTART;TZID=Europe/Berlin:20210925T090000
DTEND;TZID=Europe/Berlin:20210925T110000
LOCATION:Městská sportovní hala\, Šafaříkova 1016 Hustopeče
SUMMARY:JM-ZKY-ID: TJ Agrotec Hustopeče z.s.-PFN Znojmo
END:VEVENT
BEGIN:VEVENT
UID:62656362-3265-4237-a333-313938303166
DTSTAMP:20260421T125054Z
DESCRIPTION:3/5 TJ JUNIOR Brno A - PFN Znojmo 0:2 (-13\,-17)
DTSTART;TZID=Europe/Berlin:20210925T114500
DTEND;TZID=Europe/Berlin:20210925T134500
LOCATION:tělocvičny ZŠ Novolíšeňská\, Brno\, Novolíšeňská 2411 Brno - Líšeň
SUMMARY:JM-ZKY-ID: TJ JUNIOR Brno A-PFN Znojmo
END:VEVENT
BEGIN:VEVENT
UID:36623431-3461-4436-a130-346661613338
DTSTAMP:20260421T125054Z
DESCRIPTION:1/1 PFN Znojmo - ŠSK Bílovec 0:2 (-14\,-14)
DTSTART;TZID=Europe/Berlin:20211016T090000
DTEND;TZID=Europe/Berlin:20211016T110000
LOCATION:Tělocvična ZŠ Prokopa Diviše a MŠ\, Ke Škole 569 Znojmo - Přímětic
 e
SUMMARY:CP-ZKY-V1C: PFN Znojmo-ŠSK Bílovec
END:VEVENT
BEGIN:VEVENT
UID:38333431-3064-4830-b461-393262663931
DTSTAMP:20260421T125054Z
DESCRIPTION:9/20 PFN Znojmo - Pardubice 2:1 (24\,-14\,6)
DTSTART;TZID=Europe/Berlin:20211017T083000
DTEND;TZID=Europe/Berlin:20211017T103000
LOCATION:Tělocvična ZŠ Prokopa Diviše a MŠ\, Ke Škole 569 Znojmo - Přímětic
 e
SUMMARY:CP-ZKY-V1C: PFN Znojmo-Pardubice
END:VEVENT
BEGIN:VEVENT
UID:65343832-3533-4434-b736-353632646338
DTSTAMP:20260421T125054Z
DESCRIPTION:11/24 PFN Znojmo - Přerov 0:2 (-20\,-15)
DTSTART;TZID=Europe/Berlin:20211017T113000
DTEND;TZID=Europe/Berlin:20211017T133000
LOCATION:Tělocvična ZŠ Prokopa Diviše a MŠ\, Ke Škole 569 Znojmo - Přímětic
 e
SUMMARY:CP-ZKY-V1C: PFN Znojmo-Přerov
END:VEVENT
BEGIN:VEVENT
UID:64623364-3835-4831-b130-626265323434
DTSTAMP:20260421T125054Z
DESCRIPTION:12/27 PFN Znojmo - Slavia UH 2:0 (23\,9)
DTSTART;TZID=Europe/Berlin:20211017T123000
DTEND;TZID=Europe/Berlin:20211017T143000
LOCATION:Tělocvična ZŠ Prokopa Diviše a MŠ\, Ke Škole 569 Znojmo - Přímětic
 e
SUMMARY:CP-ZKY-V1C: PFN Znojmo-Slavia UH
END:VEVENT
BEGIN:VEVENT
UID:37613962-3265-4736-b965-623237363361
DTSTAMP:20260421T125054Z
DESCRIPTION:3/5 Nový Jičín - PFN Znojmo 1:2 (20\,-21\,-12)
DTSTART;TZID=Europe/Berlin:20211016T113000
DTEND;TZID=Europe/Berlin:20211016T133000
LOCATION:Hala ABC\, Purkyňova 116 Nový Jičín
SUMMARY:CP-ZKY-V1C: Nový Jičín-PFN Znojmo
END:VEVENT
BEGIN:VEVENT
UID:65643338-3633-4139-b532-636135373464
DTSTAMP:20260421T125054Z
DESCRIPTION:5/9 Kolín - PFN Znojmo 0:2 (-24\,-17)
DTSTART;TZID=Europe/Berlin:20211016T140000
DTEND;TZID=Europe/Berlin:20211016T160000
LOCATION:hala STAV\, SOŠ Kolín\, Brankovická 1417 Kolín - Kolín V
SUMMARY:CP-ZKY-V1C: Kolín-PFN Znojmo
END:VEVENT
BEGIN:VEVENT
UID:31353761-3630-4330-a231-613233393238
DTSTAMP:20260421T125054Z
DESCRIPTION:8/16 Jiskra H.Brod - PFN Znojmo 2:1 (23\,-20\,10)
DTSTART;TZID=Europe/Berlin:20211016T173000
DTEND;TZID=Europe/Berlin:20211016T193000
LOCATION:Tělocvična OA a hotelové školy\, Bratříků 851 Havlíčkův Brod
SUMMARY:CP-ZKY-V1C: Jiskra H.Brod-PFN Znojmo
END:VEVENT
BEGIN:VEVENT
UID:31373631-3433-4836-a632-366534353335
DTSTAMP:20260421T125054Z
DESCRIPTION:1/1 PFN Znojmo - Orel Křenovice 2:1 (-21\,20\,14)
DTSTART;TZID=Europe/Berlin:20211023T090000
DTEND;TZID=Europe/Berlin:20211023T110000
LOCATION:Tělocvična ZŠ Prokopa Diviše a MŠ\, Ke Škole 569 Znojmo - Přímětic
 e
SUMMARY:JM-ZKY-IIC: PFN Znojmo-Orel Křenovice
END:VEVENT
BEGIN:VEVENT
UID:65656633-6565-4132-a533-356437663439
DTSTAMP:20260421T125054Z
DESCRIPTION:4/4 PFN Znojmo - Tělocvičná jednota Sokol Předklášteří 2:X
DTSTART;TZID=Europe/Berlin:20211023T130000
DTEND;TZID=Europe/Berlin:20211023T150000
LOCATION:Tělocvična ZŠ Prokopa Diviše a MŠ\, Ke Škole 569 Znojmo - Přímětic
 e
SUMMARY:JM-ZKY-IIC: PFN Znojmo-Tělocvičná jednota Sokol Předklášteří
END:VEVENT
BEGIN:VEVENT
UID:66646139-6664-4039-a661-353439343265
DTSTAMP:20260421T125054Z
DESCRIPTION:6/6 VS Drásov - PFN Znojmo 0:2 (-11\,-9)
DTSTART;TZID=Europe/Berlin:20211023T153000
DTEND;TZID=Europe/Berlin:20211023T173000
LOCATION:Hala u ZŠ TGM Drásov\, Školní 167 Drásov
SUMMARY:JM-ZKY-IIC: VS Drásov-PFN Znojmo
END:VEVENT
BEGIN:VEVENT
UID:38316331-6638-4234-b030-646139356563
DTSTAMP:20260421T125054Z
DESCRIPTION:2/3 PFN Znojmo - Jiskra H.Brod X:3
DTSTART;TZID=Europe/Berlin:20211120T101500
DTEND;TZID=Europe/Berlin:20211120T121500
LOCATION:Tělocvična ZŠ Prokopa Diviše a MŠ\, Ke Škole 569 Znojmo - Přímětic
 e
SUMMARY:CP-ZKY-V2C: PFN Znojmo-Jiskra H.Brod
END:VEVENT
BEGIN:VEVENT
UID:36653135-6437-4935-b334-346536613731
DTSTAMP:20260421T125054Z
DESCRIPTION:5/9 PFN Znojmo - RÉMA X:3
DTSTART;TZID=Europe/Berlin:20211120T150000
DTEND;TZID=Europe/Berlin:20211120T170000
LOCATION:Tělocvična ZŠ Prokopa Diviše a MŠ\, Ke Škole 569 Znojmo - Přímětic
 e
SUMMARY:CP-ZKY-V2C: PFN Znojmo-RÉMA
END:VEVENT
BEGIN:VEVENT
UID:31326564-6165-4465-b365-633330306332
DTSTAMP:20260421T125054Z
DESCRIPTION:8/15 PFN Znojmo - ŠSK Bílovec X:3
DTSTART;TZID=Europe/Berlin:20211120T161500
DTEND;TZID=Europe/Berlin:20211120T181500
LOCATION:Tělocvična ZŠ Prokopa Diviše a MŠ\, Ke Škole 569 Znojmo - Přímětic
 e
SUMMARY:CP-ZKY-V2C: PFN Znojmo-ŠSK Bílovec
END:VEVENT
BEGIN:VEVENT
UID:35373130-3166-4731-b637-633030383962
DTSTAMP:20260421T125054Z
DESCRIPTION:10/21 PFN Znojmo - Břeclav X:X
DTSTART;TZID=Europe/Berlin:20211121T090000
DTEND;TZID=Europe/Berlin:20211121T110000
LOCATION:Tělocvična ZŠ Prokopa Diviše a MŠ\, Ke Škole 569 Znojmo - Přímětic
 e
SUMMARY:CP-ZKY-V2C: PFN Znojmo-Břeclav
END:VEVENT
BEGIN:VEVENT
UID:61656336-3765-4237-b439-646265356130
DTSTAMP:20260421T125054Z
DESCRIPTION:3/5 DUKLA Liberec - PFN Znojmo 3:X
DTSTART;TZID=Europe/Berlin:20211120T113000
DTEND;TZID=Europe/Berlin:20211120T133000
LOCATION:Dukla Liberec\, Jeronýmova 558 Liberec - Liberec VII-Horní Růžodol
SUMMARY:CP-ZKY-V2C: DUKLA Liberec-PFN Znojmo
END:VEVENT
BEGIN:VEVENT
UID:61306135-3261-4931-b338-336230653966
DTSTAMP:20260421T125054Z
DESCRIPTION:12/24 Kladno - PFN Znojmo X:X
DTSTART;TZID=Europe/Berlin:20211121T123000
DTEND;TZID=Europe/Berlin:20211121T143000
LOCATION:Kladenská sportovní hala\, Sportovců 817 Kladno - Rozdělov
SUMMARY:CP-ZKY-V2C: Kladno-PFN Znojmo
END:VEVENT
BEGIN:VEVENT
UID:39613036-6433-4738-a634-636131656338
DTSTAMP:20260421T125054Z
DESCRIPTION:13/28 Pardubice - PFN Znojmo 3:X
DTSTART;TZID=Europe/Berlin:20211121T133000
DTEND;TZID=Europe/Berlin:20211121T153000
LOCATION:Sokolovna\, Jiráskova 29 Pardubice - Zelené Předměstí
SUMMARY:CP-ZKY-V2C: Pardubice-PFN Znojmo
END:VEVENT
BEGIN:VEVENT
UID:34396666-6431-4766-a131-653437613862
DTSTAMP:20260421T125054Z
DESCRIPTION:1/1 PFN Znojmo - KP Brno MA 0:2 (-5\,-10)
DTSTART;TZID=Europe/Berlin:20211113T090000
DTEND;TZID=Europe/Berlin:20211113T110000
LOCATION:Tělocvična ZŠ Prokopa Diviše a MŠ\, Ke Škole 569 Znojmo - Přímětic
 e
SUMMARY:JM-ZKY-IIIB: PFN Znojmo-KP Brno MA
END:VEVENT
BEGIN:VEVENT
UID:37356663-3063-4533-a239-376661653530
DTSTAMP:20260421T125054Z
DESCRIPTION:4/4 PFN Znojmo - TJ Sokol Jehnice 2:0 (22\,12)
DTSTART;TZID=Europe/Berlin:20211113T130000
DTEND;TZID=Europe/Berlin:20211113T150000
LOCATION:Tělocvična ZŠ Prokopa Diviše a MŠ\, Ke Škole 569 Znojmo - Přímětic
 e
SUMMARY:JM-ZKY-IIIB: PFN Znojmo-TJ Sokol Jehnice
END:VEVENT
BEGIN:VEVENT
UID:30656636-3166-4333-b133-326639383535
DTSTAMP:20260421T125054Z
DESCRIPTION:6/6 VOLEJBAL VYŠKOV - PFN Znojmo 2:0 (23\,19)
DTSTART;TZID=Europe/Berlin:20211113T153000
DTEND;TZID=Europe/Berlin:20211113T173000
LOCATION:Tělocvična ZŠ Nádražní\, Nádražní 5 Vyškov - Vyškov-Město
SUMMARY:JM-ZKY-IIIB: VOLEJBAL VYŠKOV-PFN Znojmo
END:VEVENT
BEGIN:VEVENT
UID:36356431-3366-4463-b636-353437376664
DTSTAMP:20260421T125054Z
DESCRIPTION:3/3 PFN Znojmo - VOLEJBAL VYŠKOV 2:0 (0\,0)
DTSTART;TZID=Europe/Berlin:20211204T114500
DTEND;TZID=Europe/Berlin:20211204T134500
LOCATION:Tělocvična ZŠ Prokopa Diviše a MŠ\, Ke Škole 569 Znojmo - Přímětic
 e
SUMMARY:JM-ZKY-IVB: PFN Znojmo-VOLEJBAL VYŠKOV
END:VEVENT
BEGIN:VEVENT
UID:33376634-6636-4566-a539-343630363235
DTSTAMP:20260421T125054Z
DESCRIPTION:1/1 Znojmo - PFN Znojmo 2:0 (7\,12)
DTSTART;TZID=Europe/Berlin:20211204T090000
DTEND;TZID=Europe/Berlin:20211204T110000
LOCATION:Tělocvična ZŠ Prokopa Diviše a MŠ\, Ke Škole 569 Znojmo - Přímětic
 e
SUMMARY:JM-ZKY-IVB: Znojmo-PFN Znojmo
END:VEVENT
BEGIN:VEVENT
UID:36353235-3835-4432-a339-313032663036
DTSTAMP:20260421T125054Z
DESCRIPTION:5/5 TJ Slovan Ivančice\, z.s. - PFN Znojmo 2:0 (16\,16)
DTSTART;TZID=Europe/Berlin:20211204T141500
DTEND;TZID=Europe/Berlin:20211204T161500
LOCATION:sokolovna Ivančice\, Rybářská 1052 Ivančice
SUMMARY:JM-ZKY-IVB: TJ Slovan Ivančice\, z.s.-PFN Znojmo
END:VEVENT
BEGIN:VEVENT
UID:30646464-3833-4964-b366-386565336565
DTSTAMP:20260421T125054Z
DESCRIPTION:3/6 PFN Znojmo - Jiskra H.Brod 1:2 (12\,-18\,-12)
DTSTART;TZID=Europe/Berlin:20220219T112000
DTEND;TZID=Europe/Berlin:20220219T132000
LOCATION:Tělocvična ZŠ Prokopa Diviše a MŠ\, Ke Škole 569 Znojmo - Přímětic
 e
SUMMARY:CP-ZKY-F1F: PFN Znojmo-Jiskra H.Brod
END:VEVENT
BEGIN:VEVENT
UID:37616136-3934-4765-b738-623632613765
DTSTAMP:20260421T125054Z
DESCRIPTION:5/10 PFN Znojmo - DUKLA Liberec 2:1 (17\,-23\,7)
DTSTART;TZID=Europe/Berlin:20220219T134000
DTEND;TZID=Europe/Berlin:20220219T154000
LOCATION:Tělocvična ZŠ Prokopa Diviše a MŠ\, Ke Škole 569 Znojmo - Přímětic
 e
SUMMARY:CP-ZKY-F1F: PFN Znojmo-DUKLA Liberec
END:VEVENT
BEGIN:VEVENT
UID:30626339-3939-4432-a135-303066643831
DTSTAMP:20260421T125054Z
DESCRIPTION:10/20 PFN Znojmo - Slavia UH 2:0 (22\,21)
DTSTART;TZID=Europe/Berlin:20220220T101000
DTEND;TZID=Europe/Berlin:20220220T121000
LOCATION:Tělocvična ZŠ Prokopa Diviše a MŠ\, Ke Škole 569 Znojmo - Přímětic
 e
SUMMARY:CP-ZKY-F1F: PFN Znojmo-Slavia UH
END:VEVENT
BEGIN:VEVENT
UID:39343833-6135-4430-b336-376562336165
DTSTAMP:20260421T125054Z
DESCRIPTION:1/1 Mikulova B - PFN Znojmo 2:0 (25\,22)
DTSTART;TZID=Europe/Berlin:20220219T090000
DTEND;TZID=Europe/Berlin:20220219T110000
LOCATION:ZŠ Mikulova Mikulova 1594
SUMMARY:CP-ZKY-F1F: Mikulova B-PFN Znojmo
END:VEVENT
BEGIN:VEVENT
UID:66396564-6139-4438-b134-393566356634
DTSTAMP:20260421T125054Z
DESCRIPTION:7/14 Benátky nad Jizerou - PFN Znojmo 2:0 (14\,24)
DTSTART;TZID=Europe/Berlin:20220219T160000
DTEND;TZID=Europe/Berlin:20220219T180000
LOCATION:Nibe aréna\, městská sportovní hala\, 5. května 746 Benátky nad Ji
 zerou - Benátky nad Jizerou II
SUMMARY:CP-ZKY-F1F: Benátky nad Jizerou-PFN Znojmo
END:VEVENT
BEGIN:VEVENT
UID:36626637-3134-4263-b932-376166383063
DTSTAMP:20260421T125054Z
DESCRIPTION:9/18 VSK Spartak Děčín - PFN Znojmo 2:0 (7\,14)
DTSTART;TZID=Europe/Berlin:20220220T090000
DTEND;TZID=Europe/Berlin:20220220T110000
LOCATION:SH ZŠ Dr M. Tyrše\, Vrchlického 630 Děčín - Děčín II-Nové Město
SUMMARY:CP-ZKY-F1F: VSK Spartak Děčín-PFN Znojmo
END:VEVENT
BEGIN:VEVENT
UID:33356430-3634-4265-b330-386432666561
DTSTAMP:20260421T125054Z
DESCRIPTION:12/24 BVC Chodov - PFN Znojmo 0:2 (-19\,-21)
DTSTART;TZID=Europe/Berlin:20220220T123000
DTEND;TZID=Europe/Berlin:20220220T143000
LOCATION:Městská sportovní hala Chodov\, Tyršova 1201 Chodov
SUMMARY:CP-ZKY-F1F: BVC Chodov-PFN Znojmo
END:VEVENT
BEGIN:VEVENT
UID:33306539-3362-4630-a162-616431393638
DTSTAMP:20260421T125054Z
DESCRIPTION:1/2 PFN Znojmo - TJ Slovan Ivančice\, z.s. 2:0 (24\,23)
DTSTART;TZID=Europe/Berlin:20211218T090000
DTEND;TZID=Europe/Berlin:20211218T110000
LOCATION:Tělocvična ZŠ Prokopa Diviše a MŠ\, Ke Škole 569 Znojmo - Přímětic
 e
SUMMARY:JM-ZKY-VB: PFN Znojmo-TJ Slovan Ivančice\, z.s.
END:VEVENT
BEGIN:VEVENT
UID:63313435-6637-4263-b934-353837383533
DTSTAMP:20260421T125054Z
DESCRIPTION:3/5 PFN Znojmo - VK Vejrostova 0:2 (-16\,-16)
DTSTART;TZID=Europe/Berlin:20211218T114500
DTEND;TZID=Europe/Berlin:20211218T134500
LOCATION:Tělocvična ZŠ Prokopa Diviše a MŠ\, Ke Škole 569 Znojmo - Přímětic
 e
SUMMARY:JM-ZKY-VB: PFN Znojmo-VK Vejrostova
END:VEVENT
BEGIN:VEVENT
UID:61316436-3235-4737-b237-636636366536
DTSTAMP:20260421T125054Z
DESCRIPTION:2/4 TJ JUNIOR Brno A - PFN Znojmo 1:2 (22\,-17\,-6)
DTSTART;TZID=Europe/Berlin:20211218T103000
DTEND;TZID=Europe/Berlin:20211218T123000
LOCATION:tělocvičny ZŠ Novolíšeňská\, Brno\, Novolíšeňská 2411 Brno - Líšeň
SUMMARY:JM-ZKY-VB: TJ JUNIOR Brno A-PFN Znojmo
END:VEVENT
BEGIN:VEVENT
UID:61393538-3065-4336-b232-666665396361
DTSTAMP:20260421T125054Z
DESCRIPTION:3/3 PFN Znojmo - TJ JUNIOR Brno A 2:0 (12\,6)
DTSTART;TZID=Europe/Berlin:20220115T114500
DTEND;TZID=Europe/Berlin:20220115T134500
LOCATION:Tělocvična ZŠ Prokopa Diviše a MŠ\, Ke Škole 569 Znojmo - Přímětic
 e
SUMMARY:JM-ZKY-VIB: PFN Znojmo-TJ JUNIOR Brno A
END:VEVENT
BEGIN:VEVENT
UID:33306534-6638-4463-b862-643930653537
DTSTAMP:20260421T125054Z
DESCRIPTION:1/1 Znojmo - PFN Znojmo 2:0 (11\,21)
DTSTART;TZID=Europe/Berlin:20220115T090000
DTEND;TZID=Europe/Berlin:20220115T110000
LOCATION:Tělocvična ZŠ Prokopa Diviše a MŠ\, Ke Škole 569 Znojmo - Přímětic
 e
SUMMARY:JM-ZKY-VIB: Znojmo-PFN Znojmo
END:VEVENT
BEGIN:VEVENT
UID:65663036-6537-4465-a431-336136626661
DTSTAMP:20260421T125054Z
DESCRIPTION:5/5 TJ Sokol Jehnice - PFN Znojmo 0:2 (-17\,-17)
DTSTART;TZID=Europe/Berlin:20220115T141500
DTEND;TZID=Europe/Berlin:20220115T161500
LOCATION:TJ Sokol Jehnice\, Blanenská 1 Brno - Jehnice
SUMMARY:JM-ZKY-VIB: TJ Sokol Jehnice-PFN Znojmo
END:VEVENT
BEGIN:VEVENT
UID:39656562-3538-4663-a136-383236336162
DTSTAMP:20260421T125054Z
DESCRIPTION:2/2 PFN Znojmo - TJ Sokol Jehnice 0:2 (-20\,-20)
DTSTART;TZID=Europe/Berlin:20220212T103000
DTEND;TZID=Europe/Berlin:20220212T123000
LOCATION:Tělocvična ZŠ Prokopa Diviše a MŠ\, Ke Škole 569 Znojmo - Přímětic
 e
SUMMARY:JM-ZKY-VIIB: PFN Znojmo-TJ Sokol Jehnice
END:VEVENT
BEGIN:VEVENT
UID:37323330-3562-4165-b164-646465306662
DTSTAMP:20260421T125054Z
DESCRIPTION:5/5 PFN Znojmo - VK Vejrostova 1:2 (23\,-21\,-8)
DTSTART;TZID=Europe/Berlin:20220212T141500
DTEND;TZID=Europe/Berlin:20220212T161500
LOCATION:Tělocvična ZŠ Prokopa Diviše a MŠ\, Ke Škole 569 Znojmo - Přímětic
 e
SUMMARY:JM-ZKY-VIIB: PFN Znojmo-VK Vejrostova
END:VEVENT
BEGIN:VEVENT
UID:31366431-6564-4736-b132-333337653961
DTSTAMP:20260421T125054Z
DESCRIPTION:4/4 VS Drásov - PFN Znojmo 1:2 (16\,-21\,-14)
DTSTART;TZID=Europe/Berlin:20220212T130000
DTEND;TZID=Europe/Berlin:20220212T150000
LOCATION:Hala u ZŠ TGM Drásov\, Školní 167 Drásov
SUMMARY:JM-ZKY-VIIB: VS Drásov-PFN Znojmo
END:VEVENT
BEGIN:VEVENT
UID:39313737-3530-4165-b466-623333396433
DTSTAMP:20260421T125054Z
DESCRIPTION:2/2 PFN Znojmo - TJ Slovan Ivančice\, z.s. 0:2 (-18\,-14)
DTSTART;TZID=Europe/Berlin:20220226T103000
DTEND;TZID=Europe/Berlin:20220226T123000
LOCATION:Tělocvična ZŠ Prokopa Diviše a MŠ\, Ke Škole 569 Znojmo - Přímětic
 e
SUMMARY:JM-ZKY-VIIIB: PFN Znojmo-TJ Slovan Ivančice\, z.s.
END:VEVENT
BEGIN:VEVENT
UID:38376237-6637-4663-a537-663337613866
DTSTAMP:20260421T125054Z
DESCRIPTION:5/5 PFN Znojmo - KP Brno MA 0:2 (-11\,-19)
DTSTART;TZID=Europe/Berlin:20220226T141500
DTEND;TZID=Europe/Berlin:20220226T161500
LOCATION:Tělocvična ZŠ Prokopa Diviše a MŠ\, Ke Škole 569 Znojmo - Přímětic
 e
SUMMARY:JM-ZKY-VIIIB: PFN Znojmo-KP Brno MA
END:VEVENT
BEGIN:VEVENT
UID:39323862-3339-4338-b465-386233373563
DTSTAMP:20260421T125054Z
DESCRIPTION:4/4 TJ Sokol Jehnice - PFN Znojmo 2:0 (20\,21)
DTSTART;TZID=Europe/Berlin:20220226T130000
DTEND;TZID=Europe/Berlin:20220226T150000
LOCATION:TJ Sokol Jehnice\, Blanenská 1 Brno - Jehnice
SUMMARY:JM-ZKY-VIIIB: TJ Sokol Jehnice-PFN Znojmo
END:VEVENT
BEGIN:VEVENT
UID:30326130-3461-4161-a333-363161333163
DTSTAMP:20260421T125054Z
DESCRIPTION:2/3 PFN Znojmo - Slavia UH 2:0 (14\,19)\nHala VOŠ a SPŠS - U St
 adionu 1166 Rychnov nad Kněžnou
DTSTART;TZID=Europe/Berlin:20220319T102000
DTEND;TZID=Europe/Berlin:20220319T122000
LOCATION:Tělocvična ZŠ Prokopa Diviše a MŠ\, Ke Škole 569 Znojmo - Přímětic
 e
SUMMARY:CP-ZKY-F2F: PFN Znojmo-Slavia UH
END:VEVENT
BEGIN:VEVENT
UID:61646362-3166-4439-a538-346337343635
DTSTAMP:20260421T125054Z
DESCRIPTION:4/7 PFN Znojmo - RÉMA 1:2 (20\,-21\,-14)\nHala VOŠ a SPŠS - U S
 tadionu 1166
DTSTART;TZID=Europe/Berlin:20220319T130000
DTEND;TZID=Europe/Berlin:20220319T150000
LOCATION:Tělocvična ZŠ Prokopa Diviše a MŠ\, Ke Škole 569 Znojmo - Přímětic
 e
SUMMARY:CP-ZKY-F2F: PFN Znojmo-RÉMA
END:VEVENT
BEGIN:VEVENT
UID:38623662-6163-4362-b762-636534646466
DTSTAMP:20260421T125054Z
DESCRIPTION:7/13 PFN Znojmo - Mikulova B 2:0 (18\,20)\nHala Romana Šebrleho
 \, GFMP Rychnov
DTSTART;TZID=Europe/Berlin:20220319T160000
DTEND;TZID=Europe/Berlin:20220319T180000
LOCATION:Tělocvična ZŠ Prokopa Diviše a MŠ\, Ke Škole 569 Znojmo - Přímětic
 e
SUMMARY:CP-ZKY-F2F: PFN Znojmo-Mikulova B
END:VEVENT
BEGIN:VEVENT
UID:39383363-3238-4535-b830-343732656331
DTSTAMP:20260421T125054Z
DESCRIPTION:8/15 PFN Znojmo - Břeclav 2:X
DTSTART;TZID=Europe/Berlin:20220319T170000
DTEND;TZID=Europe/Berlin:20220319T190000
LOCATION:Tělocvična ZŠ Prokopa Diviše a MŠ\, Ke Škole 569 Znojmo - Přímětic
 e
SUMMARY:CP-ZKY-F2F: PFN Znojmo-Břeclav
END:VEVENT
BEGIN:VEVENT
UID:38306465-3263-4034-b131-353464666637
DTSTAMP:20260421T125054Z
DESCRIPTION:5/10 VK Litomyšl - PFN Znojmo 2:0 (18\,22)\nHala Romana Šebrleh
 o\, GFMP Rychnov
DTSTART;TZID=Europe/Berlin:20220319T150000
DTEND;TZID=Europe/Berlin:20220319T170000
LOCATION:Městská sportovní hala\, T. G. Masaryka 1145 Litomyšl - Litomyšl-M
 ěsto
SUMMARY:CP-ZKY-F2F: VK Litomyšl-PFN Znojmo
END:VEVENT
BEGIN:VEVENT
UID:65333231-3432-4565-b863-313132363738
DTSTAMP:20260421T125054Z
DESCRIPTION:11/22 Volejbal Ústí/L. - PFN Znojmo 2:0 (13\,26)\ntěl.ZŠ Javorn
 ická
DTSTART;TZID=Europe/Berlin:20220320T083000
DTEND;TZID=Europe/Berlin:20220320T103000
LOCATION:Gymnázium a SOŠ Dr. Václava Šmejkala Stará 99\, 400 11 Ústí nad La
 bem-Severní Terasa
SUMMARY:CP-ZKY-F2F: Volejbal Ústí/L.-PFN Znojmo
END:VEVENT
BEGIN:VEVENT
UID:30633865-6565-4533-b066-333533623636
DTSTAMP:20260421T125054Z
DESCRIPTION:12/24 Jiskra H.Brod - PFN Znojmo 2:1 (-21\,25\,20)\nHala Romana
  Šebrleho\, GFMP Rychnov
DTSTART;TZID=Europe/Berlin:20220319T180000
DTEND;TZID=Europe/Berlin:20220319T200000
LOCATION:Tělocvična OA a hotelové školy\, Bratříků 851 Havlíčkův Brod
SUMMARY:CP-ZKY-F2F: Jiskra H.Brod-PFN Znojmo
END:VEVENT
BEGIN:VEVENT
UID:35346137-6239-4630-a663-333435376637
DTSTAMP:20260421T125054Z
DESCRIPTION:3/5 PFN Znojmo - TJ Sokol Jehnice 2:0 (14\,19)\nL1 vs L4 Kurt 1
DTSTART;TZID=Europe/Berlin:20220409T114500
DTEND;TZID=Europe/Berlin:20220409T134500
LOCATION:Tělocvična ZŠ Prokopa Diviše a MŠ\, Ke Škole 569 Znojmo - Přímětic
 e
SUMMARY:JM-ZKY-F: PFN Znojmo-TJ Sokol Jehnice
END:VEVENT
BEGIN:VEVENT
UID:64306538-3735-4664-a266-613830663436
DTSTAMP:20260421T125054Z
DESCRIPTION:1/2 KP Brno - PFN Znojmo 2:0 (4\,11)\n2. vs 7. Kurt 2
DTSTART;TZID=Europe/Berlin:20220409T090000
DTEND;TZID=Europe/Berlin:20220409T110000
LOCATION:Sportovní gymnázium Ludvíka Daňka\, Botanická 63 Brno - Ponava
SUMMARY:JM-ZKY-F: KP Brno-PFN Znojmo
END:VEVENT
BEGIN:VEVENT
UID:64386663-6137-4738-b161-366461613864
DTSTAMP:20260421T125054Z
DESCRIPTION:5/10 Znojmo - PFN Znojmo 2:0 (17\,9)\nW5 vs W6 Kurt 1
DTSTART;TZID=Europe/Berlin:20220409T141500
DTEND;TZID=Europe/Berlin:20220409T161500
LOCATION:Tělocvična ZŠ Prokopa Diviše a MŠ\, Ke Škole 569 Znojmo - Přímětic
 e
SUMMARY:JM-ZKY-F: Znojmo-PFN Znojmo
END:VEVENT
END:VCALENDAR
