BEGIN:VCALENDAR
VERSION:2.0
PRODID:-//ZŠ Milénova MB76588//NONSGML kigkonsult.se iCalcreator 2.41.80//
CALSCALE:GREGORIAN
UID:31383936-3031-4336-b238-373965653037
BEGIN:VEVENT
UID:30376637-3861-4932-b531-616161633762
DTSTAMP:20260422T093653Z
DESCRIPTION:2/2 KP Brno MB - Orel Křenovice 0:2 (-16\,-18)
DTSTART;TZID=Europe/Berlin:20210911T090000
DTEND;TZID=Europe/Berlin:20210911T110000
LOCATION:ZŠ Milénova 14\, Milénova 808 Brno - Lesná
SUMMARY:JM-ZKY-KVA: KP Brno MB-Orel Křenovice
END:VEVENT
BEGIN:VEVENT
UID:62373966-3566-4466-a338-633766656563
DTSTAMP:20260422T093653Z
DESCRIPTION:5/5 KP Brno MB - KP Brno MA 0:2 (-9\,-11)
DTSTART;TZID=Europe/Berlin:20210911T114500
DTEND;TZID=Europe/Berlin:20210911T134500
LOCATION:ZŠ Milénova 14\, Milénova 808 Brno - Lesná
SUMMARY:JM-ZKY-KVA: KP Brno MB-KP Brno MA
END:VEVENT
BEGIN:VEVENT
UID:36666633-3538-4133-b662-336237336132
DTSTAMP:20260422T093653Z
DESCRIPTION:4/4 TJ Slovan Ivančice\, z.s. - KP Brno MB 2:1 (-24\,18\,10)
DTSTART;TZID=Europe/Berlin:20210911T103000
DTEND;TZID=Europe/Berlin:20210911T123000
LOCATION:sokolovna Ivančice\, Rybářská 1052 Ivančice
SUMMARY:JM-ZKY-KVA: TJ Slovan Ivančice\, z.s.-KP Brno MB
END:VEVENT
BEGIN:VEVENT
UID:62653963-6162-4033-a664-373933353335
DTSTAMP:20260422T093653Z
DESCRIPTION:10/10 TJ Agrotec Hustopeče z.s. - KP Brno MB 2:1 (23\,-23\,11)
DTSTART;TZID=Europe/Berlin:20210911T141500
DTEND;TZID=Europe/Berlin:20210911T161500
LOCATION:Městská sportovní hala\, Šafaříkova 1016 Hustopeče
SUMMARY:JM-ZKY-KVA: TJ Agrotec Hustopeče z.s.-KP Brno MB
END:VEVENT
BEGIN:VEVENT
UID:30373535-3930-4961-b666-306565323630
DTSTAMP:20260422T093653Z
DESCRIPTION:1/2 KP Brno MB - VOLEJBAL VYŠKOV\, z.s. B 0:2 (-11\,-21)
DTSTART;TZID=Europe/Berlin:20210925T090000
DTEND;TZID=Europe/Berlin:20210925T110000
LOCATION:ZŠ Milénova 14\, Milénova 808 Brno - Lesná
SUMMARY:JM-ZKY-IE: KP Brno MB-VOLEJBAL VYŠKOV\, z.s. B
END:VEVENT
BEGIN:VEVENT
UID:32376531-6266-4466-a561-663836663461
DTSTAMP:20260422T093653Z
DESCRIPTION:3/5 KP Brno MB - DDM Kuřim 0:2 (-18\,-14)
DTSTART;TZID=Europe/Berlin:20210925T114500
DTEND;TZID=Europe/Berlin:20210925T134500
LOCATION:ZŠ Milénova 14\, Milénova 808 Brno - Lesná
SUMMARY:JM-ZKY-IE: KP Brno MB-DDM Kuřim
END:VEVENT
BEGIN:VEVENT
UID:63643030-3164-4964-b631-353934616163
DTSTAMP:20260422T093653Z
DESCRIPTION:2/4 TJ Sokol Šlapanice - KP Brno MB 0:2 (-18\,-18)
DTSTART;TZID=Europe/Berlin:20210925T103000
DTEND;TZID=Europe/Berlin:20210925T123000
LOCATION:Tělocvična ZŠ Šlapanice\, Masarykovo náměstí 1594 Šlapanice
SUMMARY:JM-ZKY-IE: TJ Sokol Šlapanice-KP Brno MB
END:VEVENT
BEGIN:VEVENT
UID:39626438-3262-4534-b765-303832643330
DTSTAMP:20260422T093653Z
DESCRIPTION:3/3 KP Brno MB - VK PFN Znojmo 'C' 2:1 (-18\,21\,10)
DTSTART;TZID=Europe/Berlin:20211023T114500
DTEND;TZID=Europe/Berlin:20211023T134500
LOCATION:ZŠ Milénova 14\, Milénova 808 Brno - Lesná
SUMMARY:JM-ZKY-IIE: KP Brno MB-VK PFN Znojmo 'C'
END:VEVENT
BEGIN:VEVENT
UID:39356231-3031-4766-b632-653034373537
DTSTAMP:20260422T093653Z
DESCRIPTION:1/1 DDM Kuřim - KP Brno MB 0:2 (-14\,-16)
DTSTART;TZID=Europe/Berlin:20211023T090000
DTEND;TZID=Europe/Berlin:20211023T110000
LOCATION:ZŠ Jungmannova Kuřim\, Jungmannova 813 Kuřim
SUMMARY:JM-ZKY-IIE: DDM Kuřim-KP Brno MB
END:VEVENT
BEGIN:VEVENT
UID:30333932-3230-4964-a634-333365303439
DTSTAMP:20260422T093653Z
DESCRIPTION:5/5 TJ Agrotec Hustopeče z.s. - KP Brno MB 0:2 (-23\,-22)
DTSTART;TZID=Europe/Berlin:20211023T141500
DTEND;TZID=Europe/Berlin:20211023T161500
LOCATION:Městská sportovní hala\, Šafaříkova 1016 Hustopeče
SUMMARY:JM-ZKY-IIE: TJ Agrotec Hustopeče z.s.-KP Brno MB
END:VEVENT
BEGIN:VEVENT
UID:33343237-3763-4230-b233-386431333738
DTSTAMP:20260422T093653Z
DESCRIPTION:1/1 KP Brno MB - Tělocvičná jednota Sokol Předklášteří 0:2 (-20
 \,-17)
DTSTART;TZID=Europe/Berlin:20211113T090000
DTEND;TZID=Europe/Berlin:20211113T110000
LOCATION:ZŠ Milénova 14\, Milénova 808 Brno - Lesná
SUMMARY:JM-ZKY-IIID: KP Brno MB-Tělocvičná jednota Sokol Předklášteří
END:VEVENT
BEGIN:VEVENT
UID:62623134-3233-4933-b164-353532353039
DTSTAMP:20260422T093653Z
DESCRIPTION:4/4 KP Brno MB - Loko Fosfa Břeclav 0:2 (-22\,-16)
DTSTART;TZID=Europe/Berlin:20211113T130000
DTEND;TZID=Europe/Berlin:20211113T150000
LOCATION:ZŠ Milénova 14\, Milénova 808 Brno - Lesná
SUMMARY:JM-ZKY-IIID: KP Brno MB-Loko Fosfa Břeclav
END:VEVENT
BEGIN:VEVENT
UID:61336532-6463-4737-b834-393930343761
DTSTAMP:20260422T093653Z
DESCRIPTION:6/6 VOLEJBAL VYŠKOV\, z.s. B - KP Brno MB 2:0 (10\,13)
DTSTART;TZID=Europe/Berlin:20211113T153000
DTEND;TZID=Europe/Berlin:20211113T173000
LOCATION:Tělocvična ZŠ Nádražní\, Nádražní 5 Vyškov - Vyškov-Město
SUMMARY:JM-ZKY-IIID: VOLEJBAL VYŠKOV\, z.s. B-KP Brno MB
END:VEVENT
BEGIN:VEVENT
UID:33366532-3339-4237-b933-386232303964
DTSTAMP:20260422T093653Z
DESCRIPTION:6/6 KP Brno MB - DDM Kuřim 2:0 (19\,23)
DTSTART;TZID=Europe/Berlin:20211204T153000
DTEND;TZID=Europe/Berlin:20211204T173000
LOCATION:ZŠ Milénova 14\, Milénova 808 Brno - Lesná
SUMMARY:JM-ZKY-IVE: KP Brno MB-DDM Kuřim
END:VEVENT
BEGIN:VEVENT
UID:38396439-6365-4461-a366-303835663035
DTSTAMP:20260422T093653Z
DESCRIPTION:2/2 VK Brno\, z.s. - KP Brno MB 2:0 (20\,13)
DTSTART;TZID=Europe/Berlin:20211204T103000
DTEND;TZID=Europe/Berlin:20211204T123000
LOCATION:Tělocvična ZŠ Bílovice nad Svitavou\, Komenského 151 Bílovice nad 
 Svitavou
SUMMARY:JM-ZKY-IVE: VK Brno\, z.s.-KP Brno MB
END:VEVENT
BEGIN:VEVENT
UID:62353136-6232-4031-b134-636135396334
DTSTAMP:20260422T093653Z
DESCRIPTION:3/3 KP Brno C - KP Brno MB 1:2 (17\,-24\,-13)
DTSTART;TZID=Europe/Berlin:20211204T114500
DTEND;TZID=Europe/Berlin:20211204T134500
LOCATION:Sportovní gymnázium Ludvíka Daňka\, Botanická 63 Brno - Ponava
SUMMARY:JM-ZKY-IVE: KP Brno C-KP Brno MB
END:VEVENT
BEGIN:VEVENT
UID:36636332-6330-4230-b337-346565623764
DTSTAMP:20260422T093653Z
DESCRIPTION:2/2 KP Brno MB - KP Brno C 2:0 (15\,14)
DTSTART;TZID=Europe/Berlin:20211218T103000
DTEND;TZID=Europe/Berlin:20211218T123000
LOCATION:ZŠ Milénova 14\, Milénova 808 Brno - Lesná
SUMMARY:JM-ZKY-VE: KP Brno MB-KP Brno C
END:VEVENT
BEGIN:VEVENT
UID:63353330-6236-4039-b963-326664616566
DTSTAMP:20260422T093653Z
DESCRIPTION:5/5 KP Brno MB - TJ Agrotec Hustopeče z.s. 1:2 (23\,-21\,-11)
DTSTART;TZID=Europe/Berlin:20211218T141500
DTEND;TZID=Europe/Berlin:20211218T161500
LOCATION:ZŠ Milénova 14\, Milénova 808 Brno - Lesná
SUMMARY:JM-ZKY-VE: KP Brno MB-TJ Agrotec Hustopeče z.s.
END:VEVENT
BEGIN:VEVENT
UID:64333562-6335-4165-b039-613366633933
DTSTAMP:20260422T093653Z
DESCRIPTION:4/4 VK PFN Znojmo 'C' - KP Brno MB 0:2 (-16\,-19)
DTSTART;TZID=Europe/Berlin:20211218T130000
DTEND;TZID=Europe/Berlin:20211218T150000
LOCATION:Tělocvična ZŠ Prokopa Diviše a MŠ\, Ke Škole 569 Znojmo - Přímětic
 e
SUMMARY:JM-ZKY-VE: VK PFN Znojmo 'C'-KP Brno MB
END:VEVENT
BEGIN:VEVENT
UID:37626630-6339-4565-a564-366635656563
DTSTAMP:20260422T093653Z
DESCRIPTION:1/2 KP Brno MB - VK PFN Znojmo 'C' 2:1 (14\,-18\,7)
DTSTART;TZID=Europe/Berlin:20220115T090000
DTEND;TZID=Europe/Berlin:20220115T110000
LOCATION:ZŠ Milénova 14\, Milénova 808 Brno - Lesná
SUMMARY:JM-ZKY-VIE: KP Brno MB-VK PFN Znojmo 'C'
END:VEVENT
BEGIN:VEVENT
UID:36316662-3939-4437-b464-383439323333
DTSTAMP:20260422T093653Z
DESCRIPTION:3/5 KP Brno MB - VK Vejrostova B 2:0 (11\,10)
DTSTART;TZID=Europe/Berlin:20220115T114500
DTEND;TZID=Europe/Berlin:20220115T134500
LOCATION:ZŠ Milénova 14\, Milénova 808 Brno - Lesná
SUMMARY:JM-ZKY-VIE: KP Brno MB-VK Vejrostova B
END:VEVENT
BEGIN:VEVENT
UID:63316233-3863-4437-a162-306466376361
DTSTAMP:20260422T093653Z
DESCRIPTION:2/4 Loko Fosfa Břeclav - KP Brno MB 2:0 (14\,19)
DTSTART;TZID=Europe/Berlin:20220115T103000
DTEND;TZID=Europe/Berlin:20220115T123000
LOCATION:TJ Lokomotiva Břeclav\, Veslařská 2753 Břeclav
SUMMARY:JM-ZKY-VIE: Loko Fosfa Břeclav-KP Brno MB
END:VEVENT
BEGIN:VEVENT
UID:66306236-6133-4439-b861-303430613365
DTSTAMP:20260422T093653Z
DESCRIPTION:3/3 KP Brno MB - KP Brno C 2:0 (21\,15)
DTSTART;TZID=Europe/Berlin:20220212T114500
DTEND;TZID=Europe/Berlin:20220212T134500
LOCATION:ZŠ Milénova 14\, Milénova 808 Brno - Lesná
SUMMARY:JM-ZKY-VIIE: KP Brno MB-KP Brno C
END:VEVENT
BEGIN:VEVENT
UID:32333666-3230-4032-b463-353262386335
DTSTAMP:20260422T093653Z
DESCRIPTION:1/1 DDM Kuřim - KP Brno MB 1:2 (22\,-21\,-8)
DTSTART;TZID=Europe/Berlin:20220212T090000
DTEND;TZID=Europe/Berlin:20220212T110000
LOCATION:ZŠ Jungmannova Kuřim\, Jungmannova 813 Kuřim
SUMMARY:JM-ZKY-VIIE: DDM Kuřim-KP Brno MB
END:VEVENT
BEGIN:VEVENT
UID:64663035-3466-4438-b862-346166636435
DTSTAMP:20260422T093653Z
DESCRIPTION:5/5 VK PFN Znojmo 'C' - KP Brno MB X:2
DTSTART;TZID=Europe/Berlin:20220212T141500
DTEND;TZID=Europe/Berlin:20220212T161500
LOCATION:Tělocvična ZŠ Prokopa Diviše a MŠ\, Ke Škole 569 Znojmo - Přímětic
 e
SUMMARY:JM-ZKY-VIIE: VK PFN Znojmo 'C'-KP Brno MB
END:VEVENT
BEGIN:VEVENT
UID:31346665-3962-4731-b564-303562646665
DTSTAMP:20260422T093653Z
DESCRIPTION:2/3 KP Brno MB - TJ Agrotec Hustopeče z.s. 2:1 (25\,-25\,10)
DTSTART;TZID=Europe/Berlin:20220226T103000
DTEND;TZID=Europe/Berlin:20220226T123000
LOCATION:ZŠ Milénova 14\, Milénova 808 Brno - Lesná
SUMMARY:JM-ZKY-VIIID: KP Brno MB-TJ Agrotec Hustopeče z.s.
END:VEVENT
BEGIN:VEVENT
UID:64303639-3538-4265-b066-353066326339
DTSTAMP:20260422T093653Z
DESCRIPTION:1/1 TJ JUNIOR Brno A - KP Brno MB 2:1 (-19\,19\,7)
DTSTART;TZID=Europe/Berlin:20220226T090000
DTEND;TZID=Europe/Berlin:20220226T110000
LOCATION:tělocvičny ZŠ Novolíšeňská\, Brno\, Novolíšeňská 2411 Brno - Líšeň
SUMMARY:JM-ZKY-VIIID: TJ JUNIOR Brno A-KP Brno MB
END:VEVENT
BEGIN:VEVENT
UID:63616238-3564-4362-a436-613034633966
DTSTAMP:20260422T093653Z
DESCRIPTION:3/5 VOLEJBAL VYŠKOV\, z.s. B - KP Brno MB 2:0 (14\,15)
DTSTART;TZID=Europe/Berlin:20220226T114500
DTEND;TZID=Europe/Berlin:20220226T134500
LOCATION:Tělocvična ZŠ Nádražní\, Nádražní 5 Vyškov - Vyškov-Město
SUMMARY:JM-ZKY-VIIID: VOLEJBAL VYŠKOV\, z.s. B-KP Brno MB
END:VEVENT
END:VCALENDAR
