BEGIN:VCALENDAR
VERSION:2.0
PRODID:-//ZŠ Milénova MA76589//NONSGML kigkonsult.se iCalcreator 2.41.80//
CALSCALE:GREGORIAN
UID:38363235-3934-4632-a361-323831336434
BEGIN:VEVENT
UID:38396435-3833-4337-a634-646639306132
DTSTAMP:20260421T111221Z
DESCRIPTION:9/9 KP Brno MA - TJ Slovan Ivančice\, z.s. 2:1 (12\,-27\,7)
DTSTART;TZID=Europe/Berlin:20210911T141500
DTEND;TZID=Europe/Berlin:20210911T161500
LOCATION:ZŠ Milénova 14\, Milénova 808 Brno - Lesná
SUMMARY:JM-ZKY-KVA: KP Brno MA-TJ Slovan Ivančice\, z.s.
END:VEVENT
BEGIN:VEVENT
UID:36333265-3533-4265-b462-363338626663
DTSTAMP:20260421T111221Z
DESCRIPTION:1/1 TJ Agrotec Hustopeče z.s. - KP Brno MA 0:2 (-14\,-2)
DTSTART;TZID=Europe/Berlin:20210911T090000
DTEND;TZID=Europe/Berlin:20210911T110000
LOCATION:Městská sportovní hala\, Šafaříkova 1016 Hustopeče
SUMMARY:JM-ZKY-KVA: TJ Agrotec Hustopeče z.s.-KP Brno MA
END:VEVENT
BEGIN:VEVENT
UID:36383732-3766-4662-a631-366161393439
DTSTAMP:20260421T111221Z
DESCRIPTION:5/5 KP Brno MB - KP Brno MA 0:2 (-9\,-11)
DTSTART;TZID=Europe/Berlin:20210911T114500
DTEND;TZID=Europe/Berlin:20210911T134500
LOCATION:ZŠ Milénova 14\, Milénova 808 Brno - Lesná
SUMMARY:JM-ZKY-KVA: KP Brno MB-KP Brno MA
END:VEVENT
BEGIN:VEVENT
UID:30376562-3038-4632-b461-323033386662
DTSTAMP:20260421T111221Z
DESCRIPTION:8/8 Orel Křenovice - KP Brno MA 0:2 (-12\,-12)
DTSTART;TZID=Europe/Berlin:20210911T130000
DTEND;TZID=Europe/Berlin:20210911T150000
LOCATION:Sportovní hala Křenovice \, Bratří Mrázků 635 Křenovice
SUMMARY:JM-ZKY-KVA: Orel Křenovice-KP Brno MA
END:VEVENT
BEGIN:VEVENT
UID:38323933-3130-4565-b466-666331356331
DTSTAMP:20260421T111221Z
DESCRIPTION:1/1 KP Brno MA - KP Brno 2:1 (19\,-16\,14)
DTSTART;TZID=Europe/Berlin:20210925T090000
DTEND;TZID=Europe/Berlin:20210925T110000
LOCATION:ZŠ Milénova 14\, Milénova 808 Brno - Lesná
SUMMARY:JM-ZKY-IA: KP Brno MA-KP Brno
END:VEVENT
BEGIN:VEVENT
UID:30653963-6530-4138-b938-633265313861
DTSTAMP:20260421T111221Z
DESCRIPTION:4/4 KP Brno MA - Břeclav 2:1 (20\,-24\,9)
DTSTART;TZID=Europe/Berlin:20210925T130000
DTEND;TZID=Europe/Berlin:20210925T150000
LOCATION:ZŠ Milénova 14\, Milénova 808 Brno - Lesná
SUMMARY:JM-ZKY-IA: KP Brno MA-Břeclav
END:VEVENT
BEGIN:VEVENT
UID:30333066-3265-4561-a161-333065303938
DTSTAMP:20260421T111221Z
DESCRIPTION:6/6 VOLEJBAL VYŠKOV - KP Brno MA 2:1 (-10\,15\,8)
DTSTART;TZID=Europe/Berlin:20210925T153000
DTEND;TZID=Europe/Berlin:20210925T173000
LOCATION:Tělocvična ZŠ Nádražní\, Nádražní 5 Vyškov - Vyškov-Město
SUMMARY:JM-ZKY-IA: VOLEJBAL VYŠKOV-KP Brno MA
END:VEVENT
BEGIN:VEVENT
UID:63303333-3861-4532-b131-636365326535
DTSTAMP:20260421T111221Z
DESCRIPTION:1/2 KP Brno MA - KP Brno 2:1 (-23\,23\,11)
DTSTART;TZID=Europe/Berlin:20211023T090000
DTEND;TZID=Europe/Berlin:20211023T110000
LOCATION:ZŠ Milénova 14\, Milénova 808 Brno - Lesná
SUMMARY:JM-ZKY-IIA: KP Brno MA-KP Brno
END:VEVENT
BEGIN:VEVENT
UID:37316532-3332-4238-a332-663461316331
DTSTAMP:20260421T111221Z
DESCRIPTION:3/5 KP Brno MA - Znojmo 0:2 (-10\,-10)
DTSTART;TZID=Europe/Berlin:20211023T114500
DTEND;TZID=Europe/Berlin:20211023T134500
LOCATION:ZŠ Milénova 14\, Milénova 808 Brno - Lesná
SUMMARY:JM-ZKY-IIA: KP Brno MA-Znojmo
END:VEVENT
BEGIN:VEVENT
UID:34626665-3330-4235-b466-313063643231
DTSTAMP:20260421T111221Z
DESCRIPTION:2/4 Břeclav - KP Brno MA 2:0 (18\,23)
DTSTART;TZID=Europe/Berlin:20211023T103000
DTEND;TZID=Europe/Berlin:20211023T123000
LOCATION:TJ Lokomotiva Břeclav\, Veslařská 2753 Břeclav
SUMMARY:JM-ZKY-IIA: Břeclav-KP Brno MA
END:VEVENT
BEGIN:VEVENT
UID:63333135-6639-4966-a630-323539666133
DTSTAMP:20260421T111221Z
DESCRIPTION:3/3 KP Brno MA - VOLEJBAL VYŠKOV 2:1 (-23\,15\,8)
DTSTART;TZID=Europe/Berlin:20211113T114500
DTEND;TZID=Europe/Berlin:20211113T134500
LOCATION:ZŠ Milénova 14\, Milénova 808 Brno - Lesná
SUMMARY:JM-ZKY-IIIB: KP Brno MA-VOLEJBAL VYŠKOV
END:VEVENT
BEGIN:VEVENT
UID:32353632-3864-4539-b661-373438353261
DTSTAMP:20260421T111221Z
DESCRIPTION:1/1 PFN Znojmo - KP Brno MA 0:2 (-5\,-10)
DTSTART;TZID=Europe/Berlin:20211113T090000
DTEND;TZID=Europe/Berlin:20211113T110000
LOCATION:Tělocvična ZŠ Prokopa Diviše a MŠ\, Ke Škole 569 Znojmo - Přímětic
 e
SUMMARY:JM-ZKY-IIIB: PFN Znojmo-KP Brno MA
END:VEVENT
BEGIN:VEVENT
UID:31663865-3239-4638-b133-626163663034
DTSTAMP:20260421T111221Z
DESCRIPTION:5/5 TJ Sokol Jehnice - KP Brno MA 0:2 (-9\,-10)
DTSTART;TZID=Europe/Berlin:20211113T141500
DTEND;TZID=Europe/Berlin:20211113T161500
LOCATION:TJ Sokol Jehnice\, Blanenská 1 Brno - Jehnice
SUMMARY:JM-ZKY-IIIB: TJ Sokol Jehnice-KP Brno MA
END:VEVENT
BEGIN:VEVENT
UID:36633531-3161-4138-b836-633932303933
DTSTAMP:20260421T111221Z
DESCRIPTION:3/6 KP Brno MA - Břeclav 0:2 (-14\,-23)
DTSTART;TZID=Europe/Berlin:20211204T114500
DTEND;TZID=Europe/Berlin:20211204T134500
LOCATION:ZŠ Milénova 14\, Milénova 808 Brno - Lesná
SUMMARY:JM-ZKY-IVA: KP Brno MA-Břeclav
END:VEVENT
BEGIN:VEVENT
UID:63656233-3635-4965-b638-653936666137
DTSTAMP:20260421T111221Z
DESCRIPTION:1/2 KP Brno - KP Brno MA 1:2 (-24\,16\,-19)
DTSTART;TZID=Europe/Berlin:20211204T090000
DTEND;TZID=Europe/Berlin:20211204T110000
LOCATION:Sportovní gymnázium Ludvíka Daňka\, Botanická 63 Brno - Ponava
SUMMARY:JM-ZKY-IVA: KP Brno-KP Brno MA
END:VEVENT
BEGIN:VEVENT
UID:34396363-3031-4961-b130-313534356265
DTSTAMP:20260421T111221Z
DESCRIPTION:2/3 VK Vejrostova - KP Brno MA 0:2 (-17\,-17)
DTSTART;TZID=Europe/Berlin:20211204T103000
DTEND;TZID=Europe/Berlin:20211204T123000
LOCATION:ZŠ Vejrostova\, Vejrostova 1066 Brno - Bystrc
SUMMARY:JM-ZKY-IVA: VK Vejrostova-KP Brno MA
END:VEVENT
BEGIN:VEVENT
UID:36366237-6231-4661-b232-313230303361
DTSTAMP:20260421T111221Z
DESCRIPTION:1/1 KP Brno MA - KP Brno 0:2 (-12\,-9)
DTSTART;TZID=Europe/Berlin:20211218T090000
DTEND;TZID=Europe/Berlin:20211218T110000
LOCATION:ZŠ Milénova 14\, Milénova 808 Brno - Lesná
SUMMARY:JM-ZKY-VA: KP Brno MA-KP Brno
END:VEVENT
BEGIN:VEVENT
UID:63343362-3636-4464-a334-343739656239
DTSTAMP:20260421T111221Z
DESCRIPTION:4/4 KP Brno MA - Znojmo 2:1 (-19\,18\,3)
DTSTART;TZID=Europe/Berlin:20211218T130000
DTEND;TZID=Europe/Berlin:20211218T150000
LOCATION:ZŠ Milénova 14\, Milénova 808 Brno - Lesná
SUMMARY:JM-ZKY-VA: KP Brno MA-Znojmo
END:VEVENT
BEGIN:VEVENT
UID:37636463-3738-4139-b634-363561393338
DTSTAMP:20260421T111221Z
DESCRIPTION:6/6 Břeclav - KP Brno MA 1:2 (-17\,17\,-12)
DTSTART;TZID=Europe/Berlin:20211218T153000
DTEND;TZID=Europe/Berlin:20211218T173000
LOCATION:TJ Lokomotiva Břeclav\, Veslařská 2753 Břeclav
SUMMARY:JM-ZKY-VA: Břeclav-KP Brno MA
END:VEVENT
BEGIN:VEVENT
UID:33393239-3135-4863-a663-666363316230
DTSTAMP:20260421T111221Z
DESCRIPTION:3/6 KP Brno MA - VK Vejrostova 2:1 (19\,-13\,12)
DTSTART;TZID=Europe/Berlin:20220115T114500
DTEND;TZID=Europe/Berlin:20220115T134500
LOCATION:ZŠ Milénova 14\, Milénova 808 Brno - Lesná
SUMMARY:JM-ZKY-VIA: KP Brno MA-VK Vejrostova
END:VEVENT
BEGIN:VEVENT
UID:30356230-3734-4530-b665-646330636330
DTSTAMP:20260421T111221Z
DESCRIPTION:1/2 KP Brno - KP Brno MA 2:0 (19\,10)
DTSTART;TZID=Europe/Berlin:20220115T090000
DTEND;TZID=Europe/Berlin:20220115T110000
LOCATION:Sportovní gymnázium Ludvíka Daňka\, Botanická 63 Brno - Ponava
SUMMARY:JM-ZKY-VIA: KP Brno-KP Brno MA
END:VEVENT
BEGIN:VEVENT
UID:38643366-3665-4934-a431-623765306563
DTSTAMP:20260421T111221Z
DESCRIPTION:2/3 Břeclav - KP Brno MA 0:2 (-16\,-19)
DTSTART;TZID=Europe/Berlin:20220115T103000
DTEND;TZID=Europe/Berlin:20220115T123000
LOCATION:TJ Lokomotiva Břeclav\, Veslařská 2753 Břeclav
SUMMARY:JM-ZKY-VIA: Břeclav-KP Brno MA
END:VEVENT
BEGIN:VEVENT
UID:39393062-3366-4462-b237-376636643238
DTSTAMP:20260421T111221Z
DESCRIPTION:4/4 KP Brno MA - Znojmo X:2
DTSTART;TZID=Europe/Berlin:20220212T130000
DTEND;TZID=Europe/Berlin:20220212T150000
LOCATION:ZŠ Milénova 14\, Milénova 808 Brno - Lesná
SUMMARY:JM-ZKY-VIIA: KP Brno MA-Znojmo
END:VEVENT
BEGIN:VEVENT
UID:37316664-3266-4364-a363-376166303535
DTSTAMP:20260421T111221Z
DESCRIPTION:5/5 KP Brno MA - Břeclav X:2
DTSTART;TZID=Europe/Berlin:20220212T141500
DTEND;TZID=Europe/Berlin:20220212T161500
LOCATION:ZŠ Milénova 14\, Milénova 808 Brno - Lesná
SUMMARY:JM-ZKY-VIIA: KP Brno MA-Břeclav
END:VEVENT
BEGIN:VEVENT
UID:66333663-3030-4031-a261-363564386462
DTSTAMP:20260421T111221Z
DESCRIPTION:6/6 KP Brno MA - KP Brno X:2
DTSTART;TZID=Europe/Berlin:20220212T153000
DTEND;TZID=Europe/Berlin:20220212T173000
LOCATION:ZŠ Milénova 14\, Milénova 808 Brno - Lesná
SUMMARY:JM-ZKY-VIIA: KP Brno MA-KP Brno
END:VEVENT
BEGIN:VEVENT
UID:36303639-6230-4362-a334-313266346338
DTSTAMP:20260421T111221Z
DESCRIPTION:3/3 KP Brno MA - TJ Slovan Ivančice\, z.s. 2:0 (21\,17)
DTSTART;TZID=Europe/Berlin:20220226T114500
DTEND;TZID=Europe/Berlin:20220226T134500
LOCATION:ZŠ Milénova 14\, Milénova 808 Brno - Lesná
SUMMARY:JM-ZKY-VIIIB: KP Brno MA-TJ Slovan Ivančice\, z.s.
END:VEVENT
BEGIN:VEVENT
UID:33623765-6133-4666-b938-353661643939
DTSTAMP:20260421T111221Z
DESCRIPTION:1/1 TJ Sokol Jehnice - KP Brno MA 0:2 (-8\,-11)
DTSTART;TZID=Europe/Berlin:20220226T090000
DTEND;TZID=Europe/Berlin:20220226T110000
LOCATION:TJ Sokol Jehnice\, Blanenská 1 Brno - Jehnice
SUMMARY:JM-ZKY-VIIIB: TJ Sokol Jehnice-KP Brno MA
END:VEVENT
BEGIN:VEVENT
UID:31316164-3630-4065-b364-333762376663
DTSTAMP:20260421T111221Z
DESCRIPTION:5/5 PFN Znojmo - KP Brno MA 0:2 (-11\,-19)
DTSTART;TZID=Europe/Berlin:20220226T141500
DTEND;TZID=Europe/Berlin:20220226T161500
LOCATION:Tělocvična ZŠ Prokopa Diviše a MŠ\, Ke Škole 569 Znojmo - Přímětic
 e
SUMMARY:JM-ZKY-VIIIB: PFN Znojmo-KP Brno MA
END:VEVENT
BEGIN:VEVENT
UID:36653633-6138-4636-a363-333438633361
DTSTAMP:20260421T111221Z
DESCRIPTION:2/3 KP Brno MA - TJ Sokol Jehnice 2:0 (16\,10)\n3. vs 6. Kurt 1
DTSTART;TZID=Europe/Berlin:20220409T103000
DTEND;TZID=Europe/Berlin:20220409T123000
LOCATION:ZŠ Milénova 14\, Milénova 808 Brno - Lesná
SUMMARY:JM-ZKY-F: KP Brno MA-TJ Sokol Jehnice
END:VEVENT
BEGIN:VEVENT
UID:31663731-3435-4232-b337-663131306130
DTSTAMP:20260421T111221Z
DESCRIPTION:4/8 KP Brno - KP Brno MA 2:0 (12\,8)\nW2 vs W3 Kurt 2
DTSTART;TZID=Europe/Berlin:20220409T130000
DTEND;TZID=Europe/Berlin:20220409T150000
LOCATION:Sportovní gymnázium Ludvíka Daňka\, Botanická 63 Brno - Ponava
SUMMARY:JM-ZKY-F: KP Brno-KP Brno MA
END:VEVENT
BEGIN:VEVENT
UID:63623332-6235-4134-a562-643135373330
DTSTAMP:20260421T111221Z
DESCRIPTION:6/11 VK Vejrostova - KP Brno MA 2:1 (-24\,13\,8)\nL7 vs L8 Kurt
  2
DTSTART;TZID=Europe/Berlin:20220409T153000
DTEND;TZID=Europe/Berlin:20220409T173000
LOCATION:ZŠ Vejrostova\, Vejrostova 1066 Brno - Bystrc
SUMMARY:JM-ZKY-F: VK Vejrostova-KP Brno MA
END:VEVENT
END:VCALENDAR
